
BEGIN:VCALENDAR
VERSION:2.0
PRODID:-//wp-events-plugin.com//6.6.3//EN
TZID:Europe/Berlin
X-WR-TIMEZONE:Europe/Berlin
BEGIN:VEVENT
UID:0-439@veranstaltungen.muenchen.de
DTSTART;TZID=Europe/Berlin:20211028T160000
DTEND;TZID=Europe/Berlin:20211028T190000
DTSTAMP:20210928T120722Z
URL:https://veranstaltungen.muenchen.de/bauzentrum/veranstaltungen/web-sem
 inar-baurecht-satzungsrecht-lhm/
SUMMARY:Web-Seminar Baurecht: Der Umgang mit dem Satzungsrecht der Landesha
 uptstadt München
DESCRIPTION:Web-Seminar Baurecht vom Bauzentrum München:\nÜber den Däche
 rn von München –\nder Umgang mit dem Satzungsrecht der Landeshauptstadt
  München\n&nbsp\;\n\nAnerkannte Fortbildungspunkte Energieeffizienz-Exper
 tenliste:\n0 Unterrichtseinheiten Wohngebäude\n0 Unterrichtseinheiten Nic
 htwohngebäude\n0 Unterrichtseinheiten Energieaudit DIN 16247\n\n&nbsp\;\n
 \nSchriftliche Anmeldung erforderlich\nEntweder direkt online (siehe ganz 
 unten auf dieser Seite)\noder mit dem Anmeldeformular (pdf) per E-Mail ode
 r Fax.\n\nBestellschein Abo-Teilnahmekarten (pdf)\n\n&nbsp\;\n\nDiese Vera
 nstaltung findet statt in Kooperation mit der Bayerischen Architektenkamme
 r.\n\n&nbsp\;\nAlle Online-Veranstaltungen vom Bauzentrum München werden 
 mit Webex Events durchgeführt.\nAngemeldete Personen erhalten rechtzeitig
  vor der Veranstaltung den Teilnahme-Link per E-Mail.\n&nbsp\;\n\nReferent
 \n\nFabian Gerstner\, LL.M\, Rechtsanwalt\, Rechtsanwälte Heuking Kühn L
 üer Wojtek München\ntätig im Bereich des öffentlichen Rechts mit Schwe
 rpunkten im Bauplanungs- und Bauordnungsrecht\, Immissionsschutzrecht\, Wa
 sserrecht\, Denkmalschutzrecht und Kommunalrecht\n\n&nbsp\;\n\nThema\n\nF
 ür jede Kommune sehen die einschlägigen gesetzlichen Vorschriften ein au
 tonomes Satzungsrecht vor. Die Landeshauptstadt München hat von den insow
 eit bestehenden rechtlichen Grundlagen gerade im Bereich des öffentlichen
  Baurechts regen Gebrauch gemacht. Ziel des Seminars ist es\, einen fachku
 ndigen und praxisbezogenen Überblick über die für den Bausektor maßgeb
 lichen Satzungsregelungen der Landeshauptstadt München zu geben\, sowie d
 ie praktische Handhabung der dort enthaltenen Vorgaben für die am Bau Bet
 eiligten darzustellen. Berücksichtigt werden insbesondere aktuelle Neueru
 ngen.\n\n&nbsp\;\n\nInhalt\n\nAnhand aktueller praktischer Beispiele werde
 n unter anderem folgende Satzungsregelungen der Landeshauptstadt München 
 behandelt\, wobei insbesondere aktuelle Neuerungen erläutert werden:\n- S
 tellplatzsatzung\n- Baumschutzverordnung\n- Erhaltungssatzungen\n- Gestalt
 ungs- und Begrünungssatzung\n- Wohnraumzweckentfremdungssatzung\n- Überg
 eleitete Baulinienpläne\n\n&nbsp\;\n\nZielgruppe\n\nDas Seminar wendet si
 ch an alle\, die im Zuge von Baumaßnahmen als Rechtsanwender*in praktisch
  mit Fragen des Münchner Satzungsrechts zu tun haben: Architekt*innen\, B
 auingenieur*innen\, Bausachverständige\, Bauträger*innen\, Rechtsanwält
 *innen\, Studierende der Fachrichtung Bau sowie alle übrigen am Bau Betei
 ligten.\n\n&nbsp\;\n\nTeilnahmebedingungen für Seminare\n\nFalls ein/eine
  gemeldete/r Teilnehmer*in verhindert sein sollte\, muss die Abmeldung sp
 ätestens am dritten Werktag vor der Veranstaltung schriftlich im Bauzentr
 um München eingegangen sein. Die volle Teilnahmegebühr wird fällig\, we
 nn die schriftliche Abmeldung zu spät eingeht oder der / die gemeldete Te
 ilnehmer*in nicht bei der Veranstaltung erscheint. Bei Ausfall der Veranst
 altung werden keine Gebühren erhoben. Darüber hinaus besteht kein Ersatz
 anspruch. Die Bezahlung erfolgt ausschließlich per Überweisung nach Erha
 lt einer Rechnung. Die Rechnungsstellung erfolgt nach der Veranstaltung.
CATEGORIES:Seminare
END:VEVENT
BEGIN:VTIMEZONE
TZID:Europe/Berlin
X-LIC-LOCATION:Europe/Berlin
BEGIN:DAYLIGHT
DTSTART:20210328T030000
TZOFFSETFROM:+0100
TZOFFSETTO:+0200
TZNAME:CEST
END:DAYLIGHT
END:VTIMEZONE
END:VCALENDAR