
BEGIN:VCALENDAR
VERSION:2.0
PRODID:-//wp-events-plugin.com//6.6.3//EN
TZID:Europe/Berlin
X-WR-TIMEZONE:Europe/Berlin
BEGIN:VEVENT
UID:0-366@veranstaltungen.muenchen.de
DTSTART;TZID=Europe/Berlin:20210520T160000
DTEND;TZID=Europe/Berlin:20210520T190000
DTSTAMP:20210517T105934Z
URL:https://veranstaltungen.muenchen.de/bauzentrum/veranstaltungen/web-sem
 inar-baurecht-nachverdichtung/
SUMMARY:Web-Seminar Baurecht: Nachverdichtung auf bebauten Grundstücken
DESCRIPTION:Web-Seminar Baurecht vom Bauzentrum München:\nNachverdichtung 
 auf bebauten Grundstücken -\nRechtliche Rahmenbedingungen für die Baurec
 htsoptimierung \n&nbsp\;\n\nAnerkannte Fortbildungspunkte Energieeffizienz
 -Expertenliste:\n0 Unterrichtseinheiten Wohngebäude\n0 Unterrichtseinheit
 en Nichtwohngebäude\n0 Unterrichtseinheiten Energieaudit DIN 16247\n\n&nb
 sp\;\n\nDiese Veranstaltung findet statt in Kooperation mit der Bayerische
 n Architektenkammer.\n\n&nbsp\;\n\nSchriftliche Anmeldung erforderlich\nEn
 tweder direkt online (siehe ganz unten auf dieser Seite)\noder mit dem Anm
 eldeformular (pdf) per E-Mail oder Fax.\n\nBestellschein Abo-Teilnahmekart
 en (pdf)\n\n&nbsp\;\nAlle Online-Veranstaltungen vom Bauzentrum München w
 erden mit Webex Events durchgeführt.\nAngemeldete Personen erhalten recht
 zeitig vor der Veranstaltung den Teilnahme-Link per E-Mail.\n&nbsp\;\n\nRe
 ferent*in\n\nFabian Gerstner\, LL.M\, Rechtsanwalt\, Rechtsanwälte Heukin
 g Kühn Lüer Wojtek München\ntätig im Bereich des öffentlichen Rechts 
 mit Schwerpunkten im Bauplanungs- und Bauordnungsrecht\, Immissionsschutzr
 echt\, Wasserrecht\, Denkmalschutzrecht und Kommunalrecht\n\n&nbsp\;\n\nTh
 ema\n\nDas Schlagwort „Nachverdichtung“ hat insbesondere in den Ballun
 gsräumen eine erhebliche Bedeutung bekommen. Fehlt es an Flächen für ei
 ne freie und ungehinderte Baulandentwicklung\, kommt häufig nur noch eine
  quantitative Optimierung des bereits vorhandenen Baurechts in Betracht. H
 ierbei stoßen viele Bauvorhaben an die Grenzen des rechtlich Machbaren un
 d bewegen sich im Konfliktfeld zwischen erforderlicher und politisch zumei
 st gewünschter Nachverdichtung einerseits und einer übermäßigen Versie
 gelung freier Grundstücksflächen andererseits.\n\n&nbsp\;\n\nInhalt\n\nD
 as Seminar behandelt die rechtlichen Rahmenbedingungen für die Optimierun
 g des Baurechts auf bereits bebauten Grundstücken. Hierbei werden die typ
 ischen rechtlichen Problemfelder behandelt\, insbesondere:\n- Bauplanungs-
  und bauordnungsrechtliche Rahmenbedingungen\n- Abstandsflächen\n- Festse
 tzungen eines Bebauungsplans / Innenbereichsvorhaben\n- Hinterliegerbebauu
 ng / Bebauung in zweiter Reihe\n- Erschließung\n- Grünordnung und Baumsc
 hutz\n\n&nbsp\;\n\nZielgruppe\n\nDas Seminar wendet sich an alle am Bau Be
 teiligten\, insbesondere an Planungsbüros\, Architekt*innen\, Ingenieur*i
 nnen\, Investor*innen\, Projektentwickler*innen sowie Vertreter*innen von 
 Behörden und kommunaler Gebietskörperschaften.\n\n&nbsp\;\n\nTeilnahmebe
 dingungen für Seminare\n\nFalls ein/eine gemeldete/r Teilnehmer*in verhin
 dert sein sollte\, muss die Abmeldung spätestens am dritten Werktag vor d
 er Veranstaltung schriftlich im Bauzentrum München eingegangen sein. Die 
 volle Teilnahmegebühr wird fällig\, wenn die schriftliche Abmeldung zu s
 pät eingeht oder der / die gemeldete Teilnehmer*in nicht bei der Veransta
 ltung erscheint. Bei Ausfall der Veranstaltung werden keine Gebühren erho
 ben. Darüber hinaus besteht kein Ersatzanspruch. Die Bezahlung erfolgt au
 sschließlich per Überweisung nach Erhalt einer Rechnung. Die Rechnungsst
 ellung erfolgt nach der Veranstaltung.
CATEGORIES:Seminare
END:VEVENT
BEGIN:VTIMEZONE
TZID:Europe/Berlin
X-LIC-LOCATION:Europe/Berlin
BEGIN:DAYLIGHT
DTSTART:20210328T030000
TZOFFSETFROM:+0100
TZOFFSETTO:+0200
TZNAME:CEST
END:DAYLIGHT
END:VTIMEZONE
END:VCALENDAR