
BEGIN:VCALENDAR
VERSION:2.0
PRODID:-//wp-events-plugin.com//6.6.3//EN
TZID:Europe/Berlin
X-WR-TIMEZONE:Europe/Berlin
BEGIN:VEVENT
UID:0-283@veranstaltungen.muenchen.de
DTSTART;TZID=Europe/Berlin:20210415T160000
DTEND;TZID=Europe/Berlin:20210415T190000
DTSTAMP:20210401T095154Z
URL:https://veranstaltungen.muenchen.de/bauzentrum/veranstaltungen/web-sem
 inar-baurecht-immissionsschutz/
SUMMARY:Web-Seminar Baurecht: Immissionsschutz bei Bauvorhaben – Rechtlic
 he Grundlagen
DESCRIPTION:Web-Seminar Baurecht:\nImmissionsschutz bei Bauvorhaben – Rec
 htliche Grundlagen\n&nbsp\;\n\nAnerkannte Fortbildungspunkte Energieeffizi
 enz-Expertenliste:\n0 Unterrichtseinheiten Wohngebäude\n0 Unterrichtseinh
 eiten Nichtwohngebäude\n0 Unterrichtseinheiten Energieaudit DIN 16247\n\n
 &nbsp\;\n\nSchriftliche Anmeldung erforderlich\nEntweder direkt online (si
 ehe ganz unten auf dieser Seite)\noder mit dem Anmeldeformular (pdf) per E
 -Mail oder Fax.\n\nBestellschein Abo-Teilnahmekarten (pdf)\n\n&nbsp\;\nAll
 e Online-Veranstaltungen vom Bauzentrum München werden mit Webex Events d
 urchgeführt:\nAngemeldete Personen erhalten rechtzeitig vor der Veranstal
 tung den Teilnahme-Link per E-Mail.\n&nbsp\;\n\nDiese Veranstaltung findet
  statt in Kooperation mit GIH Bayern e.V.\n\n&nbsp\;\n\nReferent\n\nFabia
 n Gerstner\, LL.M\, Rechtsanwalt\, Rechtsanwälte Heuking Kühn Lüer Wojt
 ek München\ntätig im Bereich des öffentlichen Rechts mit Schwerpunkten 
 im Bauplanungs- und Bauordnungsrecht\, Immissionsschutzrecht\, Wasserrecht
 \, Denkmalschutzrecht und Kommunalrecht\n\n&nbsp\;\n\nThema\n\nBei der Rea
 lisierung von Bauvorhaben können immissionsschutzrechtliche Anforderungen
  an Baustellen\, an die Bauausführung als auch an den Betriebsablauf gest
 ellt werden. Bauherr*innen müssen diese Anforderungen stets in eigener Ve
 rantwortung beachten und umsetzen.\nIm Falle einer Nichtbeachtung der gese
 tzlichen Anforderungen drohen nicht nur kostenpflichtige nachträgliche An
 ordnungen seitens der Behörden\, auch stehen nachbarliche Abwehransprüch
 e im Raum. Eine Missachtung der rechtlichen Anforderungen kann daher koste
 naufwändige nachträgliche Maßnahmen baulicher und organisatorischer Nat
 ur zur Folge haben.\n\n&nbsp\;\n\nInhalt\n\nDiese Veranstaltung vermittelt
  einen Überblick zu allen wichtigen rechtlichen Grundlagen des Immissions
 schutzrechts sowie zu ausgewählten Problemstellungen\, die in der Praxis 
 häufig auftauchen.\nUnter anderem werden folgende Einzelthemen aufgegriff
 en:\n- Notwendigkeit einer Baugenehmigung oder einer Genehmigung nach dem 
 BImSchG\n- Der Begriff der schädlichen Umwelteinwirkungen aus dem BImSchG
 \n- Umgang mit technischen Regelwerken (insbesondere TA Lärm und TA Luft\
 , DIN-Normen)\n- Besonderer Immissionsschutz in Bebauungsplänen\n- Nachba
 rschutz – Gebot der Rücksichtnahme\n- Emissionen und Baustellen\n\n&nbs
 p\;\n\nZielgruppe\n\nDas Seminar wendet sich an alle am Bau Beteiligten\, 
 insbesondere Planungsbüros\, Architekt*innen\, Ingenieur*innen\, Investor
 *innen\, Projektentwickler*innen\, Bauherr*innen sowie Vertreter*innen von
  Behörden und kommunalen Gebietskörperschaften.\n\n&nbsp\;\n\nTeilnahmeb
 edingungen für Seminare\n\nFalls ein/eine gemeldete/r Teilnehmer*in verhi
 ndert sein sollte\, muss die Abmeldung spätestens am dritten Werktag vor 
 der Veranstaltung schriftlich im Bauzentrum München eingegangen sein. Die
  volle Teilnahmegebühr wird fällig\, wenn die schriftliche Abmeldung zu 
 spät eingeht oder der / die gemeldete Teilnehmer*in nicht bei der Veranst
 altung erscheint. Bei Ausfall der Veranstaltung werden keine Gebühren erh
 oben. Darüber hinaus besteht kein Ersatzanspruch. Die Bezahlung erfolgt a
 usschließlich per Überweisung nach Erhalt einer Rechnung. Die Rechnungss
 tellung erfolgt nach der Veranstaltung.
CATEGORIES:Seminare
END:VEVENT
BEGIN:VTIMEZONE
TZID:Europe/Berlin
X-LIC-LOCATION:Europe/Berlin
BEGIN:DAYLIGHT
DTSTART:20210328T030000
TZOFFSETFROM:+0100
TZOFFSETTO:+0200
TZNAME:CEST
END:DAYLIGHT
END:VTIMEZONE
END:VCALENDAR