
BEGIN:VCALENDAR
VERSION:2.0
PRODID:-//wp-events-plugin.com//6.6.3//EN
TZID:Europe/Berlin
X-WR-TIMEZONE:Europe/Berlin
BEGIN:VEVENT
UID:0-437@veranstaltungen.muenchen.de
DTSTART;TZID=Europe/Berlin:20211006T160000
DTEND;TZID=Europe/Berlin:20211006T190000
DTSTAMP:20210929T061337Z
URL:https://veranstaltungen.muenchen.de/bauzentrum/veranstaltungen/web-sem
 inar-baurecht-gestoerter-bauablauf/
SUMMARY:Web-Seminar Baurecht: Gestörter Bauablauf und seine Rechtsfolgen
DESCRIPTION:Web-Seminar Baurecht vom Bauzentrum München:\nGestörter Bauab
 lauf und seine Rechtsfolgen\n&nbsp\;\n\nAnerkannte Fortbildungspunkte Ener
 gieeffizienz-Expertenliste:\n0 Unterrichtseinheiten Wohngebäude\n0 Unterr
 ichtseinheiten Nichtwohngebäude\n0 Unterrichtseinheiten Energieaudit DIN 
 16247\n\n&nbsp\;\n\nSchriftliche Anmeldung erforderlich\nEntweder direkt o
 nline (siehe ganz unten auf dieser Seite)\noder mit dem Anmeldeformular (p
 df) per E-Mail oder Fax.\n\nBestellschein Abo-Teilnahmekarten (pdf)\n\n&nb
 sp\;\n\nDiese Veranstaltung findet statt in Kooperation mit der Bayerische
 n Architektenkammer.\n\n&nbsp\;\nAlle Online-Veranstaltungen vom Bauzentru
 m München werden mit Webex Events durchgeführt.\nAngemeldete Personen er
 halten rechtzeitig vor der Veranstaltung den Teilnahme-Link per E-Mail.\n&
 nbsp\;\n\nReferent\n\nWolfgang Junghenn\, Rechtsanwalt\, Fachanwalt für B
 au- und Architektenrecht\,\nPartner in der HEUSSEN Rechtsanwaltsgesellscha
 ft mbH\, Lehrbeauftragter für privates Bauvertragsrecht an der Hochschule
  München (FH)\, Mitglied des Netzwerks Bau Kompetenz München (BKM)\, Mit
 autor des Beck´schen VOB/B- Kommentars\n\n&nbsp\;\n\nThema\n\nIn der Prax
 is nehmen die Streitigkeiten zwischen den Bauvertragspartner*innen wegen e
 ntstandener Mehrkosten aufgrund auf Grund gestörten Bauablaufs zu. Oft is
 t kein Einvernehmen darüber zu erzielen\, wer für die sich daraus ergebe
 nden Mehrkosten aufzukommen hat. Das Seminar versucht unter Bezugnahme auf
  die hierzu ergangene höchstrichterliche Rechtsprechung Antworten für di
 e Behandlung dieser besonderen Fallgestaltungen zu geben\n\n&nbsp\;\n\nInh
 alt\n\n- Bauzeitregelungen / Ausführungsregelungen nach BGB/VOB – Ausga
 be 2016\n- Die Verzugsregelung des BGB\n- Die Ansprüche der Bauherr*innen
  bei verzögerter Ausführung\, insbesondere die Ansprüche aus Vertragsst
 rafe\n- Die Ansprüche des Bauunternehmens auf Bauzeitverlängerung\n- Die
  Ansprüche des Bauunternehmens bei verzögerter Bauausführung\n\n&nbsp\;
 \n\nZielgruppe\n\nDas Seminar wendet sich an alle\, die einen Bauvertrag s
 chließen wollen oder bereits geschlossen haben: Auftraggeber*innen (Bautr
 äger*innen und Generalunternehmer*innen)\, Auftragnehmer*innen\, Architek
 t*innen\, Bauingenieur*innen\, Bausachverständige\, Vertreter*innen von B
 ehörden\, Rechtsanwält*innen\, Verwaltungsbeirät*innen sowie Studierend
 e der Fachrichtung Bau.\n\n&nbsp\;\n\nTeilnahmebedingungen für Seminare\n
 \nFalls ein/eine gemeldete/r Teilnehmer*in verhindert sein sollte\, muss d
 ie Abmeldung spätestens am dritten Werktag vor der Veranstaltung schriftl
 ich im Bauzentrum München eingegangen sein. Die volle Teilnahmegebühr wi
 rd fällig\, wenn die schriftliche Abmeldung zu spät eingeht oder der / d
 ie gemeldete Teilnehmer*in nicht bei der Veranstaltung erscheint. Bei Ausf
 all der Veranstaltung werden keine Gebühren erhoben. Darüber hinaus best
 eht kein Ersatzanspruch. Die Bezahlung erfolgt ausschließlich per Überwe
 isung nach Erhalt einer Rechnung. Die Rechnungsstellung erfolgt nach der V
 eranstaltung.
CATEGORIES:Seminare
END:VEVENT
BEGIN:VTIMEZONE
TZID:Europe/Berlin
X-LIC-LOCATION:Europe/Berlin
BEGIN:DAYLIGHT
DTSTART:20210328T030000
TZOFFSETFROM:+0100
TZOFFSETTO:+0200
TZNAME:CEST
END:DAYLIGHT
END:VTIMEZONE
END:VCALENDAR