
BEGIN:VCALENDAR
VERSION:2.0
PRODID:-//wp-events-plugin.com//6.6.3//EN
TZID:Europe/Berlin
X-WR-TIMEZONE:Europe/Berlin
BEGIN:VEVENT
UID:0-424@veranstaltungen.muenchen.de
DTSTART;TZID=Europe/Berlin:20210930T160000
DTEND;TZID=Europe/Berlin:20210930T190000
DTSTAMP:20210929T105840Z
URL:https://veranstaltungen.muenchen.de/bauzentrum/veranstaltungen/web-sem
 inar-baurecht-bauordnungsrecht/
SUMMARY:Web-Seminar Baurecht: Bauordnungsrecht für Einsteiger*innen
DESCRIPTION:Web-Seminar Baurecht vom Bauzentrum München:\nBauordnungsrecht
  für Einsteiger*innen\n&nbsp\;\n\nAnerkannte Fortbildungspunkte Energieef
 fizienz-Expertenliste:\n0 Unterrichtseinheiten Wohngebäude\n0 Unterrichts
 einheiten Nichtwohngebäude\n0 Unterrichtseinheiten Energieaudit DIN 16247
 \n\n&nbsp\;\n\nSchriftliche Anmeldung erforderlich\nEntweder direkt online
  (siehe ganz unten auf dieser Seite)\noder mit dem Anmeldeformular (pdf) p
 er E-Mail oder Fax.\n\nBestellschein Abo-Teilnahmekarten (pdf)\n\n&nbsp\;\
 n\nDiese Veranstaltung findet statt in Kooperation mit der Bayerischen Arc
 hitektenkammer.\n\n&nbsp\;\nAlle Online-Veranstaltungen vom Bauzentrum Mü
 nchen werden mit Webex Events durchgeführt.\nAngemeldete Personen erhalte
 n rechtzeitig vor der Veranstaltung den Teilnahme-Link per E-Mail.\n&nbsp\
 ;\n\nReferent*in\n\nBettina Neheider\, Rechtsanwältin\, Rechtsanwälte He
 uking Kühn Lüer Wojtek München\n\n&nbsp\;\n\nThema\n\nDas Bauordnungsre
 cht und insbesondere die BayBO prägen den gesamten Baugenehmigungsprozess
 . Es ist daher für die tägliche Praxis in Behörden\, Planungsbüros und
  Gemeinden unerlässlich. Ohne ein systematisches Grundwissen fällt eine 
 sachgerechte Beurteilung der in der Praxis anfallenden Konstellationen jed
 och naturgemäß schwer. Ziel der Veranstaltung ist es daher\, den Teilneh
 menden einen umfassenden Überblick in klar strukturierter Form über die 
 Grundlagen des Bauordnungsrechts zu vermitteln. Dabei werden verschiedene 
 Fragestellungen anhand aktueller Praxisbeispiele besprochen.\n\n&nbsp\;\n\
 nInhalt\n\nEs wird ein umfassender Überblick u.a. zu folgenden Bereichen 
 gegeben:\n- Abstandsflächenrecht\n- stellplatzrechtliche Thematiken\n- Er
 teilung von Abweichungen bezüglich der Anforderungen der BayBO\n- Nachbar
 schaft im Bauordnungsrecht\n- Die verschiedenen Gestattungsverfahren der B
 ayBO\n- Baugenehmigung und Vorbescheid\n- Bauaufsichtliche Maßnahmen\n\n&
 nbsp\;\n\nZielgruppe\n\nDas Seminar wendet sich an alle am Bau Beteiligten
 \, insbesondere an Planungsbüros\, Architekt*innen\, Ingenieur*innen\, In
 vestor*innen\, Projektentwickler*innen sowie Vertreter*innen von Behörden
  und kommunaler Gebietskörperschaften.\n\n&nbsp\;\n\nTeilnahmebedingungen
  für Seminare\n\nFalls ein/eine gemeldete/r Teilnehmer*in verhindert sein
  sollte\, muss die Abmeldung spätestens am dritten Werktag vor der Verans
 taltung schriftlich im Bauzentrum München eingegangen sein. Die volle Tei
 lnahmegebühr wird fällig\, wenn die schriftliche Abmeldung zu spät eing
 eht oder der / die gemeldete Teilnehmer*in nicht bei der Veranstaltung ers
 cheint. Bei Ausfall der Veranstaltung werden keine Gebühren erhoben. Dar
 über hinaus besteht kein Ersatzanspruch. Die Bezahlung erfolgt ausschlie
 ßlich per Überweisung nach Erhalt einer Rechnung. Die Rechnungsstellung 
 erfolgt nach der Veranstaltung.
CATEGORIES:Seminare
END:VEVENT
BEGIN:VTIMEZONE
TZID:Europe/Berlin
X-LIC-LOCATION:Europe/Berlin
BEGIN:DAYLIGHT
DTSTART:20210328T030000
TZOFFSETFROM:+0100
TZOFFSETTO:+0200
TZNAME:CEST
END:DAYLIGHT
END:VTIMEZONE
END:VCALENDAR