
BEGIN:VCALENDAR
VERSION:2.0
PRODID:-//wp-events-plugin.com//6.6.3//EN
TZID:Europe/Berlin
X-WR-TIMEZONE:Europe/Berlin
BEGIN:VEVENT
UID:0-376@veranstaltungen.muenchen.de
DTSTART;TZID=Europe/Berlin:20210624T160000
DTEND;TZID=Europe/Berlin:20210624T190000
DTSTAMP:20210517T110120Z
URL:https://veranstaltungen.muenchen.de/bauzentrum/veranstaltungen/web-sem
 inar-baurecht-bauantraege-gestalten/
SUMMARY:Web-Seminar Baurecht: Bauanträge erfolgreich gestalten und durchse
 tzen
DESCRIPTION:Web-Seminar Baurecht vom Bauzentrum München:\nBauanträge erfo
 lgreich gestalten und durchsetzen\n&nbsp\;\n\nAnerkannte Fortbildungspunkt
 e Energieeffizienz-Expertenliste:\n0 Unterrichtseinheiten Wohngebäude\n0 
 Unterrichtseinheiten Nichtwohngebäude\n0 Unterrichtseinheiten Energieaudi
 t DIN 16247\n\n&nbsp\;\n\nDiese Veranstaltung findet statt in Kooperation 
 mit der Bayerischen Architektenkammer.\n\n&nbsp\;\n\nSchriftliche Anmeldun
 g erforderlich\nEntweder direkt online (siehe ganz unten auf dieser Seite)
 \noder mit dem Anmeldeformular (pdf) per E-Mail oder Fax.\n\nBestellschein
  Abo-Teilnahmekarten (pdf)\n\n&nbsp\;\nAlle Online-Veranstaltungen vom Bau
 zentrum München werden mit Webex Events durchgeführt.\nAngemeldete Perso
 nen erhalten rechtzeitig vor der Veranstaltung den Teilnahme-Link per E-Ma
 il.\n&nbsp\;\n\nReferent*in\n\nFabian Gerstner\, LL.M\, Rechtsanwalt\, Rec
 htsanwälte Heuking Kühn Lüer Wojtek München\ntätig im Bereich des öf
 fentlichen Rechts mit Schwerpunkten im Bauplanungs- und Bauordnungsrecht\,
  Immissionsschutzrecht\, Wasserrecht\, Denkmalschutzrecht und Kommunalrech
 t\n\n&nbsp\;\n\nThema\n\nDer Bauantrag ist das Kernelement des Baugenehmig
 ungsverfahrens. Durch den Bauantrag definieren die Bauherr*innen das zur G
 enehmigung gestellte Bauvorhaben in sämtlichen genehmigungsrelevanten Det
 ails und legt damit auch den Regelungsgehalt der erteilten Baugenehmigung 
 fest. Gleiches gilt in gewissem Umfang für den Antrag auf Vorbescheid. In
  diesem Seminar werden die vorgreifliche und erhebliche Bedeutung des Baua
 ntrags/Vorbescheidsantrags für die Bauausführung und spätere Nutzung de
 s zu genehmigenden Bauvorhabens und die insoweit zu beachtenden formalen u
 nd inhaltlichen Anforderungen dargestellt.\n\n&nbsp\;\n\nInhalt\n\nBehande
 lt werden die formellen und materiellen Anforderungen an einen ordnungsgem
 äßen Bauantrag. Hierbei werden u.a. folgende Einzelthemen aufgegriffen:\
 n- Art\, Umfang und Inhalt der erforderlichen Bauvorlagen\n- Sonderfall An
 trag auf Vorbescheid einschließlich Hinweisen zur Fragestellung\n- Stellp
 latznachweis\n- Abweichungen und Befreiungen\n- Abstandsflächenübernahme
 \n- Praktische Hinweise zur Gestaltung der Bauvorlagen\n\n&nbsp\;\n\nZielg
 ruppe\n\nDas Seminar wendet sich an alle\, die im Zuge ihrer Tätigkeit mi
 t Bauanträgen zu tun haben\, also Architekt*innen\, Bauingenieur*innen\, 
 Bauträger*innen\, Bausachverständige\, Rechtsanwält*innen\, Studierende
  der Fachrichtung Bau sowie alle übrigen am Bau Beteiligten.\n\n&nbsp\;\n
 \nTeilnahmebedingungen für Seminare\n\nFalls ein/eine gemeldete/r Teilneh
 mer*in verhindert sein sollte\, muss die Abmeldung spätestens am dritten 
 Werktag vor der Veranstaltung schriftlich im Bauzentrum München eingegang
 en sein. Die volle Teilnahmegebühr wird fällig\, wenn die schriftliche A
 bmeldung zu spät eingeht oder der / die gemeldete Teilnehmer*in nicht bei
  der Veranstaltung erscheint. Bei Ausfall der Veranstaltung werden keine G
 ebühren erhoben. Darüber hinaus besteht kein Ersatzanspruch. Die Bezahlu
 ng erfolgt ausschließlich per Überweisung nach Erhalt einer Rechnung. Di
 e Rechnungsstellung erfolgt nach der Veranstaltung.
CATEGORIES:Seminare
END:VEVENT
BEGIN:VTIMEZONE
TZID:Europe/Berlin
X-LIC-LOCATION:Europe/Berlin
BEGIN:DAYLIGHT
DTSTART:20210328T030000
TZOFFSETFROM:+0100
TZOFFSETTO:+0200
TZNAME:CEST
END:DAYLIGHT
END:VTIMEZONE
END:VCALENDAR