
BEGIN:VCALENDAR
VERSION:2.0
PRODID:-//wp-events-plugin.com//6.6.3//EN
TZID:Europe/Berlin
X-WR-TIMEZONE:Europe/Berlin
BEGIN:VEVENT
UID:0-282@veranstaltungen.muenchen.de
DTSTART;TZID=Europe/Berlin:20210211T160000
DTEND;TZID=Europe/Berlin:20210211T190000
DTSTAMP:20210401T085549Z
URL:https://veranstaltungen.muenchen.de/bauzentrum/veranstaltungen/web-sem
 inar-baurecht-achtung-denkmal/
SUMMARY:Web-Seminar Baurecht: Achtung Denkmal ! - Grundlagen und Baurechtso
 ptimierung bei Baudenkmälern
DESCRIPTION:Web-Seminar Baurecht:\nAchtung Denkmal ! - Grundlagen und Baure
 chtsoptimierung bei Baudenkmälern\n&nbsp\;\n\nAnerkannte Fortbildungspunk
 te Energieeffizienz-Expertenliste:\n0 Unterrichtseinheiten Wohngebäude (K
 fW)\n0 Unterrichtseinheiten Nichtwohngebäude (KfW)\n0 Unterrichtseinheite
 n Energieberatung im Mittelstand (BAFA)\n\n&nbsp\;\n\nSchriftliche Anmeldu
 ng erforderlich\nEntweder direkt online (siehe ganz unten auf dieser Seite
 )\noder mit dem Anmeldeformular (pdf) per E-Mail oder Fax.\n\nBestellschei
 n Abo-Teilnahmekarten (pdf)\n\n&nbsp\;\nAlle Online-Veranstaltungen vom Ba
 uzentrum München werden mit Webex Events durchgeführt:\nhttps://help.web
 ex.com/de-de/kwmj5eb/Join-a-Cisco-Webex-Event\nAngemeldete Personen erhalt
 en rechtzeitig vor der Veranstaltung den Einladungs-Link per E-Mail.\n&nbs
 p\;\n\nDiese Veranstaltung findet statt in Kooperation mit GIH Bayern e.V
 .\n\n&nbsp\;\n\nReferent\n\nFabian Gerstner\, LL.M\, Rechtsanwalt\, Rechts
 anwälte Heuking Kühn Lüer Wojtek München\ntätig im Bereich des öffen
 tlichen Rechts mit Schwerpunkten im Bauplanungs- und Bauordnungsrecht\, Im
 missionsschutzrecht\, Wasserrecht\, Denkmalschutzrecht und Kommunalrecht\n
 \n&nbsp\;\n\nThema\n\nBei dem Erhalt und der Weiterentwicklung von Denkmä
 lern prallen die Schutzinteressen von Denkmalbehörden häufig mit den Nut
 zungsvorstellungen der Denkmaleigentümer*innen aufeinander. Denn über de
 n bloßen Substanzschutz eines Objektes hinaus kann auch der Schutz der Um
 gebung eine wichtige denkmalrechtliche Rolle spielen. Besondere denkmalrec
 htliche Anforderungen\, die erst am Ende einer Genehmigungsphase erörtert
  werden\, können in diesem Zusammenhang oftmals in finanzieller Hinsicht 
 frustrierend sein. Daher sollte bereits zu Beginn von Projektplanungen der
  Wirkungszusammenhang eines Denkmals bzw. eines Denkmalbereichs ausreichen
 d berücksichtigt werden\, um bestmögliche Resultate und eine optimale Fl
 ächennutzung zu erzielen.\n\n&nbsp\;\n\nInhalt\n\nDas Seminar vermittelt 
 die rechtlichen Grundlagen des Denkmalschutzes und zeigt Lösungswege für
  den Ausgleich behördlicher Erhaltungsinteressen mit der Optimierung von 
 Bauflächen in der Praxis auf.\nHierbei werden insbesondere folgende Theme
 n behandelt:\n- Erlaubnisverfahren und Baugenehmigungsverfahren\n- Der den
 kmalschutzrechtliche Zumutbarkeitsbegriff:\nPflichten der Eigentümer*inne
 n bei Erhaltung und Unterhalt\n- Denkmalrechtliche Anordnungen zur Instand
 setzung oder Wiederherstellung:\nMöglichkeiten und Grenzen in der Praxis\
 n- Bauordnungsrechtliche Eingriffsgrundlagen\n- Abwehrrechte der Denkmalei
 gentümer*innen sowie Nachbarschutz\n\n&nbsp\;\n\nZielgruppe\n\nDas Semina
 r wendet sich an alle Beteiligten an Projekten mit denkmalrechtlicher Rele
 vanz\, insbesondere Planungsbüros\, Architekt*innen\, Ingenieur*innen\, I
 nvestor*innen\, Projektentwickler*innen\, Bauherr*innen sowie Vertreter*in
 nen von Behörden und kommunalen Gebietskörperschaften.\n\n&nbsp\;\n\nTei
 lnahmebedingungen für Seminare\n\nFalls ein/eine gemeldete/r Teilnehmer*i
 n verhindert sein sollte\, muss die Abmeldung spätestens am dritten Werkt
 ag vor der Veranstaltung schriftlich im Bauzentrum München eingegangen se
 in. Die volle Teilnahmegebühr wird fällig\, wenn die schriftliche Abmeld
 ung zu spät eingeht oder der / die gemeldete Teilnehmer*in nicht bei der 
 Veranstaltung erscheint. Bei Ausfall der Veranstaltung werden keine Gebüh
 ren erhoben. Darüber hinaus besteht kein Ersatzanspruch. Die Bezahlung er
 folgt ausschließlich per Überweisung nach Erhalt einer Rechnung. Die Rec
 hnungsstellung erfolgt nach der Veranstaltung.
CATEGORIES:Seminare
END:VEVENT
BEGIN:VTIMEZONE
TZID:Europe/Berlin
X-LIC-LOCATION:Europe/Berlin
BEGIN:STANDARD
DTSTART:20201025T020000
TZOFFSETFROM:+0200
TZOFFSETTO:+0100
TZNAME:CET
END:STANDARD
END:VTIMEZONE
END:VCALENDAR