
BEGIN:VCALENDAR
VERSION:2.0
PRODID:-//wp-events-plugin.com//6.6.3//EN
TZID:Europe/Berlin
X-WR-TIMEZONE:Europe/Berlin
BEGIN:VEVENT
UID:0-411@veranstaltungen.muenchen.de
DTSTART;TZID=Europe/Berlin:20210713T150000
DTEND;TZID=Europe/Berlin:20210713T173000
DTSTAMP:20210702T064209Z
URL:https://veranstaltungen.muenchen.de/bauzentrum/veranstaltungen/web-for
 um-smart-building/
SUMMARY:Web-Forum: Smart Building - Smart Home - Gebäudeautomation
DESCRIPTION:Web-Forum vom Bauzentrum München:\nSmart Building - Smart Home
  - Gebäudeautomation\nEnergieeinsparung\, Datensicherheit\, Nachhaltigkei
 t\, Klimaschutz\n\n \n\nFortbildungspunkte Energieeffizienz-Expertenliste
 :\n\n3 Unterrichtseinheiten Wohngebäude\n3 Unterrichtseinheiten Nichtwohn
 gebäude\n3 Unterrichtseinheiten Energieaudit DIN 16247\n\n&nbsp\;\n\nTeil
 nahme kostenfrei - Online-Anmeldung erforderlich - siehe unten\n\n&nbsp\;\
 nAlle Online-Veranstaltungen vom Bauzentrum München werden mit Webex Even
 ts durchgeführt.\nAngemeldete Personen erhalten rechtzeitig vor der Veran
 staltung den Teilnahme-Link per E-Mail.\n&nbsp\;\n\nThema\n\n&nbsp\;\n\nSm
 art Building und Smart Home werden als Oberbegriffe für spezielle technis
 che Verfahren und Systeme in Räumen und Häusern verwendet. In deren Mitt
 elpunkt steht die Verbesserung von Wohnqualität bzw. Arbeitsqualität\, S
 icherheit und effizienter Energienutzung auf der Basis vernetzter und fern
 steuerbarer Geräte und Installationen sowie automatisierbarer Abläufe.\n
 \n&nbsp\;\n\nDieses Fachforum bietet Ihnen die Möglichkeit einen breiten 
 Überblick zu effizienter Energienutzung\, Datensicherheit und Minimierung
  des CO2-Bedarfs im Sinne des Klimaschutzes im Bereich von Smart Home und 
 Smart Building zu gewinnen. Es werden Lösungen vorgestellt und aktuelle V
 orgaben im Bereich der Informationssicherheit beleuchtet.\n\n&nbsp\;\n\nDa
 s Bauzentrum München dankt Teresa Sauczek für die fachliche Leitung bei 
 der Vorbereitung dieser Veranstaltung und Claudia Heim für die Moderation
 .\n\n&nbsp\;\n\nProgramm\n\n&nbsp\;\n\n15.00\nBegrüßung und Moderation\n
 Claudia Heim\, Leiterin (komm.) Bauzentrum München\n\n&nbsp\;\n\n15.10\nS
 mart Home: Energieeinsparung - Klimaschutz\nRudi Seibt\, Dipl.-Ing. Elektr
 otechnik\, Ingenieurgruppe München eG\n\n&nbsp\;\n\n15.40\nGebäudeautoma
 tion - Energieeffizienz - Nachhaltigkeit (Smart Spaces / Smart Working )\n
 Dominik Schottenhammel\, Sales Manager DACH\, EnOcean GmbH\n\n&nbsp\;\n\n1
 6.05\nGebäudesteuerung mit Smart Home\nHarald Ruß\, Projektenentwickler\
 , Hager Vertriebsgesellschaft mbH &amp\; Co. KG\n\n&nbsp\;\n\n16.25\nInfor
 mationssicherheit und Datenschutz\nAlexander Matheus\, Senior Expert\, VDE
  Prüf- und Zertifizierungsinstitut GmbH\n\n&nbsp\;\n\n16.50\nDigitalisier
 ung in der Immobilienwirtschaft – Planung von Smart Building - Situation
 en\nIna Fischbach\, Key Account Managerin\, JÄGER DIREKT Jäger Fischer G
 mbH &amp\; Co. KG\n\n&nbsp\;\n\n17.15   Fragen\n\n&nbsp\;\n\n17.30   E
 nde der Veranstaltung\n\n&nbsp\;\n\nTeilnahmebestätigung\n\nFalls sie ein
 e Teilnahme-Bestätigung benötigen (ggf. inklusive Fortbildungsode für d
 ie Energieeffizienz-Experten-Liste) muss diese kostenpflichtig (25 Euro) m
 ittels Formblatt (Download-Portal) bestellt werden.
CATEGORIES:Fachforen - Exkursionen
END:VEVENT
BEGIN:VTIMEZONE
TZID:Europe/Berlin
X-LIC-LOCATION:Europe/Berlin
BEGIN:DAYLIGHT
DTSTART:20210328T030000
TZOFFSETFROM:+0100
TZOFFSETTO:+0200
TZNAME:CEST
END:DAYLIGHT
END:VTIMEZONE
END:VCALENDAR