
BEGIN:VCALENDAR
VERSION:2.0
PRODID:-//wp-events-plugin.com//6.6.3//EN
TZID:Europe/Berlin
X-WR-TIMEZONE:Europe/Berlin
BEGIN:VEVENT
UID:0-397@veranstaltungen.muenchen.de
DTSTART;TZID=Europe/Berlin:20210617T150000
DTEND;TZID=Europe/Berlin:20210617T171000
DTSTAMP:20210521T114109Z
URL:https://veranstaltungen.muenchen.de/bauzentrum/veranstaltungen/web-for
 um-radon/
SUMMARY:Web-Forum: Radon – radongeschütztes Bauen und Sanieren
DESCRIPTION:Web-Forum vom Bauzentrum München:\nRadon – radongeschütztes
  Bauen und Sanieren:\n- Ausweisung der Radon-Vorsorgegebiete\n- Neue DIN/T
 S 18117 zu radongeschütztem Bauen\n- Rechtliche Aspekte\n\n \n\nFortbild
 ungspunkte Energieeffizienz-Expertenliste:\n\nEs wurden keine Fortbildungs
 punkte beantragt.\n\n&nbsp\;\n\nTeilnahme kostenfrei - Online-Anmeldung er
 forderlich - siehe unten\n\n&nbsp\;\nAlle Online-Veranstaltungen vom Bauze
 ntrum München werden mit Webex Events durchgeführt.\nAngemeldete Persone
 n erhalten rechtzeitig vor der Veranstaltung den Teilnahme-Link per E-Mail
 .\n&nbsp\;\n\nThema\n\n&nbsp\;\n\nDie Radon-Vorsorgegebiete der einzelnen 
 Bundesländer wurden im Dezember 2020 bzw. Januar 2021 veröffentlicht. We
 lche Gebiete in den Bundesländern gehören dazu? Welche gesetzlichen Verp
 flichtungen\, Messvorschriften und bauliche Maßnahmen resultieren daraus?
  Warum fiel in Bayern die Ausweisung so spärlich aus und welche Konsequen
 zen ergeben sich somit bezüglich Verantwortlichkeiten und Maßnahmen für
  Fachplaner*innen\, Ausführenden\, Bauherr*innen und Eigentümer*innen so
 wie Betreiber*innen von Gebäuden?\n\n&nbsp\;\n\nDie neue\, noch nicht abs
 chließend veröffentlichte DIN/TS 18177 beschreibt wesentliche bauliche u
 nd lüftungstechnische Planungs- und Ausführungshinweise zum radongeschü
 tzten Bauen gemäß dem gültigen Strahlenschutzgesetz und der Strahlensch
 utzverordnung. Der erste Teil der DIN/TS 18117 beschäftigt sich mit „Be
 griffe\, Grundlagen und Beschreibung der Maßnahmen“. Ein nachfolgender 
 zweiter Teil soll „Klassifizierung\, Auswahl und Handlungsempfehlungen
 “ beinhalten.\n\n&nbsp\;\n\nBei dieser Veranstaltung werden folgende Fra
 gestellungen beleuchtet:\nWelche Vorteile und Nutzen bringt die neue DIN? 
 Welche weiteren Normen sind sinnvollerweise ebenfalls zu beachten? Wann is
 t die Abstimmung der betroffenen bau- und lüftungstechnischen Gewerke erf
 orderlich und sinnvoll? Kann damit die Wirksamkeit verschiedener Lösungen
  in Bezug auf die vorhandene Radonbelastung abgeschätzt werden? Welche re
 chtlichen Aspekte gilt es zu beachten im Baugenehmigungsverfahren? Welche 
 gesetzlichen Regelungen und Verpflichtungen ergeben sich aus dem neuen Str
 ahlenschutzgesetz?\n\n&nbsp\;\n\nDas Bauzentrum München dankt Pamela Jent
 ner für die fachliche Leitung bei der Vorbereitung dieser Veranstaltung.\
 n\n&nbsp\;\nDiese Veranstaltung findet statt in Kooperation mit dem Verban
 d Baubiologie e.V.\n&nbsp\;\n\nProgramm\n\n&nbsp\;\n\n15:00\nEinleitung un
 d Moderation\nPamela Jentner\, OrangePep GmbH &amp\; Co.KG\, Freising\, Ve
 rband Baubiologie e.V.\n\n&nbsp\;\n\n15:10\nAusweisung von Radon-Vorsorgeg
 ebieten in Bayern und anderen Bundesländern\n- Definition zur Ausweisung 
 von Radon-Vorsorgegebieten\n- Welche Gebiete wurden ausgewiesen?\n- Verpfl
 ichtungen\, Konsequenzen\, Maßnahmen\, Messtechnik\nPamela Jentner\, Oran
 gePep GmbH &amp\; Co.KG\, Freising\, Verband Baubiologie e.V.\n\n&nbsp\;\n
 \n15:40\nRadon: Die neue DIN/TS 18117\n- Anwendungsbereiche im radongesch
 ützten Bauen und Sanieren\n- Bauliche und lüftungstechnische Planungs- u
 nd Ausführungshinweise\nDr. Joachim Kemski\, ö.b.u.v. Sachverständiger 
 IHK Bonn/Rhein-Sieg für Radon\n\n&nbsp\;\n\n16:25\nRechtliche Aspekte zum
  radongeschützten Bauen\n- Radon im Baugenehmigungsverfahren\n- Regelunge
 n im neuen Strahlenschutzgesetz\nBettina Neheider\, Rechtsanwältin\, Kanz
 lei Heuking Kühn Lüer Wojtek\, München\n\n&nbsp\;\n\n16:55   Fragen\n
 \n&nbsp\;\n\n17:10   Ende der Veranstaltung\n\n&nbsp\;\n\nTeilnahmebest
 ätigung\n\nFalls sie eine Teilnahme-Bestätigung benötigen (ggf. inklusi
 ve Fortbildungsode für die Energieeffizienz-Experten-Liste) muss diese ko
 stenpflichtig (25 Euro) mittels Formblatt (Download-Portal) bestellt werde
 n.
CATEGORIES:Fachforen - Exkursionen
END:VEVENT
BEGIN:VTIMEZONE
TZID:Europe/Berlin
X-LIC-LOCATION:Europe/Berlin
BEGIN:DAYLIGHT
DTSTART:20210328T030000
TZOFFSETFROM:+0100
TZOFFSETTO:+0200
TZNAME:CEST
END:DAYLIGHT
END:VTIMEZONE
END:VCALENDAR