
BEGIN:VCALENDAR
VERSION:2.0
PRODID:-//wp-events-plugin.com//6.6.3//EN
TZID:Europe/Berlin
X-WR-TIMEZONE:Europe/Berlin
BEGIN:VEVENT
UID:0-502@veranstaltungen.muenchen.de
DTSTART;TZID=Europe/Berlin:20211124T140000
DTEND;TZID=Europe/Berlin:20211124T173000
DTSTAMP:20211123T153219Z
URL:https://veranstaltungen.muenchen.de/bauzentrum/veranstaltungen/web-for
 um-kmu-prozesse-anlagentechnik/
SUMMARY:Web-Forum: Klimagerechte Modernisierung und Sanierung für KMUs: Ef
 fiziente Produktionsprozesse und Anlagentechnik
DESCRIPTION:Web-Forum vom Bauzentrum München:\nKlimagerechte Modernisierun
 g und Sanierung für KMUs:\nEffiziente Produktionsprozesse und Anlagentech
 nik\n \n\nFortbildungspunkte Energieeffizienz-Expertenliste:\n\n0 Unterri
 chtseinheiten Wohngebäude\n0 Unterrichtseinheiten Nichtwohngebäude\n4 Un
 terrichtseinheiten Energieaudit DIN 16247\n\n&nbsp\;\n\nTeilnahme kostenfr
 ei - Online-Anmeldung erforderlich - siehe unten\n\n&nbsp\;\nAlle Online-V
 eranstaltungen vom Bauzentrum München werden mit Webex Events durchgefüh
 rt.\nAngemeldete Personen erhalten rechtzeitig vor der Veranstaltung den T
 eilnahme-Link per E-Mail.\n&nbsp\;\nDiese Veranstaltung findet statt in Ko
 operation mit GIH Bayern e.V.\n&nbsp\;\n\nThema\n\n&nbsp\;\n\nKleine und m
 ittlere Unternehmen (KMU) gehören zu den wichtigsten Leistungsträgern in
  der deutschen Unternehmensstruktur. Diese Dienstleister*innen\, Gewerbebe
 triebe und Handelsunternehmen haben daher einen sehr großen Anteil am Gem
 einwohl.\n\n&nbsp\;\n\nKMUs können ihre Betriebskosten entscheidend senke
 n und damit auch in Zukunft wettbewerbsfähig bleiben\, indem sie ihren En
 ergiebedarf optimieren und erneuerbare Energie nutzen. Erreicht werden kan
 n dies durch den Einsatz moderner technischer Lösungen und den Einbau eff
 izienter Anlagentechnik. KMUs die ihre CO2-Emissionen reduzieren\, leisten
  zugleich einen bedeutenden Beitrag zum Klimaschutz sowie zur Erreichung d
 er Klimaschutzziele und gewinnen mit einer attraktiven Nachhaltigkeitsstra
 tegie.\n\n&nbsp\;\n\nIn der Veranstaltung werden energetische Prozesse dar
 gestellt\, Effizienzpotentiale in der Heizungs-\, Lüftungs-\, Kälte- und
  Beleuchtungstechnik erläutert und an konkreten Praxisbeispielen dargeste
 llt. Vorgestellt werden auch die zahlreichen Förderprogramme\, die für d
 en Wandel in einen effizienten und klimaschonenden Betrieb zur Verfügung 
 stehen.\n\n&nbsp\;\n\nDas Fachforum ist Teil des Projekts „Prozessbeglei
 tung von KMUs bei der Umsetzung von baulichen Sanierungskonzepten“.\n\n&
 nbsp\;\n\nDas Bauzentrum München dankt Tibor Szigeti für die fachliche L
 eitung bei der Vorbereitung dieser Veranstaltung und Robert Philipp für d
 ie Moderation.\n\n&nbsp\;\n\nProgramm\n\n&nbsp\;\n\n14:00\n\nEinleitung un
 d Moderation\nRobert Philipp\, Dipl.-Ing. Architekt\, pr-architekten\n\n&n
 bsp\;\n\n14:10\n\nWärmeerzeugung durch effiziente Heiztechnik\nDetlef Mal
 inowsky\, IBDM GmbH\n\n&nbsp\;\n\n14:40\n\nOptimierung von Kühl- und Käl
 teprozessen durch effiziente Kühltechnik\nMarkus Enzensperger\, ENGIE Ref
 rigeration GmbH\n\n&nbsp\;\n\n15:10\n\nEffizienzpotentiale bei der Drucklu
 fterzeugung\nAndreas Eichler\, Kaeser Kompressoren SE\n\n&nbsp\;\n\n15:40 
 Pause\n\n&nbsp\;\n\n15:50\n\nPraxis-Beispiel:\nOptimierung von Produktions
 prozessen bei einer kommunalen Kläranlage\nAndreas Turloff\, theneo GmbH 
 &amp\; Co. KG\n\n&nbsp\;\n\n16:20\n\nEnergie- und Kosteneinsparung durch e
 ffiziente Beleuchtungstechnik\nErich Obermeier\, SchahlLED Lighting GmbH\n
 \n&nbsp\;\n\n16:50\n\nFörderung von Effizienzmaßnahmen - aktuelle Förde
 rprogramme des Bundes\nAndreas Mitesser\, Ingenieurbüro Mitesser\n\n&nbsp
 \;\n\n17:20    Fragen\n\n&nbsp\;\n\n17:30    Ende der Veranstaltung\
 n\n&nbsp\;\n\nTeilnahmebestätigung\n\nFalls sie eine Teilnahme-Bestätigu
 ng benötigen (ggf. inklusive Fortbildungsode für die Energieeffizienz-Ex
 perten-Liste) muss diese kostenpflichtig (25 Euro) mittels Formblatt (Down
 load-Portal) bestellt werden.
CATEGORIES:Fachforen - Exkursionen
END:VEVENT
BEGIN:VTIMEZONE
TZID:Europe/Berlin
X-LIC-LOCATION:Europe/Berlin
BEGIN:STANDARD
DTSTART:20211031T020000
TZOFFSETFROM:+0200
TZOFFSETTO:+0100
TZNAME:CET
END:STANDARD
END:VTIMEZONE
END:VCALENDAR