
BEGIN:VCALENDAR
VERSION:2.0
PRODID:-//wp-events-plugin.com//6.6.3//EN
TZID:Europe/Berlin
X-WR-TIMEZONE:Europe/Berlin
BEGIN:VEVENT
UID:0-495@veranstaltungen.muenchen.de
DTSTART;TZID=Europe/Berlin:20211118T090000
DTEND;TZID=Europe/Berlin:20211118T111500
DTSTAMP:20211111T091303Z
URL:https://veranstaltungen.muenchen.de/bauzentrum/veranstaltungen/web-for
 um-klimaschutz-weg-kommunikation/
SUMMARY:Web-Forum: Klimaschutz in WEGs: Konfliktfrei kommunizieren und übe
 rzeugen
DESCRIPTION:Web-Forum vom Bauzentrum München:\nKlimaschutz in WEGs: Konfli
 ktfrei kommunizieren und überzeugen\n \n\nFortbildungspunkte Energieeffi
 zienz-Expertenliste:\n\n2 Unterrichtseinheiten Wohngebäude\n2 Unterrichts
 einheiten Nichtwohngebäude\n0 Unterrichtseinheiten Energieaudit DIN 16247
 \n\n&nbsp\;\n\nTeilnahme kostenfrei - Online-Anmeldung erforderlich - sieh
 e unten\n\n&nbsp\;\nAlle Online-Veranstaltungen vom Bauzentrum München we
 rden mit Webex Events durchgeführt.\nAngemeldete Personen erhalten rechtz
 eitig vor der Veranstaltung den Teilnahme-Link per E-Mail.\n&nbsp\;\n\nThe
 ma\n\n&nbsp\;\n\nDas Klimaziel der Stadt München ist die Klimaneutralitä
 t bis 2035. Um dieses hochgesteckte\, aber auch notwendige Ziel zu erreich
 en\, ist die gesamte Stadtgesellschaft aufgefordert\, in ihrem Handlungsra
 um aktiv zu werden. Gerade im Gebäudebereich ist ein großes Sanierungspo
 tenzial zu heben und die zahlreichen Wohnungseigentümergemeinschaften (WE
 G) können und müssen einen erheblichen Beitrag bei der CO2-Einsparung le
 isten. Durch energetische Sanierungen\, Installation von Photovoltaikanlag
 en oder die Begrünung von Dächern und Fassaden können Gebäude klimager
 echt umgebaut werden. An guten Ideen mangelt es dabei nicht. Erfahrungsgem
 äß ist es für WEGs jedoch besonders schwierig\, die Ideen in konkrete B
 eschlüsse umzusetzen\, die die notwendige Mehrheit der Eigentümer*innen 
 mitträgt. Nicht selten kommt es zu Unstimmigkeiten und Konflikten in der 
 Eigentümerschaft noch bevor die Baumaßnahme beauftragt werden kann.\n\n&
 nbsp\;\n\nGute Kommunikation kann entscheidend sein\, um diese Hürden zu 
 überwinden. Wie kommt man auch bei unterschiedlichen Interessen ins Hande
 ln? Wie lassen sich Konflikte erkennen und lösen? Die Referent*innen gehe
 n diesen Fragen nach und stellen ihre in zahlreichen Eigentümerversammlun
 gen erprobten Strategien vor. Ein Praxis-Beispiel zeigt\, wie Hausverwaltu
 ngen die klimagerechte Sanierung unterstützen können und dabei nicht auf
  eine angemessene Honorierung ihrer Leistungen verzichten müssen. Bund\, 
 Land und Kommunen bieten mit ihren unterschiedlichen Förderprogrammen hoh
 e finanzielle Anreize für die notwendigen Investitionen. Der Abschlussvor
 trag stellt die aktuellen Fördermöglichkeiten übersichtlich und verstä
 ndlich dar.\n\n&nbsp\;\n\nDie Veranstaltung richtet sich insbesondere an W
 ohnungseigentümer*innen\, Beirät*innen\, WEG-Verwaltungen\, Energieberat
 er*innen und Architekt*innen.\n\n&nbsp\;\n\nDas Bauzentrum München dankt 
 Anke Richter für die fachliche Leitung bei der Vorbereitung dieser Verans
 taltung und Robert Philipp für die Moderation des Fachforums.\n\n&nbsp\;\
 n\nProgramm\n\n&nbsp\;\n\n9.00\nEinleitung und Moderation\nRobert Philipp\
 , Architekt\, Energieberater\, Mediator\, pr-architekten\n\n&nbsp\;\n\n9.1
 0\nVon der Idee zum Beschluss\nAnbahnung einer energetischen Sanierung bei
  WEGs\nRobert Philipp\, Architekt\, Energieberater\, Mediator\, pr-archite
 kten\n\n&nbsp\;\n\n9.40\nDiskutiert ihr noch oder saniert ihr schon?\nKomm
 unikation in der Eigentümerversammlung\nJuliana Helmstreit\, Rechtsanwäl
 tin\, Mediatorin\n\n&nbsp\;\n\n10.10   Fragen zum ersten Teil\n\n&nbsp\;
 \n\n10.20\nDie Rolle der Hausverwaltung bei Sanierungen in WEGs\nVerena Mi
 chels\, Anlagen- und Immobilienverwaltung Michels GmbH\n\n&nbsp\;\n\n10.45
 \nFördertöpfe für WEGs\nBundesförderung und weitere Investitionsanreiz
 e für energetische Sanierungen\nDavid Gärtner\, Dipl.-Ing. M.Sc.\, Ingen
 ieurbüro DG-Ingenieure\n\n&nbsp\;\n\n11.05   Fragen zum zweiten Teil\n\
 n&nbsp\;\n\n11.15   Ende der Veranstaltung\n\n&nbsp\;\n\nTeilnahmebestä
 tigung\n\nFalls sie eine Teilnahme-Bestätigung benötigen (ggf. inklusive
  Fortbildungsode für die Energieeffizienz-Experten-Liste) muss diese kost
 enpflichtig (25 Euro) mittels Formblatt (Download-Portal) bestellt werden.
CATEGORIES:Fachforen - Exkursionen
END:VEVENT
BEGIN:VTIMEZONE
TZID:Europe/Berlin
X-LIC-LOCATION:Europe/Berlin
BEGIN:STANDARD
DTSTART:20211031T020000
TZOFFSETFROM:+0200
TZOFFSETTO:+0100
TZNAME:CET
END:STANDARD
END:VTIMEZONE
END:VCALENDAR