
BEGIN:VCALENDAR
VERSION:2.0
PRODID:-//wp-events-plugin.com//6.6.3//EN
TZID:Europe/Berlin
X-WR-TIMEZONE:Europe/Berlin
BEGIN:VEVENT
UID:0-306@veranstaltungen.muenchen.de
DTSTART;TZID=Europe/Berlin:20210318T090000
DTEND;TZID=Europe/Berlin:20210318T114500
DTSTAMP:20210401T090308Z
URL:https://veranstaltungen.muenchen.de/bauzentrum/veranstaltungen/web-for
 um-klimaschutz-in-wegs/
SUMMARY:Web-Forum: Klimaschutz in WEGs - So wird es möglich
DESCRIPTION:Web-Forum\nKlimaschutz in WEGs - So wird es möglich\n \n\nAne
 rkannte Fortbildungspunkte Energieeffizienz-Expertenliste:\n2 Unterrichtse
 inheiten Wohngebäude (KfW)\n0 Unterrichtseinheiten Nichtwohngebäude (KfW
 )\n0 Unterrichtseinheiten Energieberatung im Mittelstand (BAFA)\n\n&nbsp\;
 \n\nTeilnahme kostenfrei - Online-Anmeldung erforderlich - siehe unten\n\n
 &nbsp\;\nAlle Online-Veranstaltungen vom Bauzentrum München werden mit We
 bex Events durchgeführt.\nAngemeldete Personen erhalten rechtzeitig vor d
 er Veranstaltung den Einladungs-Link per E-Mail.\n&nbsp\;\n\nThema\n\nMit 
 dem hochgesteckten aber auch notwendigen Klimaziel: "Klimaneutrale Stadt M
 ünchen bis 2035" werden alle Menschen in allen Funktionen als handelnde A
 kteur*innen angesprochen. Die Eigentümer*innen in Wohnungs-Eigentümer-Ge
 meinschaften (WEG) finden für Ihr Handeln jedoch streng reglementierte Ra
 hmenbedingungen vor. Dieses WEG-Recht wurde auch angesichts dieser Herausf
 orderungen im vergangenen Jahr aktualisiert. Letztlich entscheiden alle Ei
 gentümer*innen gemeinsam mit den jeweils notwendigen Mehrheiten über den
  Wohnkomfort und die Behaglichkeit sowie über die Zukunftsfähigkeit der 
 Immobilie hinsichtlich technischer Standards und finanzieller Wertanlage.\
 n\n&nbsp\;\n\nDie unterschiedlichen finanziellen Möglichkeiten der WEG un
 d der einzelnen Eigentümer*innen sind eine wesentliche Basis der Entschei
 dungsfindung. Vor allem auch deshalb\, weil so gut wie keine WEG ausreiche
 nd Rücklagen geschaffen hat\, um die ohnehin notwendigen Sanierungen oder
  Erneuerungen von Dach\, Aufzug oder Tiefgarage leisten zu können. Wie la
 ssen sich angesichts einer nicht vorhandenen finanziellen Basis aufwändig
 e Klimaschutz-Maßnahmen trotzdem realisieren?\n\n&nbsp\;\n\nDie Vorträge
  im Fachforum spannen einen Bogen über die relevanten Bereiche: Von Kommu
 nikation und Moderation\, langfristiger Sanierungsplanung\, Solarenergie u
 nd Elektro-Mobilität\, über klassische Sanierungsfälle in Kombination m
 it energetischer Sanierung\, Optimierung der Gebäudehülle bis hin zur Sc
 haffung neuen Wohnraums durch Aufstockung und Dachgeschossausbau und der d
 amit verbundenen finanziellen Erträge für die WEG. Vorgestellt wird auch
  die Reformierung des WEG-Rechts. An Beispielen aus der Praxis werden imme
 r wiederkehrende Herausforderungen dargestellt - und erläutert wie diese 
 gemeistert werden können.\n\n&nbsp\;\n\nAngesprochen werden insbesondere 
 Wohnungseigentümer*innen\, WEG-Beiräte\, WEG-Verwaltungen\, Energieberat
 er*innen und Architekt*innen.\n\n&nbsp\;\n\nDas Bauzentrum München dankt 
 Anke Richter für die fachliche Leitung bei der Vorbereitung dieser Verans
 taltung und Robert Philipp für die Moderation des Fachforums.\n\n&nbsp\;\
 n\n(Kurz-) Filmtipp zum Thema:\n"WEGs: Die Sanierung\, die energetische"\n
 https://www.muenchen.de/rathaus/Stadtverwaltung/Referat-fuer-Gesundheit-un
 d-Umwelt/Klimaschutz_und_Energie/Energieeffizientes_Bauen/Mediathek.html\n
 \n&nbsp\;\n\nProgramm\n\n&nbsp\;\n\n9:00\nBegrüßung\, Einführung und Mo
 deration\nRobert Philipp\, PR Architekten München\n\n&nbsp\;\n\n9:05\nGut
 e Kommunikation für die energetische Sanierung in WEGs\nRobert Philipp\, 
 PR Architekten München\n\n&nbsp\;\n\n9:25\nOptimierung der Gebäudehülle
  bei Betonbauten\nProf. Karl Zankl\, Dipl.-Ing.\, Fakultät Architektur un
 d Bauingenieurwesen\,\nHochschule für angewandte Wissenschaften Würzburg
 -Schweinfurt\n\n&nbsp\;\n\n9:50\nDer klassische Sanierungsbedarf: Tiefgara
 gen\, Flachdach\, Aufzug\nFehlt das Geld für die energetische Sanierung?\
 nHasan Coskun\, Ingenieurgesellschaft mbH für rationelle Instandsetzung C
 oskun\n\n&nbsp\;\n\n10:10\nKlimaschutz und Wohnungseigentum:\n- Wie „gr
 ün“ kann eine WEG werden?\n- Elektroautos\, Photovoltaik\, wie geht das
  in meiner WEG?\nDetlef Sterns\, Rechtsanwalt\,\nHaus- und Grundbesitzerve
 rein München und Umgebung e.V.\n\n&nbsp\;\n\n10:30\nNeues WEG-Recht:\n- W
 as kommt auf Eigentümer*innen und Hausverwaltungen zu?\n- Sind rechtlich 
 verbindliche Sanierungsfahrpläne bei WEGs möglich?\nJuliana Helmstreit\,
  Rechtsanwältin\, Kanzlei für Mediation und Konfliktmanagement\n\n&nbsp\
 ;\n\n10:55\nPhotovoltaik und Solarthermie in WEGs\nEigennutzung und Mieter
 strom\nDr. Andreas Horn\, Solarkoordinator im Bauzentrum München\n\n&nbsp
 \;\n\n11:15\nFörderprogramme für WEGs\nFES\, KfW\, steuerliche Förderun
 g energetischer Sanierung\nGesa Lenhardt\, Dipl.-Ing.\, Architektin\, Ener
 gieberaterin BAFA/KfW\n\n&nbsp\;\n\n11:40\nEnde der Veranstaltung\n\n&nbsp
 \;\n\nTeilnahmebestätigung\n\n 	Eine Teilnahmebestätigung mit Bescheinig
 ung von Fortbildungspunkten für die Energieeffizienz-Experten-Liste koste
 t 25 Euro.\n 	Falls sie eine Bestätigung benötigen\, bestellen sie diese
  bitte mit dem im Download-Portal abgelegten Formblatt.\n 	Es werden keine
  kostenfreien Teilnahme-Bestätigungen (ohne Bescheinigung von Fortbildung
 spunkten) ausgestellt.\n
CATEGORIES:Fachforen - Exkursionen
END:VEVENT
BEGIN:VTIMEZONE
TZID:Europe/Berlin
X-LIC-LOCATION:Europe/Berlin
BEGIN:STANDARD
DTSTART:20201025T020000
TZOFFSETFROM:+0200
TZOFFSETTO:+0100
TZNAME:CET
END:STANDARD
END:VTIMEZONE
END:VCALENDAR