
BEGIN:VCALENDAR
VERSION:2.0
PRODID:-//wp-events-plugin.com//6.6.3//EN
TZID:Europe/Berlin
X-WR-TIMEZONE:Europe/Berlin
BEGIN:VEVENT
UID:0-514@veranstaltungen.muenchen.de
DTSTART;TZID=Europe/Berlin:20211129T140000
DTEND;TZID=Europe/Berlin:20211129T171000
DTSTAMP:20211201T111018Z
URL:https://veranstaltungen.muenchen.de/bauzentrum/veranstaltungen/web-for
 um-klimaneutrale-und-klimaresiliente-quartiere/
SUMMARY:Web-Forum: Klimaneutrale und klimaresiliente Quartiere
DESCRIPTION:Web-Forum vom Bauzentrum München:\nKlimaneutrale und klimaresi
 liente Quartiere:\n- Quartierskonzept – Klimaschutz – grüne Infrastru
 ktur – Versorgung – Mobilität\n- Von der Region bis zum Viertel – B
 erichte aus Projekten und Konzepten\n\n \n\nFortbildungspunkte Energieeff
 izienz-Expertenliste:\n\n3 Unterrichtseinheiten Wohngebäude\n3 Unterricht
 seinheiten Nichtwohngebäude\n0 Unterrichtseinheiten Energieaudit DIN 1624
 7\n\n&nbsp\;\n\nTeilnahme kostenfrei - Online-Anmeldung erforderlich - sie
 he unten\n\n&nbsp\;\nAlle Online-Veranstaltungen vom Bauzentrum München w
 erden mit Webex Events durchgeführt.\nAngemeldete Personen erhalten recht
 zeitig vor der Veranstaltung den Teilnahme-Link per E-Mail.\n&nbsp\;\n\nDi
 ese Veranstaltung findet statt in Kooperation mit der Bayerischen Architek
 tenkammer.\n\n&nbsp\;\n\nThema\n\n&nbsp\;\n\nDas klimaneutrale München be
 steht aus klimaneutralen Quartieren. Die neuen Förderbedingungen der KfW 
 (Programm 432: Energetische Stadtsanierung) bieten Städten viele Chancen 
 um Potenziale zu nutzen. Der integrierte Quartiersansatz ist ein wichtiger
  Baustein\, um die Ziele der Klimaneutralität und Klimaresilienz zu errei
 chen.\n\n&nbsp\;\n\nDie Veranstaltung thematisiert unter anderem das prakt
 ische Angehen von Quartierskonzepten und Sanierungsmanagement mit Schwerpu
 nkt Wohnungseigentümergemeinschaften (WEG). Es werden konkret umgesetzte 
 Projekte in den Bereichen städtebauliche Schwerpunkte und Klimaschutzaspe
 kte nicht nur aus München\, sondern auch aus der neuen Weststadt Esslinge
 n vorgestellt.\n\n&nbsp\;\n\nZum Thema Landschaftsentwicklung werden die A
 uswirkungen von Nachverdichtung auf das Mikroklima und den thermischen Kom
 fort sowie die Kompensationsmöglichkeiten durch grüne Infrastruktur darg
 estellt. Ergänzend gibt es einen kurzen Einblick zur Integration von Klim
 aanpassung in Planungsprozesse.\n\n&nbsp\;\n\nZur Anbindung und Versorgung
  der Städte und Quartiere sind regionale Versorgungskonzepte notwendig\, 
 die Nachhaltigkeitsaspekte im dezentralen und digitalen Energiesystem aufz
 eigen und Themen wie Fernwärme und Open Data ansprechen.\n\n&nbsp\;\n\nBe
 im Schwerpunkt Mobilität &amp\; Bürgerbeteiligung treffen verschiedene B
 edürfnisse aufeinander\, beispielsweise die Optimierung der Aufenthaltsqu
 alität im Viertel und die dadurch steigende Lärmbelästigung.\n\n&nbsp\;
 \n\nDieses Forum gibt einen Überblick zu aktuellen Förderprogrammen und 
 stellt Konzepte sowie Praxiserfahrungen vor aus den Bereichen Quartierskon
 zept\, grüne Infrastruktur\, Versorgungskonzepte und Verkehrsberuhigung.\
 n\n&nbsp\;\n\nDas Bauzentrum München dankt Alexandra Bayer für die fachl
 iche Leitung bei der Vorbereitung dieser Veranstaltung und die Moderation.
 \n\n&nbsp\;\n\nDiese Veranstaltung findet statt in Kooperation mit der Bay
 erischen Architektenkammer.\n\n&nbsp\;\n\nProgramm\n\n&nbsp\;\n\n14.00\n\n
 Einleitung und Moderation\nAlexandra Bayer\, Minga architekten\n\n&nbsp\;\
 n\n14.10\n\nEinführung: Quartierskonzepte und Sanierungsmanagement im Rah
 men der KfW Förderung\nEmmanuelle Polette-Burkhardt\, Referat für Klima-
  und Umweltschutz\n\n&nbsp\;\n\n14.20\n\nKfW Quartierskonzept und Sanierun
 gsmanagement Neuaubing-Westkreuz\nMartin Kaltenhauser-Barth\,\nMGS Münchn
 er Gesellschaft für Stadterneuerung mbH\n\n&nbsp\;\n\n14.40\n\nProjektber
 icht: Klimaneutrales Stadtquartier – neue Weststadt Esslingen\nStädteba
 uliche Schwerpunkte und Klimaschutzaspekte\nKatja Walther &amp\; Nicole K
 öppener-Lampe\,\nStadtplanungsamt Esslingen am Neckar\n\n&nbsp\;\n\n15.00
 \n\nGrüne Infrastruktur und Nachverdichtung\nErgebnisse des Forschungspro
 jektes "Grüne Stadt der Zukunft"\nSabrina Erlwein\,\nTU München\, Lehrst
 uhl für Strategie und Management in der Landschaftsentwicklung\n\n&nbsp\;
 \n\n15.20   Fragen zum ersten Teil\n\n&nbsp\;\n\n15.30   Pause\n\n&nbsp\
 ;\n\n15.40\n\nRegionale Versorgungskonzepte\, erneuerbare Energien und Geo
 daten\nTobias Schmid\,\nForschungsstelle für Energiewirtschaft e.V.\n\n&n
 bsp\;\n\n16.10\n\nVerkehrsberuhigung im Quartiersprojekt "Westend Kiez"\nS
 ylvia Hladky\,\nMIN Manufaktur Mobilität\n\n&nbsp\;\n\n16:40\n\nIntegrier
 ter Ansatz im Kontext Stadtsanierung\nDaniel Genée\,\nStadtteilmanager Ne
 uaubing-Westkreuz\n\n&nbsp\;\n\n17:00  Fragen zum zweiten Teil\n\n&nbsp\;
 \n\n17:10  Ende der Veranstaltung\n\n&nbsp\;\n\nTeilnahmebestätigung\n\n
 Falls sie eine Teilnahme-Bestätigung benötigen (ggf. inklusive Fortbildu
 ngsode für die Energieeffizienz-Experten-Liste) muss diese kostenpflichti
 g (25 Euro) mittels Formblatt (Download-Portal) bestellt werden.
CATEGORIES:Fachforen - Exkursionen
END:VEVENT
BEGIN:VTIMEZONE
TZID:Europe/Berlin
X-LIC-LOCATION:Europe/Berlin
BEGIN:STANDARD
DTSTART:20211031T020000
TZOFFSETFROM:+0200
TZOFFSETTO:+0100
TZNAME:CET
END:STANDARD
END:VTIMEZONE
END:VCALENDAR