
BEGIN:VCALENDAR
VERSION:2.0
PRODID:-//wp-events-plugin.com//6.6.3//EN
TZID:Europe/Berlin
X-WR-TIMEZONE:Europe/Berlin
BEGIN:VEVENT
UID:0-342@veranstaltungen.muenchen.de
DTSTART;TZID=Europe/Berlin:20210420T090000
DTEND;TZID=Europe/Berlin:20210420T124500
DTSTAMP:20210419T094937Z
URL:https://veranstaltungen.muenchen.de/bauzentrum/veranstaltungen/web-for
 um-foerder-kriterien-2021/
SUMMARY:Web-Forum: Neue Förder-Kriterien 2021
DESCRIPTION:Web-Forum vom Bauzentrum München:\nNeue Förder-Kriterien 2021
 \nEinzelmaßnahmen – Effizienzhäuser - Heizung - Lüftung - Solarenergi
 e\n\n \n\nAnerkannte Fortbildungspunkte Energieeffizienz-Expertenliste:\n
 4 Unterrichtseinheiten Wohngebäude\n2 Unterrichtseinheiten Nichtwohngebä
 ude\n2 Unterrichtseinheiten Energieaudit DIN 16247\n\n&nbsp\;\n\nTeilnahme
  kostenfrei - Online-Anmeldung erforderlich - siehe unten\n\n&nbsp\;\nAlle
  Online-Veranstaltungen vom Bauzentrum München werden mit Webex Events du
 rchgeführt.\nAngemeldete Personen erhalten rechtzeitig vor der Veranstalt
 ung den Teilnahme-Link per E-Mail.\n&nbsp\;\n\nThema\n\nIm letzten Jahr mu
 ssten die Fördermittel des Bundes bei verschiedenen Stellen beantragt wer
 den. Mit der schrittweisen Einführung der Bundesförderung für effizient
 e Gebäude (BEG) hat sich das geändert. Die BEG fasst die bisherigen Ange
 bote der BAFA und der KfW zu einem einheitlichen Programm zusammen. Im Jan
 uar 2021 startete die Umsetzung mit der Bundesförderung für effiziente G
 ebäude – Einzelmaßnahmen (BEG EM). Ab Juli 2021 müssen die Zuschüsse
  für effiziente Neubau- und Sanierungsvorhaben ebenfalls über die BEG be
 antragt werden. Bei der KfW verbleiben nur die Kreditförderungen (mit Til
 gungszuschuss).\n\n&nbsp\;\n\nZusätzlich verändert die ab 2021 wirksame 
 Einführung des CO2-Preises für Heizöl und Erdgas die Ergebnisse der Wir
 tschaftlichkeitsberechnungen im Bereich Gebäudestandards und Heiztechnik.
  Heizungen mit den konventionellen Energieträgern Gas und Heizöl werden 
 ohne zusätzliche umweltfreundliche Komponenten nicht mehr gefördert. Mit
  Fördersätzen von bis zu 55 Prozent wird insbesondere der Umstieg auf re
 generative Heizsysteme belohnt. Der Markt muss sich somit - neben einer Ve
 rteuerung der fossilen Energieträger - auch auf die neue Förderungen fü
 r energetische Sanierungen einstellen. Einer von mehreren neuen Förderbau
 steinen ist die steuerliche Absetzbarkeit von energetischen Sanierungsmaß
 nahmen für Eigenheimbesitzer*innen.\n\n&nbsp\;\n\nDieses Fachforum gibt e
 inen Überblick zu aktuellen Förderprogrammen\, erklärt die technische A
 nforderungen und stellt erste Praxiserfahrungen vor.\n\n&nbsp\;\n\nDas Bau
 zentrum München dankt Teresa Sauczek für die fachliche Leitung bei der V
 orbereitung dieser Veranstaltung und Cornelius Schmidt für die Moderation
 .\n\n&nbsp\;\n\nProgramm\n\n&nbsp\;\n\n9.00\nBegrüßung\, Einführung und
  Moderation\nCornelius Schmidt\, GIH Bayern e.V\n\n&nbsp\;\n\n9.10\nBAFA: 
 Bundesförderung für effiziente Gebäude (BEG) – Einzelmaßnahmen\nDr. 
 Ina Bartmann\, BAFA\, UA Energie-Info-Center\, Anpassungsgeld\, Elektromob
 ilität\nLaura Drake\, BAFA\, Referat BEG Grundsatz\n\n&nbsp\;\n\n9.40\nKf
 W-Förderung - Neues und Bewährtes (Erfahrungen aus dem 1. Quartal 2021)\
 nEckard von Schwerin\, KfW Bankengruppe\n\n&nbsp\;\n\n10.05\nSteuerliche M
 odernisierungsförderung für selbstgenutzte Eigenheime\nAlois Zimmerer\, 
 GIH Bayern e.V.\n\n&nbsp\;\n\n10.25\nVersicherung der Energieberatung - Kf
 W und BAFA (BEG)\nMarcus Reichenberg\, Greensurance® Für Mensch und Umwe
 lt UG\n\n&nbsp\;\n\n10.45  Fragen zum ersten Teil\n\n&nbsp\;\n\n10.55  P
 ause\n\n&nbsp\;\n\n11.05\n\nBayerisches PV-Speicher-Programm\nDr. Josef Ho
 chhuber\, Bayerisches Staatsministerium für Wirtschaft\, Landesentwicklun
 g und Energie\n\n&nbsp\;\n\n11.25\n\nFallstricke für Antragsteller*innen 
 - Erfahrungen eines Energieberaters\nAlois Zimmerer\, GIH Bayern e.V.\n\n&
 nbsp\;\n\n11.45\n\nMünchner Förderprogramm Energieeinsparung (FES)\nChri
 stiane Müller\, Referat für Klima- und Umweltschutz\, Sachgebiet FES\n\n
 &nbsp\;\n\n11.55\n\nWirtschaftlichkeit energetischer Sanierungen: Modell-B
 erechnung nach Einführung CO2-Preis für fossile Brennstoffe\nArne Kruft\
 , GIH Bayern e.V.\n\n&nbsp\;\n\n12.15\n\nPaketlösungen zur BAFA-Förderun
 g Heizung und Lüftung\nBernd Wahl\, Viessmann Akademie\, Viessmann Deutsc
 hland GmbH\n\n&nbsp\;\n\n12.30  Fragen zum zweiten Teil\n\n&nbsp\;\n\n12.
 45  Ende der Veranstaltung\n\n&nbsp\;\n\nTeilnahmebestätigung\n\n 	Eine 
 Teilnahmebestätigung mit Bescheinigung von Fortbildungspunkten für die E
 nergieeffizienz-Experten-Liste kostet 25 Euro.\n 	Falls sie eine Bestätig
 ung benötigen\, bestellen sie diese bitte mit dem im Download-Portal abge
 legten Formblatt.\n 	Es werden keine kostenfreien Teilnahme-Bestätigungen
  (ohne Bescheinigung von Fortbildungspunkten) ausgestellt.\n
CATEGORIES:Fachforen - Exkursionen
END:VEVENT
BEGIN:VTIMEZONE
TZID:Europe/Berlin
X-LIC-LOCATION:Europe/Berlin
BEGIN:DAYLIGHT
DTSTART:20210328T030000
TZOFFSETFROM:+0100
TZOFFSETTO:+0200
TZNAME:CEST
END:DAYLIGHT
END:VTIMEZONE
END:VCALENDAR