
BEGIN:VCALENDAR
VERSION:2.0
PRODID:-//wp-events-plugin.com//6.6.3//EN
TZID:Europe/Berlin
X-WR-TIMEZONE:Europe/Berlin
BEGIN:VEVENT
UID:0-353@veranstaltungen.muenchen.de
DTSTART;TZID=Europe/Berlin:20210427T150000
DTEND;TZID=Europe/Berlin:20210427T173000
DTSTAMP:20210422T094322Z
URL:https://veranstaltungen.muenchen.de/bauzentrum/veranstaltungen/web-for
 um-flexible-grundrisse/
SUMMARY:Web-Forum: Flexibel nutzbare Grundrisse - mehr Raum auf weniger m²
DESCRIPTION:Web-Forum vom Bauzentrum München:\nFlexibel nutzbare Grundriss
 e - mehr Raum auf weniger m²\n \n\nAnerkannte Fortbildungspunkte Energie
 effizienz-Expertenliste:\n0 Unterrichtseinheiten Wohngebäude (KfW)\n0 Unt
 errichtseinheiten Nichtwohngebäude (KfW)\n0 Unterrichtseinheiten Energieb
 eratung im Mittelstand (BAFA)\n\n&nbsp\;\n\nTeilnahme kostenfrei - Online-
 Anmeldung erforderlich - siehe unten\n\n&nbsp\;\nAlle Online-Veranstaltung
 en vom Bauzentrum München werden mit Webex Events durchgeführt.\nAngemel
 dete Personen erhalten rechtzeitig vor der Veranstaltung den Teilnahme-Lin
 k per E-Mail.\n&nbsp\;\n\nThema\n\nIn Regionen wie München sind die Fläc
 hen knapp und teuer. Es ist nicht mehr ohne weiteres möglich\, bei verän
 derter Lebenslage in eine passende (das kann auch heißen: kleinere) Wohnu
 ng umzuziehen. Wer eine günstige\, große Wohnung bewohnt\, bleibt dort a
 uch nach Auszug der Kinder. Für andere Mitbewohner*innen wie z.B. Pflegek
 räfte eignen sich die Grundrisse häufig nicht. Junge Familien finden kei
 ne bezahlbare Wohnung mehr\, verlassen die Stadt und nehmen weite Wege auf
  sich. Neben negativen sozialen Effekten ist auch der Verbrauch ökonomisc
 her und ökologischer Ressourcen höher als nötig. Zudem entspricht das b
 estehende Wohnungsangebot nur bedingt der heutigen Vielfalt der (urbanen) 
 Gesellschaft mit Patchworkfamilien\, Wahlverwandtschaften\, Menschen mit P
 flegebedürfnissen und vorübergehendem Wohnbedarf für ankommende Mensche
 n\, Auszubildende und Jobs auf Zeit\, etc.\n\n&nbsp\;\n\nDemgegenüber kan
 n in verschiedenen Lebenslagen nutzbarer Wohnraum dazu beitragen\, den Woh
 nungsmarkt zu entspannen. Zugleich werden bei reduzierter Wohnfläche je P
 erson die Wohn- und Nebenkosten gesenkt und die Ressourcen geschont. Hierf
 ür helfen variabel nutzbare oder teilbare Grundrisse. Auch gemeinschaftli
 ch genutzte Flächen als zeitweise Erweiterung des (privaten) Wohnraums er
 höhen die Wohnqualität.\n\n&nbsp\;\n\nDie Veranstaltung findet statt im 
 Rahmen eines Projekts des Bauzentrums München\, das Lösungen für flexib
 el und damit nachhaltig nutzbare Grundrisse für alle Bauherr*innen propag
 ieren möchte. Neben Konzepten für den Neubau werden auch entsprechende M
 öglichkeiten im Bestand vorgestellt.\n\n&nbsp\;\n\nDas Bauzentrum Münche
 n dankt Sabine Healey für die fachliche Leitung bei der Vorbereitung dies
 er Veranstaltung und Anton Mang für die Moderation.\n\n&nbsp\;\n\nDiese V
 eranstaltung findet statt in Kooperation mit der Bayerischen Architektenka
 mmer.\n\n&nbsp\;\n\nProgramm\n\n&nbsp\;\n\n15:00\n\nEinleitung und Moderat
 ion\nSabine Healey\, Architektin / Anton Mang\, Architekt\n\n&nbsp\;\n\n15
 :10\n\nDie wachsende und schrumpfende Wohnung\nSan Riemo - ein forschendes
  Bauprojekt der Genossenschaft Kooperative Großstadt\, ausgelobt als offe
 ner Realisierungswettbewerb\nMarkus Sowa\, Architekt\, Vorstand KooGro\n\n
 &nbsp\;\n\n15:35\n\nA52 - ten in one\n- Wohnhaus in Berlin Mitte\, für 10
  Bauherr*innen\n- Individuelle und flexible Grundrisse\,\n- Gemeinschaftli
 ch genutztes Penthouse\nChristoph Rödig\, roedig schop Architekten BDA\n\
 n&nbsp\;\n\n15:50\n\nDrinnen ist das neue Draussen\nSchiebeelemente für f
 lexible Räume\nDaniel Hoheneder\, Architekt\, flissade GmbH\n\n&nbsp\;\n\
 n16:00 Fragen zum ersten Teil\n\n&nbsp\;\n\n16:10 Pause\n\n&nbsp\;\n\n16:2
 0\n\nKunstaktion: Mei sweet Hoam\nWohnen auf vier Quadratmetern – mitten
  in München - Geht das?\nTommy Schmidt\, München\n\n&nbsp\;\n\n16:30\n\n
 kupa - Quartier Kuvertfabrik Pasing\n- Innovatives Wohnprojekt vom Projekt
 entwickler\n- Zukunftsweisendes Quartierskonzept mit Sharing-Modell für a
 lle Bewohner*innen\n- Mit variablen Grundrissen.\n- Architekturbüro: Allm
 ann Sattler Wappner\nChristian Schulz\, Prokurist und Projektleiter\, Bauw
 erk\n\n&nbsp\;\n\n16:45\n\nFlexibles Bauen\nTypologie Wohnungsbau für den
  dynamischen Wandel der Gesellschaft\nProf. Dr. Thomas Jocher\, Universit
 ät Stuttgart\n\n&nbsp\;\n\n17:10 Fragen zum zweiten Teil\n\n&nbsp\;\n\n17
 :20 Ende der Veranstaltung\n\n&nbsp\;\n\nTeilnahmebestätigung\n\nFalls si
 e eine Teilnahme-Bestätigung benötigen (ggf. inklusive Fortbildungsode f
 ür die Energieeffizienz-Experten-Liste) muss diese kostenpflichtig (25 Eu
 ro) mittels Formblatt (Download-Portal) bestellt werden.
CATEGORIES:Fachforen - Exkursionen
END:VEVENT
BEGIN:VTIMEZONE
TZID:Europe/Berlin
X-LIC-LOCATION:Europe/Berlin
BEGIN:DAYLIGHT
DTSTART:20210328T030000
TZOFFSETFROM:+0100
TZOFFSETTO:+0200
TZNAME:CEST
END:DAYLIGHT
END:VTIMEZONE
END:VCALENDAR