
BEGIN:VCALENDAR
VERSION:2.0
PRODID:-//wp-events-plugin.com//6.6.3//EN
TZID:Europe/Berlin
X-WR-TIMEZONE:Europe/Berlin
BEGIN:VEVENT
UID:0-501@veranstaltungen.muenchen.de
DTSTART;TZID=Europe/Berlin:20211117T090000
DTEND;TZID=Europe/Berlin:20211117T121500
DTSTAMP:20211111T090832Z
URL:https://veranstaltungen.muenchen.de/bauzentrum/veranstaltungen/web-for
 um-brandschutz-holzbau/
SUMMARY:Web-Forum: Brandschutztechnische Herausforderungen im mehrgeschossi
 gen Holzbau
DESCRIPTION:Web-Forum vom Bauzentrum München:\nBrandschutztechnische Herau
 sforderungen im mehrgeschossigen Holzbau\n- Grundlagen und bauordnungsrech
 tliche Entwicklung\n- Verwendbarkeitsnachweise und technische Regeln im Ho
 lzbau\n- Brandschutz für Holzfassaden und Forschungsvorhaben TIMpuls\n\n
  \n\nFortbildungspunkte Energieeffizienz-Expertenliste:\n\n4 Unterrichtse
 inheiten Wohngebäude\n4 Unterrichtseinheiten Nichtwohngebäude\n4 Unterri
 chtseinheiten Energieaudit DIN 16247\n\n&nbsp\;\n\nDiese Veranstaltung fin
 det statt in Kooperation mit dem Verband Baubiologie e.V.\n\n&nbsp\;\n\nTe
 ilnahme kostenfrei - Online-Anmeldung erforderlich - siehe unten\n\n&nbsp\
 ;\nAlle Online-Veranstaltungen vom Bauzentrum München werden mit Webex Ev
 ents durchgeführt.\nAngemeldete Personen erhalten rechtzeitig vor der Ver
 anstaltung den Teilnahme-Link per E-Mail.\n&nbsp\;\n\nThema\n\n&nbsp\;\n\n
 Die zentrale Herausforderung der Gesellschaft im 21. Jahrhundert ist es\, 
 eine Antwort auf den sich rapide verstärkenden Klimawandel zu finden. All
 e Bereiche unseres täglichen Lebens sind aktuell noch sehr stark ressourc
 enraubend und emissionsintensiv\, vor allem auch das Bauwe-sen. Holz kann 
 im Bauwesen einen wesentlichen Beitrag zur notwendigen Dekarbonisierung un
 d zur zielgerichteten Nutzung von nachwachsenden Rohstoffen leisten.\n\n&n
 bsp\;\n\nBauen mit Holz ist bei Bauherr*innen\, Planer*innen und der breit
 en Gesellschaft zunehmend nachgefragt. Jedoch ist Holz auch ein brennbarer
  Baustoff. Dies stellt nicht zwangsläufig ein Problem dar\, denn das sich
 ere Bauen mit brennbaren Baustoffen ist möglich. Ein entscheidender Punkt
  ist dabei\, die unbedenkliche Verwendbarkeit tragender und raumabschließ
 ender Holzbaukonstruktionen in mehrgeschossigen Gebäuden bis zur Hochhaus
 grenze nachzuweisen bzw. zu ermöglichen. Dazu wurden in der Vergangenheit
  viele Untersuchungen durchgeführt. Deren Ergebnisse sowie das erforderli
 che rechtliche Regelwerk stellen wir Ihnen in dieser Veranstaltung vor.\n\
 n&nbsp\;\n\nDas Bauzentrum München dankt Pamela Jentner für die fachlich
 e Leitung bei der Vorbereitung dieser Veranstaltung und die Moderation.\n\
 n&nbsp\;\n\nProgramm\n\n&nbsp\;\n\n9.00\nEinleitung und Moderation\nPamela
  Jentner\, Dipl. Biol.\, OrangePep GmbH &amp\; Co.KG\, Freising\, Verband 
 Baubiologie e.V.\n\n&nbsp\;\n\n9.10\nEinfluss der Baubranche auf den Klima
 wandel\n- Holz im Trend: Chancen biogener Baustoffe\n- Klimagerechtes Baue
 n und Schutz vor klimatischen Auswirkungen\nPamela Jentner\, Dipl.-Biol.\,
  OrangePep GmbH &amp\; Co.KG\, Freising\, Verband Baubiologie e.V.\n\n&nbs
 p\;\n\n9.25\nBrandschutz im Holzbau\n- Einführung in das Thema\n- Grundla
 gen zum Brandschutz im Holzbau\n- Historie mehrgeschossiges Bauen mit Holz
  in Deutschland und aktuelle bauordnungsrechtliche Entwicklung\n- Vorstell
 ung der neuen „M-HolzBauRL“ bis auf Abschnitt 6\nProf. Dr. Stefan Wint
 er\, TU München\, Lehrstuhl für Holzbau und Baukonstruktion\n\n&nbsp\;\n
 \n10.10 Fragen zum ersten Teil\n\n&nbsp\;\n\n10.20 Pause\n\n&nbsp\;\n\n10.
 30\nNachweisverfahren für den Brandschutz im Holzbau\n- Verwendbarkeitsna
 chweise und technische Regeln im Holzbau\n- Vorstellung DIN EN 1995-1-2 un
 d DIN 4102-4 mit Ausblick auf Änderung\nDr.-Ing. Norman Werther\, TU Mün
 chen\, Lehrstuhl für Holzbau und Baukonstruktion\n\n&nbsp\;\n\n11.15\nBra
 ndschutz für Holzfassaden und das Forschungsvorhaben TIMpuls\n- Holzfassa
 den im Brandfall\n- Vorstellung „M-HolzBauRL“ Abschnitt 6\n- Vorstellu
 ng Realbrandversuche TIMpuls\nThomas Engel\, M.Sc. Bauingenieur\, TU Münc
 hen\, Lehrstuhl für Holzbau und Baukonstruktion\n\n&nbsp\;\n\n12.00 Frage
 n zum zweiten Teil\n\n&nbsp\;\n\n12.15 Ende der Veranstaltung\n\n&nbsp\;\n
 \nTeilnahmebestätigung\n\nFalls sie eine Teilnahme-Bestätigung benötige
 n (ggf. inklusive Fortbildungsode für die Energieeffizienz-Experten-Liste
 ) muss diese kostenpflichtig (25 Euro) mittels Formblatt (Download-Portal)
  bestellt werden.
CATEGORIES:Fachforen - Exkursionen
END:VEVENT
BEGIN:VTIMEZONE
TZID:Europe/Berlin
X-LIC-LOCATION:Europe/Berlin
BEGIN:STANDARD
DTSTART:20211031T020000
TZOFFSETFROM:+0200
TZOFFSETTO:+0100
TZNAME:CET
END:STANDARD
END:VTIMEZONE
END:VCALENDAR