
BEGIN:VCALENDAR
VERSION:2.0
PRODID:-//wp-events-plugin.com//6.6.3//EN
TZID:Europe/Berlin
X-WR-TIMEZONE:Europe/Berlin
BEGIN:VEVENT
UID:0-423@veranstaltungen.muenchen.de
DTSTART;TZID=Europe/Berlin:20210921T143000
DTEND;TZID=Europe/Berlin:20210921T170000
DTSTAMP:20210813T061644Z
URL:https://veranstaltungen.muenchen.de/bauzentrum/veranstaltungen/web-for
 um-alternsgerechter-wohnraum/
SUMMARY:Web-Forum: Flexibel nutzbare Grundrisse: Alter(n)sgerechter Wohnrau
 m
DESCRIPTION:Web-Forum vom Bauzentrum München:\nFlexibel nutzbare Grundriss
 e: Alter(n)sgerechter Wohnraum\n \n\nFortbildungspunkte Energieeffizienz-
 Expertenliste:\n\nEs wurden keine Fortbildungspunkten beantragt.\n\n&nbsp\
 ;\n\nTeilnahme kostenfrei - Online-Anmeldung erforderlich - siehe unten\n\
 n&nbsp\;\nAlle Online-Veranstaltungen vom Bauzentrum München werden mit W
 ebex Events durchgeführt.\nAngemeldete Personen erhalten rechtzeitig vor 
 der Veranstaltung den Teilnahme-Link per E-Mail.\n&nbsp\;\n\nDiese Veranst
 altung findet statt in Kooperation mit der Bayerischen Architektenkammer.\
 n\n&nbsp\;\n\nThema\n\n&nbsp\;\n\nDer demografische Wandel in Deutschland 
 führt zu einer immer weiter fortschreitenden Alterung der Gesellschaft. I
 n diesem Sinne stellt sich immer dringender die Frage\, wie Wohnungen und 
 Wohnhäuser gestaltet sein müssen\, um ohne Umbau anpassungsfähig an im 
 Laufe des Lebens veränderliche Haushaltsgrößen und Wohnbedürfnisse zu 
 bleiben. Die sowohl private Rückzugsbereiche bieten\, als auch Orte zur z
 wanglosen Begegnung und Unterstützung in der Nachbarschaft. Ein lebendige
 s\, vielfältiges Wohnumfeld für alle Generationen\, in dem es im höhere
 n Alter möglich ist\, in vertrauter Umgebung länger selbständig und eig
 enverantwortlich zu leben\, bestehende häusliche Gemeinschaften und sozia
 le Beziehungen in der Nachbarschaft zu erhalten. In der Stadt wie auf dem 
 Land\, im Neubau und der Modernisierung von Bestandsgebäuden.\n\n&nbsp\;\
 n\nDieses Web-Forum stellt an Hand von Forschungsprojekten und Praxisbeisp
 ielen neue Wohnlösungen für ein differenziertes und bedürfnisgerechtes 
 Wohnungsangebot vor. Es informiert über Beratungsmöglichkeiten und Förd
 erprogramme und berichtet über innovative Lösungsansätze\, wie ASL (amb
 ient assisted (healthy) living) oder Wohnungstausch.\n\n&nbsp\;\n\nDie Ver
 anstaltung findet statt im Rahmen eines Projekts des Bauzentrums München\
 , das Lösungen für flexibel und damit nachhaltig nutzbare Grundrisse fü
 r alle Bauherr*innen propagieren möchte.\n\n&nbsp\;\n\nDas Bauzentrum Mü
 nchen dankt Sabine Healey für die fachliche Leitung bei der Vorbereitung 
 dieser Veranstaltung und Isabella Leber für die Moderation.\n\n&nbsp\;\n\
 nProgramm\n\n&nbsp\;\n\n14.30\nEinleitung und Moderation\nSabine Healey\, 
 Architektin &amp\; Isabella Leber\, Pool Leber Architekten BDA\n\n&nbsp\;\
 n\n14.40\nForschungsprojekt Wüstenrot: Wohnen jenseits des Standards\n- N
 eue Wohnlösungen für differenziertes und bedürfnisgerechtes Wohnungsang
 ebot\n- Beispiele: Wohnprojekt Wien und Hamburg Falkenried\nAndreas Bernö
 gger\, Architektur und Stadtplanung\, Studio. Stadt. Region\n\n&nbsp\;\n\n
 15.00\nAnpassungsfähiger Wohnraum in Einfamilienhaus und Wohnung\nProjekt
 beispiele\nMartin Pool\, Leber Pool Architekten BDA\n\n&nbsp\;\n\n15.15\nW
 ohnberatung und Wohnungsanpassung\nBedarfsanalyse\, Maßnahmen und Förder
 mittel\nMaria Ostermayer\, Innenarchitektin\, SV Barrierefreies Planen und
  Bauen\,\nKompetenzzentrum für barrierefreies Wohnen\, München\n\n&nbsp\
 ;\n\n15.25\nVideo:\nForschungsprojekt Fraunhofer Institut: AAL ambient ass
 isted (healthy) living\nIT-Technik für ein langes selbstbestimmtes Leben 
 in den eigenen vier Wänden\n\n&nbsp\;\n\n15.30\nReady: Vorbereitung Barri
 erefreiheit\nProf. Dr. Thomas Jocher\, Universität Stuttgart\n\n&nbsp\;\n
 \n15.45    Fragen zum ersten Teil\n\n&nbsp\;\n\n15.55    Pause\n\n&n
 bsp\;\n\n16.05\nIntensivere Wohnraumnutzung im Bestand\n- Motivation für 
 Wohnungstausch\n- Aufnahme neuer Mitbewohner*innen außerhalb der Familie\
 n- Geeignete Maßnahmen zur baulichen Anpassung vorhandenen Wohnraums\nDr.
  Stephan Schott\, ASTUS &amp\; Annette Rinn\, BenE-München e.V.\n\n&nbsp\
 ;\n\n16.20\nGEWOFAG Stützpunkte Wohnen im Viertel: Zu Hause versorgt - ei
 n Leben lang\nBeispiel Quartiersentwicklung Sankt-Pius-Platz: Modernisieru
 ng und Ergänzung einer Wohnanlage aus den 30er Jahren\nRobert Zengler\, B
 ereichsleitung Neubau\, GEWOFAG Service GmbH\n\n&nbsp\;\n\n16.35\nLeNa-Hau
 s\, Westfeld Basel\nFlächenreduzierter\, anpassungsfähiger Wohnraum für
  Menschen mit unterschiedlichen Wohnbedürfnissen in verschiedenen Lebensa
 bschnitten\nThomas Richter\, ARGE Scheibler Villard / Baumann Architekt*in
 nen\n\n&nbsp\;\n\n16.50    Fragen zum zweiten Teil\n\n&nbsp\;\n\n17.00
     Ende der Veranstaltung\n\n&nbsp\;\n\nTeilnahmebestätigung\n\nFalls
  sie eine Teilnahme-Bestätigung benötigen (ggf. inklusive Fortbildungsod
 e für die Energieeffizienz-Experten-Liste) muss diese kostenpflichtig (25
  Euro) mittels Formblatt (Download-Portal) bestellt werden.
CATEGORIES:Fachforen - Exkursionen
END:VEVENT
BEGIN:VTIMEZONE
TZID:Europe/Berlin
X-LIC-LOCATION:Europe/Berlin
BEGIN:DAYLIGHT
DTSTART:20210328T030000
TZOFFSETFROM:+0100
TZOFFSETTO:+0200
TZNAME:CEST
END:DAYLIGHT
END:VTIMEZONE
END:VCALENDAR