
BEGIN:VCALENDAR
VERSION:2.0
PRODID:-//wp-events-plugin.com//6.6.3//EN
TZID:Europe/Berlin
X-WR-TIMEZONE:Europe/Berlin
BEGIN:VEVENT
UID:0-2053@veranstaltungen.muenchen.de
DTSTART;TZID=Europe/Berlin:20251017T180000
DTEND;TZID=Europe/Berlin:20251017T220000
DTSTAMP:20250930T100351Z
URL:https://veranstaltungen.muenchen.de/bauzentrum/veranstaltungen/solar20
 30-praesenz-veranstaltung-stammtisch-solar2030-e-v-9/
SUMMARY:Solar2030 Präsenz-Veranstaltung: Stammtisch Solar2030 e.V.
DESCRIPTION:\n\nPräsenz-Veranstaltung von Solar2030 e.V.\n\n&nbsp\;\nStamm
 tisch Solar2030 e.V.\n&nbsp\;\n\nhttps://solar2030.de/event/stammtisch-sol
 ar2030-e-v-5/
CATEGORIES:Partner*innen-Veranstaltungen,Veranstaltungen zur Solarenergie
END:VEVENT
BEGIN:VTIMEZONE
TZID:Europe/Berlin
X-LIC-LOCATION:Europe/Berlin
BEGIN:DAYLIGHT
DTSTART:20250330T030000
TZOFFSETFROM:+0100
TZOFFSETTO:+0200
TZNAME:CEST
END:DAYLIGHT
END:VTIMEZONE
END:VCALENDAR