
BEGIN:VCALENDAR
VERSION:2.0
PRODID:-//wp-events-plugin.com//6.6.3//EN
TZID:Europe/Berlin
X-WR-TIMEZONE:Europe/Berlin
BEGIN:VEVENT
UID:0-1732@veranstaltungen.muenchen.de
DTSTART;TZID=Europe/Berlin:20250321T180000
DTEND;TZID=Europe/Berlin:20250321T220000
DTSTAMP:20250226T104104Z
URL:https://veranstaltungen.muenchen.de/bauzentrum/veranstaltungen/solar20
 30-praesenz-veranstaltung-stammtisch-solar2030-e-v-2/
SUMMARY:Solar2030 Präsenz-Veranstaltung: Stammtisch Solar2030 e.V.
DESCRIPTION:\n\nPräsenz-Veranstaltung von Solar2030 e.V.\n\n&nbsp\;\nStamm
 tisch Solar2030 e.V.\n&nbsp\;\n\nhttps://solar2030.de/event/stammtisch-sol
 ar2030-e-v-7/
CATEGORIES:Partner*innen-Veranstaltungen,Veranstaltungen zur Solarenergie
END:VEVENT
BEGIN:VTIMEZONE
TZID:Europe/Berlin
X-LIC-LOCATION:Europe/Berlin
BEGIN:STANDARD
DTSTART:20241027T020000
TZOFFSETFROM:+0200
TZOFFSETTO:+0100
TZNAME:CET
END:STANDARD
END:VTIMEZONE
END:VCALENDAR