
BEGIN:VCALENDAR
VERSION:2.0
PRODID:-//wp-events-plugin.com//6.6.3//EN
TZID:Europe/Berlin
X-WR-TIMEZONE:Europe/Berlin
BEGIN:VEVENT
UID:0-1882@veranstaltungen.muenchen.de
DTSTART;TZID=Europe/Berlin:20250430T193000
DTEND;TZID=Europe/Berlin:20250430T210000
DTSTAMP:20250414T072916Z
URL:https://veranstaltungen.muenchen.de/bauzentrum/veranstaltungen/solar20
 30-praesenz-veranstaltung-dynamische-stromtarife/
SUMMARY:Solar2030 Präsenz-Veranstaltung: Dynamische Stromtarife
DESCRIPTION:\n\nPräsenz-Veranstaltung von Solar2030 e.V.\nin Kooperation m
 it ergon e.V.\n\n&nbsp\;\nDynamische Stromtarife\n&nbsp\;\n\nhttps://solar
 2030.de/event/solar2030-dynamische-stromtarife/
CATEGORIES:Partner*innen-Veranstaltungen
END:VEVENT
BEGIN:VTIMEZONE
TZID:Europe/Berlin
X-LIC-LOCATION:Europe/Berlin
BEGIN:DAYLIGHT
DTSTART:20250330T030000
TZOFFSETFROM:+0100
TZOFFSETTO:+0200
TZNAME:CEST
END:DAYLIGHT
END:VTIMEZONE
END:VCALENDAR