
BEGIN:VCALENDAR
VERSION:2.0
PRODID:-//wp-events-plugin.com//6.6.3//EN
TZID:Europe/Berlin
X-WR-TIMEZONE:Europe/Berlin
BEGIN:VEVENT
UID:0-169@veranstaltungen.muenchen.de
DTSTART;TZID=Europe/Berlin:20201005T130000
DTEND;TZID=Europe/Berlin:20201005T170000
DTSTAMP:20210331T143334Z
URL:https://veranstaltungen.muenchen.de/bauzentrum/veranstaltungen/seminar
 -praxis-brandschutz-konzept/
SUMMARY:Web-Seminar Praxis: Erstellung Brandschutz-Konzept
DESCRIPTION:Web-Seminar Praxis:\nErstellung Brandschutz-Konzept\nSchutzziel
 e und Maßnahmen festlegen\n\n&nbsp\;\n\nHinweis:\n\nAuf Grund der aktuell
 en CORONA-Lage in München\, \nkönnen zur Zeit im Bauzentrum München lei
 der keine Präsenz-Veranstaltungen stattfinden.\n\nDaher findet dieses Sem
 inar nicht wie ursprünglich angekündigt als Präsenz-Veranstaltung\,\nso
 ndern als Online-Seminar statt.\nDie Veranstaltung wird durchgeführt mit 
 Webex.\nRechtzeitig vor der Veranstaltung erhalten angemeldete Personen de
 n Zugangs-Link per E-Mail.\n&nbsp\;\n\nAnerkannte Fortbildungspunkte Energ
 ieeffizienz-Expertenliste:\n0 Unterrichtseinheiten Wohngebäude (KfW)\n0 U
 nterrichtseinheiten Nichtwohngebäude (KfW)\n0 Unterrichtseinheiten Energi
 eberatung im Mittelstand (BAFA)\n\n&nbsp\;\n\nSchriftliche Anmeldung erfor
 derlich\nEntweder direkt online (siehe ganz unten auf dieser Seite)\noder 
 mit dem Anmeldeformular (pdf) per E-Mail oder Fax.\n\n&nbsp\;\n\nReferent\
 n\nChristian Töpfel-Gruber\, Dipl.-Ing.\nMitarbeiter im vorbeugenden Bran
 dschutz der Berufsfeuerwehr Augsburg\, Energieberatungen für Wohn- und Ni
 chtwohngebäude\, BlowerDoor-Messungen\n\n&nbsp\;\n\nThema\n\nFür ein sic
 heres Gebäude sind die baulichen\, technischen und organisatorischen Elem
 ente in einem geschlossenen Brandschutzkonzept darzustellen. Einige grundl
 egende Anforderungen an brandschutztechnische Eigenschaften von Bauteilen 
 ergeben sich aus der Größe und Struktur des Gebäudes. So sind zum Beisp
 iel Rettungsweglängen begrenzt oder höhere Gebäude sind in wesentlichen
  Teilen feuerbeständig zu errichten. Verschiedene Nutzungsaspekte bringen
  zusätzliche Anforderungen mit sich\, wie zum Beispiel Krankenhäuser\, V
 ersammlungsräume\, Industriebauten. Technische Einrichtungen\, wie unter 
 anderem Entrauchungssysteme\, Brandmeldeanlagen und Löschanlagen unterst
 ützen die baulichen Gegebenheiten oder können Sonderlösungen ermöglich
 en. Organisatorische Überlegungen oder Vorplanungen eines Feuerwehreinsat
 zes runden die Planungen ab. Schutzziele und Abweichungen sind hierbei aus
 gewogen auszugleichen.\n\n&nbsp\;\n\nPraktische Übungen\n\n\nMit direkten
  praktischen Übungen in einem offenen Forum soll die Herangehensweise an 
 Brandschutzkonzepte erschlossen werden. Die unterschiedlichen baulichen\, 
 rechtlichen und technischen Aspekte werden fallbezogen eingebracht und er
 örtert.\n\n&nbsp\;\n\nZielgruppe\n\nArchitekt*innen\, Planer*innen\, Baui
 ngenieur*innen\, Bausachverständige\, Handwerker*innen (insbesondere in d
 en Gewerken Zimmerei\, Trockenbau\, Putz / Stuck\, Fensterbau)\, Bauträge
 r*innen und Immobilienverwalter*innen\n\n&nbsp\;\n\nTeilnahmebedingungen f
 ür Seminare\n\nFalls ein/eine gemeldete/r Teilnehmer*in verhindert sein s
 ollte\, muss die Abmeldung spätestens am dritten Werktag vor der Veransta
 ltung schriftlich im Bauzentrum München eingegangen sein. Die volle Teiln
 ahmegebühr wird fällig\, wenn die schriftliche Abmeldung zu spät eingeh
 t oder der / die gemeldete Teilnehmer*in nicht bei der Veranstaltung ersch
 eint. Bei Ausfall der Veranstaltung werden keine Gebühren erhoben. Darüb
 er hinaus besteht kein Ersatzanspruch. Die Bezahlung erfolgt ausschließli
 ch per Überweisung nach Erhalt einer Rechnung. Die Rechnungsstellung erfo
 lgt nach der Veranstaltung.
CATEGORIES:Seminare
END:VEVENT
BEGIN:VTIMEZONE
TZID:Europe/Berlin
X-LIC-LOCATION:Europe/Berlin
BEGIN:DAYLIGHT
DTSTART:20200329T030000
TZOFFSETFROM:+0100
TZOFFSETTO:+0200
TZNAME:CEST
END:DAYLIGHT
END:VTIMEZONE
END:VCALENDAR