
BEGIN:VCALENDAR
VERSION:2.0
PRODID:-//wp-events-plugin.com//6.6.3//EN
TZID:Europe/Berlin
X-WR-TIMEZONE:Europe/Berlin
BEGIN:VEVENT
UID:0-156@veranstaltungen.muenchen.de
DTSTART;TZID=Europe/Berlin:20201022T130000
DTEND;TZID=Europe/Berlin:20201022T160000
DTSTAMP:20210331T143858Z
URL:https://veranstaltungen.muenchen.de/bauzentrum/veranstaltungen/seminar
 -kompakt-innen-daemmung/
SUMMARY:Web-Seminar Kompakt: Innen-Dämmung – riskant und nötig?
DESCRIPTION:Web-Seminar Kompakt:\nInnen-Dämmung – riskant und nötig?\n&
 nbsp\;\n\nHinweis:\n\nAuf Grund der aktuellen CORONA-Lage in München\, \n
 können zur Zeit im Bauzentrum München leider keine Präsenz-Veranstaltun
 gen stattfinden.\n\nDaher findet dieses Seminar nicht wie ursprünglich an
 gekündigt als Präsenz-Veranstaltung\,\nsondern als Online-Seminar statt.
 \nDie Veranstaltung wird durchgeführt mit Webex.\nRechtzeitig vor der Ver
 anstaltung erhalten angemeldete Personen den Zugangs-Link per E-Mail.\n&nb
 sp\;\n\nAnerkannte Fortbildungspunkte Energieeffizienz-Expertenliste:\n4 
  Unterrichtseinheiten Wohngebäude (KfW)\n4  Unterrichtseinheiten Nichtwo
 hngebäude (KfW)\n4  Unterrichtseinheiten Energieberatung im Mittelstand 
 (BAFA)\n\n&nbsp\;\n\nSchriftliche Anmeldung erforderlich\nEntweder direkt 
 online (siehe ganz unten auf dieser Seite)\noder mit dem Anmeldeformular (
 pdf) per E-Mail oder Fax.\n\nBestellschein Abo-Teilnahmekarten (pdf)\n\n&n
 bsp\;\n\nReferent\n\nJürgen Gänßmantel\, Dipl.-Ing. (FH)\nIngenieur- un
 d Sachverständigenbüro\, Beratender Ingenieur (Ing.-Kammer BaWü)\, ö.b
 .u.v. Sachverständiger (IHK)\, Sachverständiger für Energieeffizienz vo
 n Gebäuden (EIPOS)\, Energieberater Baudenkmale\, Mitgründer und 1. Vors
 itzender des Fachverbands Innendämmung e.V. (FVID)\, aktives Mitglied in 
 der WTA\, Lehrbeauftragter\n\n&nbsp\;\n\nThema\n\nAuf Grund feuchtetechnis
 cher Risiken ist bei der Innen-Dämmung eine besonders sorgfältige Planun
 g und gewissenhafte Ausführung erforderlich\, um nachfolgende Bauschäden
  zu vermeiden. Weil bei vielen Gebäuden\, z.B. bei Sichtfachwerk\, Sichtm
 auerwerk\, Stuckfassaden usw. nur die Innendämmung zur Reduzierung der W
 ärmeverluste der Gebäudehülle möglich ist\, hat das Wissen um eine qua
 litätsgesicherte Planung und Ausführung eine hohe Bedeutung. Die WTA-Mer
 kblätter 6-4\, 6-5 und 8-5 als Regelwerke bei Innendämmungen im Bestand 
 dienen im Seminar als Grundlage.\n\n&nbsp\;\n\nInhalt\n\n- Qualitätssiche
 rung von der Ausschreibung bis zur Abnahme\n- Anforderungen: EnEV\, KfW\, 
 Auftraggeber*in\n- Entscheidungskriterien für oder gegen die Innen-Dämmu
 ng\n- Bestandsaufnahme\, Materialauswahl\, Ausführungsdetails\n- Feuchtet
 echnische Nachweise für Innen-Dämmsysteme\n- Wärmebrücken\, Schadenspo
 tentiale\, Fehlervermeidung\n- Ausgewählte Praxisbeispiele und Fallstudie
 n\n- Innen-Dämmung und anlagentechnische Komponenten\n\n&nbsp\;\n\nZielgr
 uppe\n\nArchitekt*innen\, Planer*innen\, Bauingenieur*innen\, Bauträger*i
 nnen\, Energieberater*innen\, WDVS-Verarbeiter*innen\, Bauunternehmen\, Ba
 usachverständige\, technisch interessierte Hausverwalter*innen\n\n&nbsp\;
 \n\nTeilnahmebedingungen für Seminare\n\nFalls ein/eine gemeldete/r Teiln
 ehmer*in verhindert sein sollte\, muss die Abmeldung spätestens am dritte
 n Werktag vor der Veranstaltung schriftlich im Bauzentrum München eingega
 ngen sein. Die volle Teilnahmegebühr wird fällig\, wenn die schriftliche
  Abmeldung zu spät eingeht oder der / die gemeldete Teilnehmer*in nicht b
 ei der Veranstaltung erscheint. Bei Ausfall der Veranstaltung werden keine
  Gebühren erhoben. Darüber hinaus besteht kein Ersatzanspruch. Die Bezah
 lung erfolgt ausschließlich per Überweisung nach Erhalt einer Rechnung. 
 Die Rechnungsstellung erfolgt nach der Veranstaltung.
CATEGORIES:Seminare
END:VEVENT
BEGIN:VTIMEZONE
TZID:Europe/Berlin
X-LIC-LOCATION:Europe/Berlin
BEGIN:DAYLIGHT
DTSTART:20200329T030000
TZOFFSETFROM:+0100
TZOFFSETTO:+0200
TZNAME:CEST
END:DAYLIGHT
END:VTIMEZONE
END:VCALENDAR