
BEGIN:VCALENDAR
VERSION:2.0
PRODID:-//wp-events-plugin.com//6.6.3//EN
TZID:Europe/Berlin
X-WR-TIMEZONE:Europe/Berlin
BEGIN:VEVENT
UID:0-164@veranstaltungen.muenchen.de
DTSTART;TZID=Europe/Berlin:20201023T090000
DTEND;TZID=Europe/Berlin:20201023T120000
DTSTAMP:20210331T144154Z
URL:https://veranstaltungen.muenchen.de/bauzentrum/veranstaltungen/seminar
 -kompakt-dachbegruenung/
SUMMARY:Web-Seminar Kompakt: Dachbegrünung - Gestaltung und Ausführung
DESCRIPTION:Web-Seminar Kompakt:\nDachbegrünung - Gestaltung und Ausführu
 ng\nBauweisen\, Nutzen\, Schadensvermeidung\n\n&nbsp\;\n\nHinweis:\n\nAuf 
 Grund der aktuellen CORONA-Lage in München\, \nkönnen zur Zeit im Bauzen
 trum München leider keine Präsenz-Veranstaltungen stattfinden.\n\nDaher 
 findet dieses Seminar nicht wie ursprünglich angekündigt als Präsenz-Ve
 ranstaltung\,\nsondern als Online-Seminar statt.\nDie Veranstaltung wird d
 urchgeführt mit Webex.\nRechtzeitig vor der Veranstaltung erhalten angeme
 ldete Personen den Zugangs-Link per E-Mail.\n&nbsp\;\n\nAnerkannte Fortbil
 dungspunkte Energieeffizienz-Expertenliste:\n0 Unterrichtseinheiten Wohnge
 bäude (KfW)\n0 Unterrichtseinheiten Nichtwohngebäude (KfW)\n0 Unterricht
 seinheiten Energieberatung im Mittelstand (BAFA)\n\n&nbsp\;\n\nSchriftlich
 e Anmeldung erforderlich\nEntweder direkt online (siehe ganz unten auf die
 ser Seite)\noder mit dem Anmeldeformular (pdf) per E-Mail oder Fax.\n\nBes
 tellschein Abo-Teilnahmekarten (pdf)\n\n&nbsp\;\n\nReferentin\n\nProf. Dr.
 -Ing. Nicole Pfoser\, Architektin\, Master of Landscape Architecture\,\nVi
 ze-Präsidentin Fachvereinigung Bauwerksbegrünung e.V. (FBB)\n\n&nbsp\;\n
 \nThema\n\nDas Seminar erschließt wegweisende Perspektiven für das zukü
 nftige Planen und Bauen\, erforderlich wegen des Klimawandels\, als Anpass
 ung an Klima-Änderungen\, als Ausgleich für die zunehmende städtische V
 erdichtung und wegen der erweiterten Nutzungs-Anforderungen an Dächer. Di
 e Anwendungsformen der Dachbegrünung haben sich heutigen Erfordernissen u
 nd Möglichkeiten angepasst. Mit modularen Aufbausystemen\, Wirkungsgrad-V
 erbesserung bei der solaren Energiegewinnung bis hin zu Sonderformen der D
 achbegrünung steht heute eine große Bandbreite technischer und gestalter
 ischer Systemlösungen zur Verfügung. Das Seminar bietet hierzu einen Üb
 erblick und stellt Synergien und Nutzungsvorteile für das energieeffizien
 te Bauen dar. Neue wissenschaftliche Erkenntnissen zur Gebäudebegrünung 
 sowie die Auswertung ihrer gestalterischen\, ökologischen und wirtschaftl
 ichen Vorteile werden vorgestellt.\n\n&nbsp\;\n\nInhalt\n\n- Technische un
 d wirtschaftliche Übersicht von Begrünungs-Systemen\n- Anwendungskriteri
 en\, Potenziale\, Wirkungen auf Gebäude und Umfeld\n- Planungsgrundlagen 
 und geeignete Pflanzenverwendung\n- Einflussfaktoren auf Planung und Umset
 zung von Dachbegrünungen\n- Praxisorientierte Handlungsempfehlungen\n\n&n
 bsp\;\n\nZielgruppe\n\nArchitekt*innen\, Bauingenieur*innen\, Fachplaner*i
 nnen\, Handwerker*innen\, Sachverständige\,  Investor*innen\, Bauträger
 *innen\, Verwalter*innen\, Beiräte\, Bauherr*innen und Studierende\n\n&nb
 sp\;\n\nTeilnahmebedingungen für Seminare\n\nFalls ein/eine gemeldete/r T
 eilnehmer*in verhindert sein sollte\, muss die Abmeldung spätestens am dr
 itten Werktag vor der Veranstaltung schriftlich im Bauzentrum München ein
 gegangen sein. Die volle Teilnahmegebühr wird fällig\, wenn die schriftl
 iche Abmeldung zu spät eingeht oder der / die gemeldete Teilnehmer*in nic
 ht bei der Veranstaltung erscheint. Bei Ausfall der Veranstaltung werden k
 eine Gebühren erhoben. Darüber hinaus besteht kein Ersatzanspruch. Die B
 ezahlung erfolgt ausschließlich per Überweisung nach Erhalt einer Rechnu
 ng. Die Rechnungsstellung erfolgt nach der Veranstaltung.
CATEGORIES:Seminare
END:VEVENT
BEGIN:VTIMEZONE
TZID:Europe/Berlin
X-LIC-LOCATION:Europe/Berlin
BEGIN:DAYLIGHT
DTSTART:20200329T030000
TZOFFSETFROM:+0100
TZOFFSETTO:+0200
TZNAME:CEST
END:DAYLIGHT
END:VTIMEZONE
END:VCALENDAR