
BEGIN:VCALENDAR
VERSION:2.0
PRODID:-//wp-events-plugin.com//6.6.3//EN
TZID:Europe/Berlin
X-WR-TIMEZONE:Europe/Berlin
BEGIN:VEVENT
UID:0-60@veranstaltungen.muenchen.de
DTSTART;TZID=Europe/Berlin:20200715T090000
DTEND;TZID=Europe/Berlin:20200715T120000
DTSTAMP:20200714T114312Z
URL:https://veranstaltungen.muenchen.de/bauzentrum/veranstaltungen/seminar
 -kompakt-brandschutz-im-bestand/
SUMMARY:Seminar Kompakt: Brandschutz im Bestand
DESCRIPTION:Kompaktseminar:\nBrandschutz im Bestand\n&nbsp\;\n\nAnerkannte 
 Fortbildungspunkte Energieeffizienz-Expertenliste:\n2 Unterrichtseinheiten
  Wohngebäude (KfW)\n2 Unterrichtseinheiten Nichtwohngebäude (KfW)\n2 Unt
 errichtseinheiten Energieberatung im Mittelstand (BAFA)\n\n&nbsp\;\n\nSemi
 narbeschreibung (pdf)\n\n&nbsp\;\n\nSchriftliche Anmeldung erforderlich\nE
 ntweder direkt online (siehe ganz unten auf dieser Seite)\noder mit dem An
 meldeformular (pdf) per E-Mail oder Fax.\n\nBestellschein Abo-Teilnahmekar
 ten (pdf)\n\n&nbsp\;\n\nAuf Grund der CORONA-Pandemie gelten bei Veranstal
 tungen\nim Bauzentrum München spezielle Hygienevorschriften.\nIm Interess
 e Ihrer eigenen Gesundheit und der Gesundheit anderer Personen\nfordern wi
 r Sie zur Beachtung dieser Anweisungen auf.\n\nHygienekonzept Veranstaltun
 gen Bauzentrum München (pdf)\n\n&nbsp\;\n\nReferent\n\nChristian Steinleh
 ner\, Dipl.-Ing. (FH)\, Architekt\nBrandschutzfachplaner\, Mitglied in der
  Vereinigung der Brandschutzplaner e.V. (VdBP)\n\n&nbsp\;\n\nThema\n\nSeit
  der Novellierung der Bayerischen Bauordnung beginnend 1998 und zuletzt im
  August 2007 (in Kraft getreten am 1. Januar 2008) übernehmen die Planeri
 nnen und Planer eine größere Verantwortung beim Brandschutz. Hierzu ist 
 ein Brandschutz-Nachweis zu erstellen.  Beim Bauen im Bestand ist insbeso
 ndere der „Bestandsschutz“ von Bedeutung.\n\n&nbsp\;\n\nInhalt\n\nDas 
 Seminar zeigt anhand von Beispielen aus der Praxis zunächst wichtige Rech
 tsgrundlagen und Begriffe rund um den Brandschutz auf. Anschließend werde
 n Inhalte und Verantwortlichkeiten eines Brandschutz-Nachweises erläutert
 . Im nächsten Abschnitt werden die Besonderheiten beim Bauen im Bestand i
 m Hinblick auf den Brandschutz diskutiert und insbesondere der „Bestands
 schutz“ hierbei näher betrachtet.\n\n 	Der Brandschutz-Nachweis\n 	Bran
 dschutz im Bestand\n 	Praktische Beispiele\n 	Dokumentation von Maßnahmen
 \n 	Notwendige Qualifikation der Baubeteiligten\n\n&nbsp\;\n\nZielgruppe\n
 \nArchitekt*innen\, Bauingenieur*innen\, Sachverständige\, Handwerker*inn
 en\, Unternehmer*innen\, Bauträger*innen\, Bauherr*innen\, Baufirmen\, Ha
 usverwaltungen\, Beirät*innen\, Makler*innen\, Immobilienfachwirt*innen u
 nd Studierende\n\n&nbsp\;\n\nTeilnahmebedingungen für Seminare\n\nFalls e
 in/eine gemeldete/r Teilnehmer*in verhindert sein sollte\, muss die Abmeld
 ung spätestens am dritten Werktag vor der Veranstaltung schriftlich im Ba
 uzentrum München eingegangen sein. Die volle Teilnahmegebühr wird fälli
 g\, wenn die schriftliche Abmeldung zu spät eingeht oder der / die gemeld
 ete Teilnehmer*in nicht bei der Veranstaltung erscheint. Bei Ausfall der V
 eranstaltung werden keine Gebühren erhoben. Darüber hinaus besteht kein 
 Ersatzanspruch. Die Bezahlung erfolgt ausschließlich per Überweisung nac
 h Erhalt einer Rechnung. Die Rechnungsstellung erfolgt nach der Veranstalt
 ung.
CATEGORIES:Seminare
LOCATION:Bauzentrum München\, Konrad-Zuse-Platz 12 (Eingang: Konrad-Zuse-P
 latz 8)\, München\, Bayern\, 81829\, Deutschland
GEO:48.138166;11.689028
X-APPLE-STRUCTURED-LOCATION;VALUE=URI;X-ADDRESS=Konrad-Zuse-Platz 12 (Einga
 ng: Konrad-Zuse-Platz 8)\, München\, Bayern\, 81829\, Deutschland;X-APPLE
 -RADIUS=100;X-TITLE=Bauzentrum München:geo:48.138166,11.689028
END:VEVENT
BEGIN:VTIMEZONE
TZID:Europe/Berlin
X-LIC-LOCATION:Europe/Berlin
BEGIN:DAYLIGHT
DTSTART:20200329T030000
TZOFFSETFROM:+0100
TZOFFSETTO:+0200
TZNAME:CEST
END:DAYLIGHT
END:VTIMEZONE
END:VCALENDAR