
BEGIN:VCALENDAR
VERSION:2.0
PRODID:-//wp-events-plugin.com//6.6.3//EN
TZID:Europe/Berlin
X-WR-TIMEZONE:Europe/Berlin
BEGIN:VEVENT
UID:0-65@veranstaltungen.muenchen.de
DTSTART;TZID=Europe/Berlin:20201202T160000
DTEND;TZID=Europe/Berlin:20201202T190000
DTSTAMP:20210401T084619Z
URL:https://veranstaltungen.muenchen.de/bauzentrum/veranstaltungen/seminar
 -baurecht-nachtraege-am-bau/
SUMMARY:Web-Seminar Baurecht: Nachträge am Bau - ein rechtlicher Leitfaden
DESCRIPTION:Web-Seminar Baurecht:\nNachträge am Bau - ein rechtlicher Leit
 faden\n(inklusive der aktuellen Reform des Bauvertragsrechts im BGB)\n\n&n
 bsp\;\n\nAuf Grund der aktuellen CORONA-Lage in München\, \nkönnen zur Z
 eit im Bauzentrum München leider keine Präsenz-Veranstaltungen stattfind
 en.\n\nDaher findet dieses Seminar nicht wie ursprünglich angekündigt al
 s Präsenz-Veranstaltung\,\nsondern als Online-Seminar statt.\nDie Veranst
 altung wird durchgeführt mit Webex.\nRechtzeitig vor der Veranstaltung er
 halten angemeldete Personen den Zugangs-Link per E-Mail.\n&nbsp\;\n\nAnerk
 annte Fortbildungspunkte Energieeffizienz-Expertenliste:\n0  Unterrichtse
 inheiten Wohngebäude (KfW)\n0  Unterrichtseinheiten Nichtwohngebäude (K
 fW)\n0  Unterrichtseinheiten Energieberatung im Mittelstand (BAFA)\n\n&nb
 sp\;\n\nSchriftliche Anmeldung erforderlich\nEntweder direkt online (siehe
  ganz unten auf dieser Seite)\noder mit dem Anmeldeformular (pdf) per E-Ma
 il oder Fax.\n\nBestellschein Abo-Teilnahmekarten (pdf)\n\n&nbsp\;\n\nRefe
 rent\n\nCornelius Hartung\, Rechtsanwalt\, Fachanwalt für Bau- und Archit
 ektenrecht\,\nFachanwalt für Vergaberecht\, Partner der Goede Althaus Rec
 htsanwälte\, Mitautor des 4-bändigen Loseblattwerks „Erfolg in Baustre
 itigkeiten“ und des Handbuchs für Energieberater\, Mitarbeiter der Zeit
 schrift für Vergaberecht\, Mitautor im Beck`schen VOB/B-Kommentar\, Berat
 er im Bauzentrum München und Mitglied im Netzwerk Bau Kompetenz München 
 (BKM)\n\n&nbsp\;\n\nThema\n\nZiel des Seminars ist es\, den Teilnehmerinne
 n und Teilnehmern einen Leitfaden an die Hand zu geben\, um Nachträge am 
 Bau konfliktfrei zu bewältigen. Es werden die verschiedenen Möglichkeite
 n von Nachträgen und deren sachgerechte Behandlung unter Berücksichtigun
 g der aktuellen Reform des Bauvertragsrechts im BGB vorgestellt.\n\n&nbsp\
 ;\n\nInhalt\n\n 	Begründetheit von Vergütungsansprüchen bei Mengenmehru
 ngen\, Änderungs- und\n 	Zusatzleistungen nach der VOB/B und BGB\n 	Ermit
 tlung des „neuen“ Preises\n 	Auswirkung von Nachlass und Skonto auf Na
 chträge\n 	Formale Anforderungen der VOB/B an die Fälligkeit und Verzins
 ung von Rechnungen\n 	Strategien zur Vermeidung von häufigen Konfliktsitu
 ationen wie Arbeitseinstellung oder\n 	Vertreter*in ohne Vertretungsmacht\
 n 	Abgrenzung Einheitspreisvertrag zu Detail- und Globalpauschalpreisvertr
 ag\n 	Nachträge unter Berücksichtigung der aktuellen Reform des Bauvertr
 agsrechts im BGB\n\n&nbsp\;\n\nZielgruppe\n\nDas Seminar wendet sich an al
 le\, die sich mit dem Bauen bzw. mit Streitfragen am Bau beschäftigen: Au
 ftraggeber*innen (Bauleute aller Art)\, Auftragnehmer*innen\, Architekt*in
 nen\, Bauingenieur*innen\, Bausachverständige\, Bauträger*innen\, Studie
 rende der Fachrichtung Bau und Vertreter*innen von Behörden.\n\n&nbsp\;\n
 \nTeilnahmebedingungen für Seminare\n\nFalls ein/eine gemeldete/r Teilneh
 mer*in verhindert sein sollte\, muss die Abmeldung spätestens am dritten 
 Werktag vor der Veranstaltung schriftlich im Bauzentrum München eingegang
 en sein. Die volle Teilnahmegebühr wird fällig\, wenn die schriftliche A
 bmeldung zu spät eingeht oder der / die gemeldete Teilnehmer*in nicht bei
  der Veranstaltung erscheint. Bei Ausfall der Veranstaltung werden keine G
 ebühren erhoben. Darüber hinaus besteht kein Ersatzanspruch. Die Bezahlu
 ng erfolgt ausschließlich per Überweisung nach Erhalt einer Rechnung. Di
 e Rechnungsstellung erfolgt nach der Veranstaltung.
CATEGORIES:Seminare
END:VEVENT
BEGIN:VTIMEZONE
TZID:Europe/Berlin
X-LIC-LOCATION:Europe/Berlin
BEGIN:STANDARD
DTSTART:20201025T020000
TZOFFSETFROM:+0200
TZOFFSETTO:+0100
TZNAME:CET
END:STANDARD
END:VTIMEZONE
END:VCALENDAR