
BEGIN:VCALENDAR
VERSION:2.0
PRODID:-//wp-events-plugin.com//6.6.3//EN
TZID:Europe/Berlin
X-WR-TIMEZONE:Europe/Berlin
BEGIN:VEVENT
UID:0-1122@veranstaltungen.muenchen.de
DTSTART;TZID=Europe/Berlin:20231013T150000
DTEND;TZID=Europe/Berlin:20231016T193000
DTSTAMP:20230928T140217Z
URL:https://veranstaltungen.muenchen.de/bauzentrum/veranstaltungen/rethink
 -muenchen-veranstaltung-vorlage/
SUMMARY:Re:think München Veranstaltung: Solarworkshop: Holen Sie Ihren Str
 om vom Balkon!
DESCRIPTION:    \n\nDiese Veranstaltung unterstützt Wattbewerb München:
  muenchen.de/wattbewerb\n\n&nbsp\;\n\nVeranstaltung von Re:think München\
 nSolarworkshop: Holen Sie Ihren Strom vom Balkon!\n&nbsp\;\n\nGebrauchte S
 olarmodule bekommen ein zweites Leben auf Ihrem Balkon. Am Freitag\, den 1
 3. Oktober von 15 bis 19 Uhr\, am Samstag\, den 14. Oktober 2023 von 9 bis
  13 Uhr und von 15 bis 19 Uhr sowie am Montag\, den 16. Oktober von 15:30 
 bis 19:30 Uhr veranstaltet die Stadt München DIY-Workshops. Hier können 
 die Bürger*innen von Sendling-Westpark aus gebrauchten Solarmodulen neue 
 kleine Solarstromanlagen für ihre Balkone zusammenbauen.\n\n&nbsp\;\n\nht
 tps://rethink-muenchen.de/solarworkshop/
CATEGORIES:Partner*innen-Veranstaltungen,Veranstaltungen zur Solarenergie
END:VEVENT
BEGIN:VTIMEZONE
TZID:Europe/Berlin
X-LIC-LOCATION:Europe/Berlin
BEGIN:DAYLIGHT
DTSTART:20230326T030000
TZOFFSETFROM:+0100
TZOFFSETTO:+0200
TZNAME:CEST
END:DAYLIGHT
END:VTIMEZONE
END:VCALENDAR