
BEGIN:VCALENDAR
VERSION:2.0
PRODID:-//wp-events-plugin.com//6.6.3//EN
TZID:Europe/Berlin
X-WR-TIMEZONE:Europe/Berlin
BEGIN:VEVENT
UID:0-1929@veranstaltungen.muenchen.de
DTSTART;TZID=Europe/Berlin:20250705T100000
DTEND;TZID=Europe/Berlin:20250705T170000
DTSTAMP:20250702T141523Z
URL:https://veranstaltungen.muenchen.de/bauzentrum/veranstaltungen/praesen
 z-veranstaltung-tag-der-muenchner-dachgaerten/
SUMMARY:Präsenz-Veranstaltung: Tag der Münchner Dachgärten
DESCRIPTION:                \n\nPräsenz-Veranstaltung des Referats
  für Stadtplanung und Bauordnung im Fat Cat (ehemaliger Gasteig)\n\n&nbsp
 \;\nTag der Münchner Dachgärten\n&nbsp\;\n\nSteigen Sie am 5. Juli aufs 
 Dach! Von 9 bis 18 Uhr gibt es für interessierte Besucher*innen zahlreich
 e Führungen auf Münchner Dächer – und Infostände am Fat Cat.\n\nBesi
 chtigt werden können mehr als 15 Dächer\, die sonst ausschließlich den 
 dort wohnenden oder arbeitenden Menschen vorbehalten sind. Erfahren Sie me
 hr über die verschiedenen Nutzungsmöglichkeiten von Dächern und genieß
 en Sie die Ausblicke über die Stadt!\n\n&nbsp\;\n\nInfostände am Fat Cat
 \n\n&nbsp\;\n\nWelche Möglichkeiten gibt es\, ein Dach zu begrünen? Was 
 muss ich dabei beachten? Und wo kann ich Fördermittel beantragen? Diese u
 nd viele weitere Fragen beantworten Fachleute an mehreren Infoständen am 
 Fat Cat (ehemaliger Gasteig).\n\nDie Teilnehmenden Partner*innen sind Verb
 ände und Institutionen\, die sich mit dem Thema Dachbegrünung und Photov
 oltaik auf dem Dach befassen. Sie informieren unter anderem über Dachbegr
 ünung\, Photovoltaik und Fördermöglichkeiten.\n\n&nbsp\;\n\nLink zur We
 bseite\n\n&nbsp\;\n\nTeilnahme kostenfrei - Anmeldung nicht erforderlich
CATEGORIES:Sonder-Veranstaltungen
LOCATION:Fat Cat (ehemaliger Gasteig)\, Kellerstr. 8a\, München\, Bayern\,
  81667\, Deutschland
GEO:48.131243;11.592304
X-APPLE-STRUCTURED-LOCATION;VALUE=URI;X-ADDRESS=Kellerstr. 8a\, München\, 
 Bayern\, 81667\, Deutschland;X-APPLE-RADIUS=100;X-TITLE=Fat Cat (ehemalige
 r Gasteig):geo:48.131243,11.592304
END:VEVENT
BEGIN:VTIMEZONE
TZID:Europe/Berlin
X-LIC-LOCATION:Europe/Berlin
BEGIN:DAYLIGHT
DTSTART:20250330T030000
TZOFFSETFROM:+0100
TZOFFSETTO:+0200
TZNAME:CEST
END:DAYLIGHT
END:VTIMEZONE
END:VCALENDAR