
BEGIN:VCALENDAR
VERSION:2.0
PRODID:-//wp-events-plugin.com//6.6.3//EN
TZID:Europe/Berlin
X-WR-TIMEZONE:Europe/Berlin
BEGIN:VEVENT
UID:0-232@veranstaltungen.muenchen.de
DTSTART;TZID=Europe/Berlin:20201110T183000
DTEND;TZID=Europe/Berlin:20201110T193000
DTSTAMP:20210401T084022Z
URL:https://veranstaltungen.muenchen.de/bauzentrum/veranstaltungen/online-
 vortrag-mvhs-smart-home/
SUMMARY:Online-Vortrag MVHS: Smart Home: Lifestyle oder Klimaschutz ?
DESCRIPTION:Online-Vortrag vom Bauzentrum München bei der MVHS\nSmart Home
 : Lifestyle oder Klimaschutz ?\n&nbsp\;\n\nTeilnahme kostenfrei - Anmeldun
 g bei der MVHS erforderlich:\n\nhttps://www.mvhs.de/programm/energie-waerm
 e.6986/L324918\n\n&nbsp\;\n\nReferent:\n\nRudi Seibt\, Dipl.-Ing. Elektrot
 echnik\, Planer\, Sachverständiger\n\n&nbsp\;\n\nDie Versprechen der Werb
 ung lauten: "Alles geht von allein" und "Jederzeit Zugriff auf die Technik
  in meinem Heim" - für viele Kundinnen und Kunden ist Home 4.0. daher vor
  allem ein Lifestyle-Produkt. Aber "smart" heißt ja intelligent\, so dass
  diese Technik auch einen nennenswerten Beitrag zur Reduzierung der CO2-Fr
 eisetzung beim Wohnen leisten kann. Wie das geht? Durch eine intelligente 
 Verknüpfung der Verbraucher mit den verfügbaren Energiequellen\, die Nut
 zung eigenen Solarstroms mit stationären oder mobilen Batteriespeichern u
 nd einer intelligenten Kombination von Solarwärmesammlern mit Raumwärme-
 Organisation. So können Sie Ihren Energieverbrauch entscheidend verringer
 n!
CATEGORIES:Infovorträge - Führungen - Infotage
END:VEVENT
BEGIN:VTIMEZONE
TZID:Europe/Berlin
X-LIC-LOCATION:Europe/Berlin
BEGIN:STANDARD
DTSTART:20201025T020000
TZOFFSETFROM:+0200
TZOFFSETTO:+0100
TZNAME:CET
END:STANDARD
END:VTIMEZONE
END:VCALENDAR