
BEGIN:VCALENDAR
VERSION:2.0
PRODID:-//wp-events-plugin.com//6.6.3//EN
TZID:Europe/Berlin
X-WR-TIMEZONE:Europe/Berlin
BEGIN:VEVENT
UID:0-313@veranstaltungen.muenchen.de
DTSTART;TZID=Europe/Berlin:20210302T183000
DTEND;TZID=Europe/Berlin:20210302T193000
DTSTAMP:20210401T090034Z
URL:https://veranstaltungen.muenchen.de/bauzentrum/veranstaltungen/online-
 vortrag-bauzentrum-bei-der-mvhs-vorlage/
SUMMARY:Online-Vortrag Bauzentrum bei der MVHS: Strom erzeugen auf dem eige
 nen Balkon
DESCRIPTION:Online-Vortrag vom Bauzentrum München bei der MVHS\nStrom erze
 ugen auf dem eigenen Balkon\n&nbsp\;\n\nTeilnahme kostenfrei - Anmeldung b
 ei der MVHS erforderlich:\n\nhttps://www.mvhs.de/programm/umwelt-natur-wis
 senschaft.19734/M324401\n\n&nbsp\;\n\n&nbsp\;\n\nReferent*in: Janko Krosch
 l\, Dipl.-Ing. Elektrotechnik\n\n \n\nSolar- Anlagen für die Steckdose m
 achen es seit Kurzem möglich\, sogar auf dem eigenen Balkon Strom zu erze
 ugen und in das Stromnetz der Wohnung einzuspeisen. So können zwischen 5 
 und 20 Prozent des durchschnittlichen Strombedarfs eines Haushalts abgedec
 kt werden. Die praktischen und rechtlichen Rahmenbedingungen\, sowie eine 
 Kosten-Nutzen-Analyse werden im Vortrag von Janko Kroschl erläutert. Indi
 viduelle Fragen sind möglich.
CATEGORIES:Infovorträge - Führungen - Infotage
END:VEVENT
BEGIN:VTIMEZONE
TZID:Europe/Berlin
X-LIC-LOCATION:Europe/Berlin
BEGIN:STANDARD
DTSTART:20201025T020000
TZOFFSETFROM:+0200
TZOFFSETTO:+0100
TZNAME:CET
END:STANDARD
END:VTIMEZONE
END:VCALENDAR