
BEGIN:VCALENDAR
VERSION:2.0
PRODID:-//wp-events-plugin.com//6.6.3//EN
TZID:Europe/Berlin
X-WR-TIMEZONE:Europe/Berlin
BEGIN:VEVENT
UID:0-257@veranstaltungen.muenchen.de
DTSTART;TZID=Europe/Berlin:20210112T190000
DTEND;TZID=Europe/Berlin:20210112T200000
DTSTAMP:20210401T084839Z
URL:https://veranstaltungen.muenchen.de/bauzentrum/veranstaltungen/online-
 veranstaltung-mvhs-elektroauto-klimaretter-oder-umweltgau/
SUMMARY:Online-Veranstaltung MVHS: Elektroauto: Klimaretter oder Umwelt-GAU
 ?
DESCRIPTION:Elektroauto: Klimaretter oder Umwelt-GAU?\n\n&nbsp\;\n\nhttps:/
 /www.mvhs.de/programm/energie-waerme.6986/L324940
CATEGORIES:Partner*innen-Veranstaltungen
END:VEVENT
BEGIN:VTIMEZONE
TZID:Europe/Berlin
X-LIC-LOCATION:Europe/Berlin
BEGIN:STANDARD
DTSTART:20201025T020000
TZOFFSETFROM:+0200
TZOFFSETTO:+0100
TZNAME:CET
END:STANDARD
END:VTIMEZONE
END:VCALENDAR