
BEGIN:VCALENDAR
VERSION:2.0
PRODID:-//wp-events-plugin.com//6.6.3//EN
TZID:Europe/Berlin
X-WR-TIMEZONE:Europe/Berlin
BEGIN:VEVENT
UID:0-341@veranstaltungen.muenchen.de
DTSTART;TZID=Europe/Berlin:20210420T180000
DTEND;TZID=Europe/Berlin:20210420T190000
DTSTAMP:20210331T140801Z
URL:https://veranstaltungen.muenchen.de/bauzentrum/veranstaltungen/online-
 infoabend-wohnraumlueftung/
SUMMARY:Online-Infoabend: Wohnraumlüftung zur Feuchtevermeidung
DESCRIPTION:Online-Infoabend vom Bauzentrum München:\nWohnraumlüftung zur
  Feuchtevermeidung\n\n&nbsp\;\n\nTeilnahme kostenfrei - Anmeldung erforder
 lich - siehe unten\n\n&nbsp\;\n\nReferent: Alexander Schaaf\, staatlich ge
 prüfter Techniker\, Sachverständiger\n\n&nbsp\;\nAlle Online-Veranstaltu
 ngen vom Bauzentrum München werden mit Webex Events durchgeführt.\nAngem
 eldete Personen erhalten rechtzeitig vor der Veranstaltung den Teilnahme-L
 ink per E-Mail.\n&nbsp\;\n\nDurch die aus Energiespargründen geforderte L
 uftdichtheit in Wohnräumen ist der unkontrollierte und ungeregelte Luftau
 stausch über die Fensterfugen nicht mehr gewährleistet. Frühere Kastenf
 enster hatten einen Luftaustausch durch die Undichtigkeiten von 7-10 mal p
 ro Stunde. Es wurde zum Fenster raus geheizt und die trockene Luft musste 
 künstlich befeuchtet werden. Jetzige Fenster verhindern Energieverluste\,
  verhindern aber auch den notwendigen Luftaustausch. Dieser Luftaustausch 
 und Feuchteabtransport wird über Fensterlüftung versucht. Versucht desha
 lb\, weil berufstätige eigentlich nur 2-3 mal täglich lüften können un
 d dies meist nicht ausreicht. Die logische Konsequenz ist eine mechanische
  Lüftungsanlage. Die gesetzlichen Vorgaben\, gültige Normen und die einz
 elnen Systeme mit ihren Vor-und Nachteilen beleuchtet Alexander Schaaf in 
 seinem Vortrag.
CATEGORIES:Infovorträge - Führungen - Infotage
END:VEVENT
BEGIN:VTIMEZONE
TZID:Europe/Berlin
X-LIC-LOCATION:Europe/Berlin
BEGIN:DAYLIGHT
DTSTART:20210328T030000
TZOFFSETFROM:+0100
TZOFFSETTO:+0200
TZNAME:CEST
END:DAYLIGHT
END:VTIMEZONE
END:VCALENDAR