
BEGIN:VCALENDAR
VERSION:2.0
PRODID:-//wp-events-plugin.com//6.6.3//EN
TZID:Europe/Berlin
X-WR-TIMEZONE:Europe/Berlin
BEGIN:VEVENT
UID:0-289@veranstaltungen.muenchen.de
DTSTART;TZID=Europe/Berlin:20210223T180000
DTEND;TZID=Europe/Berlin:20210223T190000
DTSTAMP:20210401T085822Z
URL:https://veranstaltungen.muenchen.de/bauzentrum/veranstaltungen/online-
 infoabend-gesunde-beleuchtung/
SUMMARY:Online-Infoabend: Gesunde Beleuchtung mit modernen Leuchtmitteln
DESCRIPTION:Online-Infoabend:\nGesunde Beleuchtung mit modernen Leuchtmitte
 ln\n&nbsp\;\n\nTeilnahme kostenfrei - Anmeldung erforderlich - siehe unten
 \n\n&nbsp\;\n\nReferent*in: Pamela Jentner\, Dipl. -Biol. (Univ.)\, Baubio
 login (IBN)\n\n&nbsp\;\nAlle Online-Veranstaltungen vom Bauzentrum Münche
 n werden mit Webex Events durchgeführt:\nhttps://help.webex.com/de-de/kwm
 j5eb/Join-a-Cisco-Webex-Event\nAngemeldete Personen erhalten rechtzeitig v
 or der Veranstaltung den Einladungs-Link per E-Mail.\n&nbsp\;\n\n(Beschrei
 bungstext)
CATEGORIES:Infovorträge - Führungen - Infotage
END:VEVENT
BEGIN:VTIMEZONE
TZID:Europe/Berlin
X-LIC-LOCATION:Europe/Berlin
BEGIN:STANDARD
DTSTART:20201025T020000
TZOFFSETFROM:+0200
TZOFFSETTO:+0100
TZNAME:CET
END:STANDARD
END:VTIMEZONE
END:VCALENDAR