
BEGIN:VCALENDAR
VERSION:2.0
PRODID:-//wp-events-plugin.com//6.6.3//EN
TZID:Europe/Berlin
X-WR-TIMEZONE:Europe/Berlin
BEGIN:VEVENT
UID:0-268@veranstaltungen.muenchen.de
DTSTART;TZID=Europe/Berlin:20210119T180000
DTEND;TZID=Europe/Berlin:20210119T190000
DTSTAMP:20210401T085122Z
URL:https://veranstaltungen.muenchen.de/bauzentrum/veranstaltungen/online-
 infoabend-gebaeudebegruenung/
SUMMARY:Online-Infoabend: Gebäudebegrünung zur Anpassung an den Klimawand
 el
DESCRIPTION:Online-Infoabend:\nGebäudebegrünung zur Anpassung an den Klim
 awandel\n&nbsp\;\n\nTeilnahme kostenfrei - Anmeldung erforderlich - siehe 
 unten\n\n&nbsp\;\n\nReferent: Wolfgang Heidenreich\, Dipl.-Ing. Landschaft
 sarchitekt bdla\,  Begrünungsbüro bei Green City e.V.\n\n\n&nbsp\;\nAll
 e Online-Veranstaltungen vom Bauzentrum München werden mit Webex Events d
 urchgeführt:\nhttps://help.webex.com/de-de/kwmj5eb/Join-a-Cisco-Webex-Eve
 nt\nAngemeldete Personen erhalten rechtzeitig vor der Veranstaltung den Te
 ilnahme-Link per E-Mail.\n&nbsp\;\n\nJeder kann etwas tun\, um ein für si
 ch angenehmes Mikroklima in seinem Wohnbereich zu schaffen. Dach- und Fass
 adenbegrünung kühlen Haus und hausnahe Freianlagen. Pflanzen sind natür
 liche Klimaanlagen. Außerdem wird das Gebäude vor Witterungseinflüssen 
 geschützt. Weitere Vorteile der Gebäudebegrünung sind die Erhöhung der
  Biodiversität\, die Feinstaubbindung und die Lärmreduzierung. Wie gehe 
 ich jetzt vor? Was muss ich beachten? Wer hilft mir? Diese und auch noch w
 eitere Fragen beantwortet der Vortrag.
CATEGORIES:Infovorträge - Führungen - Infotage
END:VEVENT
BEGIN:VTIMEZONE
TZID:Europe/Berlin
X-LIC-LOCATION:Europe/Berlin
BEGIN:STANDARD
DTSTART:20201025T020000
TZOFFSETFROM:+0200
TZOFFSETTO:+0100
TZNAME:CET
END:STANDARD
END:VTIMEZONE
END:VCALENDAR