
BEGIN:VCALENDAR
VERSION:2.0
PRODID:-//wp-events-plugin.com//6.6.3//EN
TZID:Europe/Berlin
X-WR-TIMEZONE:Europe/Berlin
BEGIN:VEVENT
UID:0-287@veranstaltungen.muenchen.de
DTSTART;TZID=Europe/Berlin:20210211T180000
DTEND;TZID=Europe/Berlin:20210211T190000
DTSTAMP:20210401T085608Z
URL:https://veranstaltungen.muenchen.de/bauzentrum/veranstaltungen/online-
 infoabend-energieausweis/
SUMMARY:Online-Infoabend: Energieausweis\, Wärmebedarf\, GEG und Energiebe
 ratungs-Pflicht
DESCRIPTION:Online-Infoabend\n\nEnergieausweis\, Wärmebedarf\, GEG und Ene
 rgieberatungs-Pflicht\n\n&nbsp\;\n\nTeilnahme kostenfrei - Anmeldung erfor
 derlich - siehe unten\n\n&nbsp\;\n\nReferent*in: Gisela Kienzle\, Dipl.Ing
 . (FH) Architektin\n\n&nbsp\;\nAlle Online-Veranstaltungen vom Bauzentrum 
 München werden mit Webex Events durchgeführt:\nhttps://help.webex.com/de
 -de/kwmj5eb/Join-a-Cisco-Webex-Event\nAngemeldete Personen erhalten rechtz
 eitig vor der Veranstaltung den Einladungs-Link per E-Mail.\n&nbsp\;\n\nAm
  01.11.2021 wurde die EnEV (Energieeinsparverordnung und das EEWärmeG (Er
 neuerbare-Energien-Wärmegesetz) durch das GEG (Gebäudeenergiengesetz) ab
 gelöst. Daraus ergibt sich die Verpflichtung zur Ausstellung eines Energi
 eausweises. Ebenfalls wurde im Verkaufsfall und bei größeren Sanierungen
  von Ein- und Zweifamilienhäusern eine obligatorische energetische Beratu
 ng der Käufer*innen bzw. Eigentümer*innen verankert. Wann muss ein Energ
 ieausweis (Wohngebäude) erstellt werden und in welcher Form? Wer stellt d
 iese aus? Wer bietet die Beratungen an? Architektin Gisela Kienzle erklär
 t die Zusammenhänge und beantwortet im Anschluss ihre Fragen.\n\n&nbsp\;
CATEGORIES:Infovorträge - Führungen - Infotage
END:VEVENT
BEGIN:VTIMEZONE
TZID:Europe/Berlin
X-LIC-LOCATION:Europe/Berlin
BEGIN:STANDARD
DTSTART:20201025T020000
TZOFFSETFROM:+0200
TZOFFSETTO:+0100
TZNAME:CET
END:STANDARD
END:VTIMEZONE
END:VCALENDAR