
BEGIN:VCALENDAR
VERSION:2.0
PRODID:-//wp-events-plugin.com//6.6.3//EN
TZID:Europe/Berlin
X-WR-TIMEZONE:Europe/Berlin
BEGIN:VEVENT
UID:0-295@veranstaltungen.muenchen.de
DTSTART;TZID=Europe/Berlin:20210218T180000
DTEND;TZID=Europe/Berlin:20210218T190000
DTSTAMP:20210401T085726Z
URL:https://veranstaltungen.muenchen.de/bauzentrum/veranstaltungen/online-
 infoabend-einspeiseverguetung-6/
SUMMARY:Online-Infoabend: Photovoltaik - Was tun nach Ablauf der Einspeisev
 ergütung?
DESCRIPTION:Online-Infoabend:\nPhotovoltaik- Was tun nach dem Ablauf der Ei
 nspeisevergütung?\n&nbsp\;\n\nTeilnahme kostenfrei - Anmeldung erforderli
 ch - siehe unten\n\n&nbsp\;\n\nReferent: Janko Kroschl \, Dipl.-Ing. Elekt
 rotechnik\n\n&nbsp\;\nAlle Online-Veranstaltungen vom Bauzentrum München 
 werden mit Webex Events durchgeführt:\nhttps://help.webex.com/de-de/kwmj5
 eb/Join-a-Cisco-Webex-Event\nAngemeldete Personen erhalten rechtzeitig vor
  der Veranstaltung den Einladungs-Link per E-Mail.\n&nbsp\;\nAb dem 1.1.20
 21 endet für die ersten Solarstromanlagen die Einspeisevergütung nach de
 m EEG. Die Stadt München war schon seit 1996 Vorreiterin und hat Photovol
 taik mit dem Programm „Münchner Solarstrom“ mittels kostendeckender V
 ergütung durch die SWM gefördert. Die meisten der über 20 Jahre alten A
 nlagen – die sog. Ü20-PV-Anlagen – laufen immer noch sehr gut. Die Pi
 oniere*innen von damals möchten die Anlagen in der Regel noch mindestens 
 10 bis 20 Jahre weiter betreiben\, bis zum Ende der technischen Lebensdaue
 r. Für den Weiterbetrieb der Ü20-PV-Anlagen ist im EEG 2021 die Vergütu
 ng des erzeugten Solarstroms neu geregelt worden. Grundsätzlich sind zul
 ässig der Eigenverbrauch\, die sog. Sonstige Direktvermarktung sowie Null
 einspeisung und Inselbetrieb sind manchmal auch sinnvolle Lösungen. Ände
 rungen an der Zähleranlage sind notwendig.\nDipl.-Ing. Janko Kroschl\, eh
 renamtlicher Berater beim Bauzentrum München\, geht in seinem Vortrag ein
 erseits auf die rechtlichen Grundlagen und wirtschaftlichen Optionen ein. 
 Andererseits werden die technischen Möglichkeiten für die Ertüchtigung 
 der Anlagen und Optimierung des Eigenverbrauchs\, wie z.B. die Nachrüstun
 g mit Batteriespeichern\, Ladung eines E- Autos\, oder die Nutzung für Wa
 rmwasser und Heizung dargestellt.
CATEGORIES:Infovorträge - Führungen - Infotage
END:VEVENT
BEGIN:VTIMEZONE
TZID:Europe/Berlin
X-LIC-LOCATION:Europe/Berlin
BEGIN:STANDARD
DTSTART:20201025T020000
TZOFFSETFROM:+0200
TZOFFSETTO:+0100
TZNAME:CET
END:STANDARD
END:VTIMEZONE
END:VCALENDAR