
BEGIN:VCALENDAR
VERSION:2.0
PRODID:-//wp-events-plugin.com//6.6.3//EN
TZID:Europe/Berlin
X-WR-TIMEZONE:Europe/Berlin
BEGIN:VEVENT
UID:0-426@veranstaltungen.muenchen.de
DTSTART;TZID=Europe/Berlin:20210928T180000
DTEND;TZID=Europe/Berlin:20210928T190000
DTSTAMP:20210928T152434Z
URL:https://veranstaltungen.muenchen.de/bauzentrum/veranstaltungen/online-
 infoabend-bauzentrum-smart-home/
SUMMARY:Online-Infoabend Bauzentrum: Mit Smart Home Energie und CO2 sparen
DESCRIPTION:Online-Infoabend vom Bauzentrum München:\nMit Smart Home Energ
 ie und CO2 sparen\n\n&nbsp\;\n\nTeilnahme kostenfrei - Anmeldung erforderl
 ich - siehe unten\n\n&nbsp\;\n\nReferent:\n\nRudi Seibt\, Dipl.-Ing. Elekt
 rotechnik\, Planer\, Sachverständiger\n\n&nbsp\;\nAlle Online-Veranstaltu
 ngen vom Bauzentrum München werden mit Webex Events durchgeführt.\nAngem
 eldete Personen erhalten rechtzeitig vor der Veranstaltung den Teilnahme-L
 ink per E-Mail.\n&nbsp\;\nDie Versprechen der Smart-Home-Werbung lauten: "
 Alles geht von allein" und "Jederzeit Zugriff auf die Technik in meinem He
 im". Für viele Kunden ist dies vor allem ein Lifstyle-Produkt nach dem Mo
 tto Home 4.0. Aber Smart heißt ja "intelligent". Smart kann also auch ein
 en Beitrag zur CO2- Reduzierung leisten. die intelligente Verknüpfung der
  verschiedenen Energieverbraucher mit den verfügbaren Energiegebern\, die
  Nutzung eigener Solarstromerzeugung mit Solarwärmesammlern\, stationäre
 n oder mobilen Batterien und eine ebenso intelligenter Raumwärme-Organisa
 tion kann den CO2-Ausstoß um zweistellige Prozentwerte senken. Rudi Seibt
  (Dipl.-Ing. Elektrotechnik\, Planer und Sachverständiger) erläutert ans
 chaulich wie das geht.
CATEGORIES:Infovorträge - Führungen - Infotage
END:VEVENT
BEGIN:VTIMEZONE
TZID:Europe/Berlin
X-LIC-LOCATION:Europe/Berlin
BEGIN:DAYLIGHT
DTSTART:20210328T030000
TZOFFSETFROM:+0100
TZOFFSETTO:+0200
TZNAME:CEST
END:DAYLIGHT
END:VTIMEZONE
END:VCALENDAR