
BEGIN:VCALENDAR
VERSION:2.0
PRODID:-//wp-events-plugin.com//6.6.3//EN
TZID:Europe/Berlin
X-WR-TIMEZONE:Europe/Berlin
BEGIN:VEVENT
UID:0-483@veranstaltungen.muenchen.de
DTSTART;TZID=Europe/Berlin:20211111T180000
DTEND;TZID=Europe/Berlin:20211111T190000
DTSTAMP:20211027T120333Z
URL:https://veranstaltungen.muenchen.de/bauzentrum/veranstaltungen/online-
 infoabend-bauzentrum-radon/
SUMMARY:Online-Infoabend Bauzentrum: Radon Belastung in Gebäuden vermeiden
  und verringern
DESCRIPTION:Online-Infoabend vom Bauzentrum München:\nRadon Belastung in G
 ebäuden vermeiden und verringern\n&nbsp\;\n\nTeilnahme kostenfrei - Anmel
 dung erforderlich - siehe unten\n\n&nbsp\;\n\nReferent*in:\n\nPamela Jentn
 er\, Diplom-Biologin\, Radon-Fachperson\n\n\n&nbsp\;\nAlle Online-Veransta
 ltungen vom Bauzentrum München werden mit Webex Events durchgeführt.\nAn
 gemeldete Personen erhalten rechtzeitig vor der Veranstaltung den Teilnahm
 e-Link per E-Mail.\n&nbsp\;\n\nRadon ist ein radioaktives Gas\, das aus ti
 efen Erdschichten in Gebäude eindringen kann und im Langzeiteffekt nachwe
 islich das Risiko für Lungenkrebs erhöht. Es gibt inzwischen neue gesetz
 liche Grundlagen für die Bauwirtschaft\, die für einen ausreichenden Ges
 undheitsschutz sorgen sollen. Wie die Radon Belastung vermieden oder zumin
 dest verringert werden kann\, die Messpflicht und die Punkte\, die beachte
 t werden müssen\, wenn im Bestand eine energetische Sanierung ansteht\, i
 st bei vielen Bauherr*innen\, Fachplanungsbüros und ausführenden Betrieb
 en noch nicht ausreichend bekannt. Die Diplom-Biologin Pamela Jentner erl
 äutert die Grundlagen dazu und steht im Anschluss auch für Fragen zur Ve
 rfügung.
CATEGORIES:Infovorträge - Führungen - Infotage
END:VEVENT
BEGIN:VTIMEZONE
TZID:Europe/Berlin
X-LIC-LOCATION:Europe/Berlin
BEGIN:STANDARD
DTSTART:20211031T020000
TZOFFSETFROM:+0200
TZOFFSETTO:+0100
TZNAME:CET
END:STANDARD
END:VTIMEZONE
END:VCALENDAR