
BEGIN:VCALENDAR
VERSION:2.0
PRODID:-//wp-events-plugin.com//6.6.3//EN
TZID:Europe/Berlin
X-WR-TIMEZONE:Europe/Berlin
BEGIN:VEVENT
UID:0-451@veranstaltungen.muenchen.de
DTSTART;TZID=Europe/Berlin:20211019T180000
DTEND;TZID=Europe/Berlin:20211019T190000
DTSTAMP:20211011T102711Z
URL:https://veranstaltungen.muenchen.de/bauzentrum/veranstaltungen/online-
 infoabend-bauzentrum-gewaehrleistung/
SUMMARY:Online-Infoabend Bauzentrum: Gewährleistung - Wie komme ich zur Na
 chbesserung?
DESCRIPTION:Online-Infoabend des Bauherrenschutzbund e.V. für das Bauzentr
 um München:\nGewährleistung - Wie komme ich zur Nachbesserung?\n&nbsp\;\
 n\nTeilnahme kostenfrei - Anmeldung erforderlich - siehe unten\n\n&nbsp\;\
 n\nReferent*innen:\nAndreas May\, Architekt\, Bauherrenberater\nJörg Kowa
 lsky\, Vertrauensanwalt vom Bauherren-Schutzbund e.V.\n\n&nbsp\;\nAlle Onl
 ine-Veranstaltungen vom Bauzentrum München werden mit Webex Events durchg
 eführt.\nAngemeldete Personen erhalten rechtzeitig vor der Veranstaltung 
 den Teilnahme-Link per E-Mail.\n&nbsp\;\nAndreas May\, Architekt\, Bauherr
 enberater und Jörg Kowalsky\, Vertrauensanwalt\, vom Bauherren-Schutzbund
  e.V. erläutern wie Bauherr*innen in der Gewährleistungszeit ihre Belang
 e erfolgreich durchsetzen können. Nach der Abnahme sind die Eigentümer*i
 nnen in der Pflicht sich um den Erhalt seiner Immobilie zu kümmern. Für 
 die Bauleistungen gibt es für eine begrenzte Zeit noch eine Gewährleistu
 ng durch die ausführenden Firmen. Das wirft eine Reihe von Fragen in prak
 tischer und rechtlicher Hinsicht auf.
CATEGORIES:Infovorträge - Führungen - Infotage
END:VEVENT
BEGIN:VTIMEZONE
TZID:Europe/Berlin
X-LIC-LOCATION:Europe/Berlin
BEGIN:DAYLIGHT
DTSTART:20210328T030000
TZOFFSETFROM:+0100
TZOFFSETTO:+0200
TZNAME:CEST
END:DAYLIGHT
END:VTIMEZONE
END:VCALENDAR