
BEGIN:VCALENDAR
VERSION:2.0
PRODID:-//wp-events-plugin.com//6.6.3//EN
TZID:Europe/Berlin
X-WR-TIMEZONE:Europe/Berlin
BEGIN:VEVENT
UID:0-448@veranstaltungen.muenchen.de
DTSTART;TZID=Europe/Berlin:20211012T180000
DTEND;TZID=Europe/Berlin:20211012T190000
DTSTAMP:20211011T140811Z
URL:https://veranstaltungen.muenchen.de/bauzentrum/veranstaltungen/online-
 infoabend-bauzentrum-gesunde-raeume/
SUMMARY:Online-Infoabend Bauzentrum: Wohnen und arbeiten in gesunden Räume
 n
DESCRIPTION:Online-Infoabend vom Bauzentrum München:\nWohnen und arbeiten 
 in gesunden Räumen\n\n&nbsp\;\n\nTeilnahme kostenfrei - Anmeldung erforde
 rlich - siehe unten\n\n&nbsp\;\n\nReferent*in:\n\nPamela Jentner\, Dipl.-B
 iol. Univ\, Baubiologin (IBN)\n\n&nbsp\;\nAlle Online-Veranstaltungen vom 
 Bauzentrum München werden mit Webex Events durchgeführt.\nAngemeldete Pe
 rsonen erhalten rechtzeitig vor der Veranstaltung den Teilnahme-Link per E
 -Mail.\n&nbsp\;\n\nDie meisten Menschen verbringen den größten Teil ihre
 s Lebens in Innenräumen\, davon etwa zwei Drittel in der eigenen Wohnung.
  Daher ist es natürlich ganz wichtig in gesunden Räumen zu wohnen und zu
 arbeiten. Neben unangenehmen Gerüchen können Ausdünstungen und Ausgasun
 gen aus Baustoffen\, Klebern und Lacken\, sowie aus Einrichtungsgegenstän
 den die Raumluft deutlich verschlechtern und bis zur Gesundheitsbelastung 
 führen. Die Baubiologin Pamela Jentner erklärt in ihrem Vortrag\, wie du
 rch die sorgsame Auswahl der Baustoffe und Materialien beim Hausbau\, sowi
 e bei Einrichtung und Gestaltung die Luftqualität in Innenräumen maßgeb
 lich beeinflusst werden kann.
CATEGORIES:Infovorträge - Führungen - Infotage
END:VEVENT
BEGIN:VTIMEZONE
TZID:Europe/Berlin
X-LIC-LOCATION:Europe/Berlin
BEGIN:DAYLIGHT
DTSTART:20210328T030000
TZOFFSETFROM:+0100
TZOFFSETTO:+0200
TZNAME:CEST
END:DAYLIGHT
END:VTIMEZONE
END:VCALENDAR