
BEGIN:VCALENDAR
VERSION:2.0
PRODID:-//wp-events-plugin.com//6.6.3//EN
TZID:Europe/Berlin
X-WR-TIMEZONE:Europe/Berlin
BEGIN:VEVENT
UID:0-401@veranstaltungen.muenchen.de
DTSTART;TZID=Europe/Berlin:20210720T180000
DTEND;TZID=Europe/Berlin:20210720T190000
DTSTAMP:20210708T073913Z
URL:https://veranstaltungen.muenchen.de/bauzentrum/veranstaltungen/online-
 infoabend-bauzentrum-daheim-wohnen/
SUMMARY:Online-Infoabend Bauzentrum: Barrierefrei daheim wohnen bleiben!
DESCRIPTION:Online-Infoabend Kompetenzzentrum Barrierefreies Wohnen für da
 s Bauzentrum München:\nBarrierefrei daheim wohnen bleiben\n&nbsp\;\n\nTei
 lnahme kostenfrei - Anmeldung erforderlich - siehe unten\n\n&nbsp\;\n\nRef
 erent*in:\n\nAngelika Russ\, Dipl.-Ing. Architektur (FH) und Wohnberaterin
 \, Verein Stadtteilarbeit e.V.\n\n&nbsp\;\nAlle Online-Veranstaltungen vom
  Bauzentrum München werden mit Webex Events durchgeführt.\nAngemeldete P
 ersonen erhalten rechtzeitig vor der Veranstaltung den Teilnahme-Link per 
 E-Mail.\n&nbsp\;\n\nWer möchte nicht möglichst lange im vertrauten Wohnu
 mfeld bleiben? Wie können Barrieren in Haus und Wohnung reduziert werden?
  Wie lassen sich Ausstattung und technische Gegebenheiten anpassen\, wenn 
 sich Bedürfnisse verändern? Hilft nur ein Umbau oder gibt es auch "klein
 e Maßnahmen mit großer Wirkung"? Ein Wohnungsrundgang in Bildern illustr
 iert die häufigsten Problemlagen und Lösungen - nicht nur fürs Alter od
 er bei gesundheitlichen Einschränkungen: denn Barrierefreiheit ist in all
 en Lebenslagen Komfort! So lassen sich manche Anstrengungen und Gefahren m
 inimieren und - vorausschauend geplant- Kosten sparen. Die Architektin und
  Wohnberaterin\, Angelika Russ vom Verein Stadtteilarbeit e.V. weist hierb
 ei auch auf potentielle Finanzierungsmöglichkeiten und Förderungen hin.\
 n\n&nbsp\;
CATEGORIES:Infovorträge - Führungen - Infotage
END:VEVENT
BEGIN:VTIMEZONE
TZID:Europe/Berlin
X-LIC-LOCATION:Europe/Berlin
BEGIN:DAYLIGHT
DTSTART:20210328T030000
TZOFFSETFROM:+0100
TZOFFSETTO:+0200
TZNAME:CEST
END:DAYLIGHT
END:VTIMEZONE
END:VCALENDAR