
BEGIN:VCALENDAR
VERSION:2.0
PRODID:-//wp-events-plugin.com//6.6.3//EN
TZID:Europe/Berlin
X-WR-TIMEZONE:Europe/Berlin
BEGIN:VEVENT
UID:0-447@veranstaltungen.muenchen.de
DTSTART;TZID=Europe/Berlin:20211005T180000
DTEND;TZID=Europe/Berlin:20211005T190000
DTSTAMP:20210927T085818Z
URL:https://veranstaltungen.muenchen.de/bauzentrum/veranstaltungen/online-
 infoabend-bauzentrum-bauabnahme/
SUMMARY:Online-Infoabend Bauzentrum: Bauabnahme - Risiko und Chance zum End
 e der Bauzeit
DESCRIPTION:Online-Infoabend vom Bauherren-Schutzbund e.V. für das Bauzent
 rum München:\nBauabnahme - Risiko und Chance zum Ende der Bauzeit\n&nbsp\
 ;\n\nTeilnahme kostenfrei - Anmeldung erforderlich - siehe unten\n\n&nbsp\
 ;\n\nReferent*innen:\nHolger Issig\, Architekt\, Bauherrenberater\nGabriel
 e Hein-Röder\, Fachanwältin für Baurecht vom Bauherren-Schutzbund e.V.\
 n\n&nbsp\;\nAlle Online-Veranstaltungen vom Bauzentrum München werden mit
  Webex Events durchgeführt.\nAngemeldete Personen erhalten rechtzeitig vo
 r der Veranstaltung den Teilnahme-Link per E-Mail.\n&nbsp\;\nDie Abnahme i
 st der krönende Abschluss jeder Baumaßnahme. Mit ihr wird die Baustelle 
 zur Wohnung! Das hat viele Konsequenzen in praktischer und rechtlicher Hin
 sicht. Damit bei der Abnahme ihre Belange gewahrt bleiben\, sollten Bauher
 r*innen oder Käufer*in über diesen wichtigen Punkt genau Bescheid wissen
 . Holger Issig\, Architekt\, Bauherrenberater und Gabriele Hein-Röder\, F
 achanwältin für Baurecht vom Bauherren-Schutzbund e.V. erläutern im Vor
 trag auf was bei der Bauabnahme geachtet werden muss.
CATEGORIES:Infovorträge - Führungen - Infotage
END:VEVENT
BEGIN:VTIMEZONE
TZID:Europe/Berlin
X-LIC-LOCATION:Europe/Berlin
BEGIN:DAYLIGHT
DTSTART:20210328T030000
TZOFFSETFROM:+0100
TZOFFSETTO:+0200
TZNAME:CEST
END:DAYLIGHT
END:VTIMEZONE
END:VCALENDAR