
BEGIN:VCALENDAR
VERSION:2.0
PRODID:-//wp-events-plugin.com//6.6.3//EN
TZID:Europe/Berlin
X-WR-TIMEZONE:Europe/Berlin
BEGIN:VEVENT
UID:0-386@veranstaltungen.muenchen.de
DTSTART;TZID=Europe/Berlin:20210622T180000
DTEND;TZID=Europe/Berlin:20210622T190000
DTSTAMP:20210622T125847Z
URL:https://veranstaltungen.muenchen.de/bauzentrum/veranstaltungen/online-
 infoabend-baubegleitung/
SUMMARY:Online-Infoabend Bauzentrum: Baubegleitung - Qualitätskontrolle be
 i der Ausführung
DESCRIPTION:Online-Infoabend des Bauherren-Schutzbund für das Bauzentrum M
 ünchen:\nBaubegleitung - Qualitätskontrolle bei der Ausführung\n&nbsp\;
 \n\nTeilnahme kostenfrei - Anmeldung erforderlich - siehe unten\n\n&nbsp\;
 \n\nReferent: Andreas Schmitt\, Dipl.-Ing.\, Architekt\, Bauherrenberater 
 des Bauherren-Schutzbund e.V. (BSB)\n\n&nbsp\;\nAlle Online-Veranstaltunge
 n vom Bauzentrum München werden mit Webex Events durchgeführt.\nAngemeld
 ete Personen erhalten rechtzeitig vor der Veranstaltung den Teilnahme-Link
  per E-Mail.\n&nbsp\;\n\nDie Anforderungen an die Bauausführung sind erhe
 blich gestiegen. Vor allem energiesparendes Bauen fordert einen hohen Stan
 dard. Die Vernetzung von Bauleistungen und technischem Ausbau wird immer u
 mfangreicher und komplexer. Dipl.-Ing. Andreas Schmitt\, Architekt und Bau
 herrenberater des BSB zeigt\, wie sich Bauherr*innen durch eine fachmänni
 sche\, unabhängige Baubegleitung unterstützen lassen können und veransc
 haulicht dies mit Beispielen aus seiner Beraterpraxis.
CATEGORIES:Infovorträge - Führungen - Infotage
END:VEVENT
BEGIN:VTIMEZONE
TZID:Europe/Berlin
X-LIC-LOCATION:Europe/Berlin
BEGIN:DAYLIGHT
DTSTART:20210328T030000
TZOFFSETFROM:+0100
TZOFFSETTO:+0200
TZNAME:CEST
END:DAYLIGHT
END:VTIMEZONE
END:VCALENDAR