
BEGIN:VCALENDAR
VERSION:2.0
PRODID:-//wp-events-plugin.com//6.6.3//EN
TZID:Europe/Berlin
X-WR-TIMEZONE:Europe/Berlin
BEGIN:VEVENT
UID:0-1992@veranstaltungen.muenchen.de
DTSTART;TZID=Europe/Berlin;VALUE=DATE:20250803
DTEND;TZID=Europe/Berlin;VALUE=DATE:20250804
DTSTAMP:20250715T151408Z
URL:https://veranstaltungen.muenchen.de/bauzentrum/veranstaltungen/leocor-
 veranstaltung-solarcamp-muenchen/
SUMMARY:Leocor Veranstaltung: Solarcamp München
DESCRIPTION:Veranstaltung von Leocor\n\n&nbsp\;\nSolarcamp München – Aus
 bildung zum/zur PV-Montagehelfer*in\n3. bis 10. bzw. 16. August\n\n\n&nbsp
 \;\n\nhttps://leocor.org/solarcamp-muenchen/
CATEGORIES:Partner*innen-Veranstaltungen,Veranstaltungen zur Solarenergie
END:VEVENT
BEGIN:VTIMEZONE
TZID:Europe/Berlin
X-LIC-LOCATION:Europe/Berlin
BEGIN:DAYLIGHT
DTSTART:20250330T030000
TZOFFSETFROM:+0100
TZOFFSETTO:+0200
TZNAME:CEST
END:DAYLIGHT
END:VTIMEZONE
END:VCALENDAR