
BEGIN:VCALENDAR
VERSION:2.0
PRODID:-//wp-events-plugin.com//6.6.3//EN
TZID:Europe/Berlin
X-WR-TIMEZONE:Europe/Berlin
BEGIN:VEVENT
UID:0-2069@veranstaltungen.muenchen.de
DTSTART;TZID=Europe/Berlin:20251029T090000
DTEND;TZID=Europe/Berlin:20251029T122000
DTSTAMP:20251023T071414Z
URL:https://veranstaltungen.muenchen.de/bauzentrum/veranstaltungen/klimaso
 ziales-quartier/
SUMMARY:Bauzentrum Online-Forum: Klimasoziales Quartier – nachhaltig lebe
 n im städtischen Raum
DESCRIPTION:   \n\nOnline-Forum vom Bauzentrum München\n\n&nbsp\;\nKliman
 eutrale und klimaresiliente Stadtquartiere – Teil 3:\nKlimasoziales Quar
 tier – nachhaltig leben im städtischen Raum\n \n\nFortbildungspunkte E
 nergieeffizienz-Expertenliste:\n\n1 UE Wohngebäude\n1 UE Nichtwohngebäud
 e\n0 UE Energieaudit DIN 16247/Contracting (BAFA)\n\n&nbsp\;\n\nTeilnahme 
 kostenfrei - Online-Anmeldung erforderlich:\n\nAnmeldung\n\n&nbsp\;\nAlle 
 Online-Veranstaltungen vom Bauzentrum München werden mit Webex durchgefü
 hrt.\nOb Ihr Arbeitsplatz die technischen Voraussetzungen für die Teilnah
 me erfüllt\, können Sie hier testen:\nTestseite Webex\n\n&nbsp\;\n\nTeil
 nahmebestätigung\n\n 	Falls sie eine Teilnahme-Bestätigung benötigen (g
 gf. inklusive Fortbildungsode für die Energieeffizienz-Experten-Liste) mu
 ss diese kostenpflichtig (25 Euro) mittels Formblatt bestellt werden.\n 	F
 ür Mitarbeiter*innen der städtischen Referate der Landeshauptstadt Münc
 hen ist die Bestätigung kostenfrei und kann formlos per E-Mail bestellt w
 erden.\n\n&nbsp\;\n\nThema\n\nDie dritte Veranstaltung der Quartiersreihe 
 widmet sich dem Thema „Klimasoziales Quartier“\, ein Konzept\, welches
  soziale Aspekte und Klimaschutz in der Stadtentwicklung miteinander verbi
 ndet. Besondere Beachtung verdient in diesem Zusammenhang die Integration 
 verschiedener Bevölkerungsgruppen in bestehende Quartiere.\nExpert*innen 
 aus Stadtplanung\, Architektur und sozialer Quartiersarbeit geben Einblick
 e in innovative Konzepte und erfolgreiche Umsetzungsstrategien. Dazu zähl
 en die effiziente Umnutzung bestehender Gebäude\, innovative genossenscha
 ftliche Wohnformen sowie die Schaffung altersgerechter\, barrierefreier Wo
 hnräume. Ziel des Forums ist es praxisnahe Lösungen vorzustellen\, die d
 en demografischen Wandel und soziale Integration gleichermaßen berücksic
 htigen und im Baubereich umsetzbar sind. Gemeinsam wird diskutiert\, wie S
 tadtquartiere zukunftsfähig\, lebenswert und inklusiv gestaltet werden k
 önnen.\n\n&nbsp\;\n\nIm abschließenden Podiumsgespräch werden Fragen au
 s dem Chat von den Vortragenden diskutiert.\nTeilnehmer*innen können auch
  im Vorfeld über den folgenden Link Fragen einreichen: Fragen-einreichen\
 n\n&nbsp\;\n\nDas Bauzentrum München dankt Naomi Morishita-Steffen für d
 ie fachliche Leitung bei der Vorbereitung dieser Veranstaltung sowie Prof.
  Dr. Simone Linke für die Moderation.\n\n&nbsp\;\n\nForums-Reihe\nKlimane
 utrale und klimaresiliente Quartiere\n\nDie Landeshauptstadt München rich
 tet ihr Augenmerk verstärkt auf einzelne\, kleinere Wohnquartiere um ihre
  Ziele für Klimaneutralität und Klimaresilienz zu erreichen. Durch die V
 erbesserung der Energieeffizienz und den Einsatz erneuerbarer Energien sol
 len möglichst viele Quartiere bis 2035 klimaneutral werden. Gleichzeitig 
 müssen die Quartiere - inklusive ihrer Freiflächen - an den Klimawandel 
 angepasst werden. Im Rahmen der Quartiersarbeit werden dabei auch Themen w
 ie Nachverdichtung\, Mobilität\, Kreislaufwirtschaft\, Ernährung\, Konsu
 m\, nachhaltige Bildung und soziale Aspekte mit einbezogen. Diese Forums-R
 eihe bietet in jeder Veranstaltung einen vertieften Themenschwerpunkt zur 
 klimaneutralen und klimaresilienten Weiterentwicklung von Bestandsquartier
 en und gibt Einblicke in die neuen städteplanerischen Anforderungen.\n\n&
 nbsp\;\n\n&nbsp\;\n\nProgramm\n\n&nbsp\;\n\n09:00\nBegrüßung\, Einführu
 ng und Moderation\nProf. Dr. Simone Linke\, Hochschule Weihenstephan-Tries
 dorf\,\nFakultät Landschaftsarchitektur\n\n&nbsp\;\n\n09:10\nZielgruppeno
 rientierte und gendergerechte Quartiersentwicklung – eine Wiener Annähe
 rung\nEva Kail\, Gender Planning Expertin\n\n&nbsp\;\n\n09:55\nFLUX – Ei
 n dritter Ort für die Pinakothek der Moderne\nEva Tillig und Sarah Karuga
 \, FLUX – in der Pinakothek der Moderne\n\n&nbsp\;\n\n10:25\nPause\n\n&n
 bsp\;\n\n10:35\nBarrieren abbauen und daheim wohnen bleiben – eine nachh
 altige Maßnahme:\nUmbau- und Veränderungs-Beispiele und Angebote der Woh
 nberatung\nYaelle Barhana\, Kompetenzzentrum Barrierefreies Wohnen\, Verei
 n Stadtteilarbeit e.V.\n\n&nbsp\;\n\n11:05\nTransformation privater Freifl
 ächen am Stadtrand\nDas Beispiel Aubing-Neuaubing-Westkreuz in München\n
 Daniel Genée\, MGS Münchner Gesellschaft für Stadterneuerung mbH\n\n&nb
 sp\;\n\n11:35\nWarum einsam\, wenn man gemeinsam leben kann?\nDas Modell d
 er sorgenden Hausgemeinschaft für Frauen im Alter\nDr. Christa Lippmann\,
  Gemeinnütziger Förderverein Nachbarschaftlich leben für Frauen im Alte
 r e.V.\n\n&nbsp\;\n\n12:05\nPodiumsgespräch\n\n&nbsp\;\n\n12:20\nEnde der
  Veranstaltung\n\n&nbsp\;
CATEGORIES:Fachforen - Exkursionen
END:VEVENT
BEGIN:VTIMEZONE
TZID:Europe/Berlin
X-LIC-LOCATION:Europe/Berlin
BEGIN:STANDARD
DTSTART:20251026T020000
TZOFFSETFROM:+0200
TZOFFSETTO:+0100
TZNAME:CET
END:STANDARD
END:VTIMEZONE
END:VCALENDAR