
BEGIN:VCALENDAR
VERSION:2.0
PRODID:-//wp-events-plugin.com//6.6.3//EN
TZID:Europe/Berlin
X-WR-TIMEZONE:Europe/Berlin
BEGIN:VEVENT
UID:0-1068@veranstaltungen.muenchen.de
DTSTART;TZID=Europe/Berlin:20230715T160000
DTEND;TZID=Europe/Berlin:20230715T170000
DTSTAMP:20230630T064608Z
URL:https://veranstaltungen.muenchen.de/bauzentrum/veranstaltungen/infotag
 -beratung-optimale-heizung/
SUMMARY:Infotag | Anmeldung zur Beratung "Optimale Heizung"
DESCRIPTION:      \n\n&nbsp\;\n\nInfotag "So gelingt die eigene Energiew
 ende" im Bauzentrum München im Rahmen der Bayerischen Energietage\n\n&nbs
 p\;\nAnmeldung zur Beratung "Optimale Heizung"\n&nbsp\;\n\nTeilnahme koste
 nfrei - Online-Anmeldung erforderlich:
CATEGORIES:Sonder-Veranstaltungen
LOCATION:Bauzentrum München\, Konrad-Zuse-Platz 12 (Eingang: Konrad-Zuse-P
 latz 8)\, München\, Bayern\, 81829\, Deutschland
GEO:48.138166;11.689028
X-APPLE-STRUCTURED-LOCATION;VALUE=URI;X-ADDRESS=Konrad-Zuse-Platz 12 (Einga
 ng: Konrad-Zuse-Platz 8)\, München\, Bayern\, 81829\, Deutschland;X-APPLE
 -RADIUS=100;X-TITLE=Bauzentrum München:geo:48.138166,11.689028
END:VEVENT
BEGIN:VTIMEZONE
TZID:Europe/Berlin
X-LIC-LOCATION:Europe/Berlin
BEGIN:DAYLIGHT
DTSTART:20230326T030000
TZOFFSETFROM:+0100
TZOFFSETTO:+0200
TZNAME:CEST
END:DAYLIGHT
END:VTIMEZONE
END:VCALENDAR