
BEGIN:VCALENDAR
VERSION:2.0
PRODID:-//wp-events-plugin.com//6.6.3//EN
TZID:Europe/Berlin
X-WR-TIMEZONE:Europe/Berlin
BEGIN:VEVENT
UID:0-148@veranstaltungen.muenchen.de
DTSTART;TZID=Europe/Berlin:20200716T180000
DTEND;TZID=Europe/Berlin:20200716T190000
DTSTAMP:20200714T114515Z
URL:https://veranstaltungen.muenchen.de/bauzentrum/veranstaltungen/infoabe
 nd-smart-meter/
SUMMARY:Infoabend: Smart Meter – Umstellung auf digitale Stromzähler
DESCRIPTION:Infoabend:\nSmart Meter – Umstellung auf digitale Stromzähle
 r\n&nbsp\;\n\nDer Infoabend muss aus organisatorischen Gründen leider ent
 fallen.\n\n&nbsp\;\n\nReferent: Sebastian Bugl\, SWM - Stadtwerke München
 \n\n&nbsp\;\n\nAuf Grund der CORONA-Pandemie gelten bei Veranstaltungen\ni
 m Bauzentrum München spezielle Hygienevorschriften.\nIm Interesse Ihrer e
 igenen Gesundheit und der Gesundheit anderer Personen\nfordern wir Sie zur
  Beachtung dieser Anweisungen auf.\n\nHygienekonzept Veranstaltungen Bauze
 ntrum München (pdf)\n\n&nbsp\;\n\nIm November 2015 hat das Bundeskabinett
  den Regierungsentwurf für ein „Gesetz zur Digitalisierung der Energiew
 ende“ beschlossen. Nach dem Gesetzesentwurf sollen alle Haushalte bis 20
 32 mit “modernen Messeinrichtungen” (mit noch nicht definierten Schnit
 tstellen zur Kommunikation) ausgestattet werden. Ziel ist die Förderung d
 es energieeffizienten Verhaltens der Verbraucherinnen und Verbraucher und 
 die Möglichkeit der zentralen Steuerung von Kundengeräten. Sebastian Bug
 l von den Stadtwerken München informiert umfassend über die Aspekte dies
 er Digitalisierung\, damit die absehbaren ersten Schritte zur Umsetzung di
 eser gesetzlichen Vorgaben ganzheitlich bewertet werden können.
CATEGORIES:Infovorträge - Führungen - Infotage
LOCATION:Bauzentrum München\, Konrad-Zuse-Platz 12 (Eingang: Konrad-Zuse-P
 latz 8)\, München\, Bayern\, 81829\, Deutschland
GEO:48.138166;11.689028
X-APPLE-STRUCTURED-LOCATION;VALUE=URI;X-ADDRESS=Konrad-Zuse-Platz 12 (Einga
 ng: Konrad-Zuse-Platz 8)\, München\, Bayern\, 81829\, Deutschland;X-APPLE
 -RADIUS=100;X-TITLE=Bauzentrum München:geo:48.138166,11.689028
END:VEVENT
BEGIN:VTIMEZONE
TZID:Europe/Berlin
X-LIC-LOCATION:Europe/Berlin
BEGIN:DAYLIGHT
DTSTART:20200329T030000
TZOFFSETFROM:+0100
TZOFFSETTO:+0200
TZNAME:CEST
END:DAYLIGHT
END:VTIMEZONE
END:VCALENDAR