
BEGIN:VCALENDAR
VERSION:2.0
PRODID:-//wp-events-plugin.com//6.6.3//EN
TZID:Europe/Berlin
X-WR-TIMEZONE:Europe/Berlin
BEGIN:VEVENT
UID:0-138@veranstaltungen.muenchen.de
DTSTART;TZID=Europe/Berlin:20200623T180000
DTEND;TZID=Europe/Berlin:20200623T190000
DTSTAMP:20200612T091055Z
URL:https://veranstaltungen.muenchen.de/bauzentrum/veranstaltungen/infoabe
 nd-kauf-oder-bau-barrierefreie-immobilie/
SUMMARY:Infoabend Bauherren-Schutzbund e.V.: Was ist beim Kauf oder Bau ein
 er barrierefreien Immobilie zu beachten?
DESCRIPTION:Infoabend Bauherren-Schutzbund e.V.\nWas ist beim Kauf oder Bau
  einer barrierefreien Immobilie zu beachten?\n&nbsp\;\n\nEintritt frei - A
 nmeldung erforderlich - siehe unten\n\n&nbsp\;\n\nReferentin: Renate Schul
 z\, Dipl.-Ing.\, Architekt\, Bauherrenberaterin BSB\n\n&nbsp\;\n\nDie Arch
 itektin und Fachplanerin für barrierefreies Bauen\, Renate Schulz\, vom B
 auherren-Schutzbund e.V. zeigt in in ihrem Vortrag wie unterschiedlich die
  Anforderungen an eine barrierefreie Nutzung von Wohnungen und Häusern se
 in können und was bei Kauf oder Bau einer barrierefreien Immobilie beacht
 et werden sollte.\n\nWeniger Barrieren können das Leben vieler Menschen s
 ehr erleichtern. Schon bei der Planung können Barrieren\, die eine Vielza
 hl von Bewohnerinnen und Bewohnern betreffen\, vermieden werden. Bei Neuba
 uten gibt es zwar gesetzliche Anforderungen für den Bau barrierefreier Wo
 hnungen\, ob diese aber für eine tatsächlich barrierefreie Nutzung ausre
 ichen\, sollte immer im Einzelfall geprüft werden.\n\nAuf Grund der CORON
 A-Pandemie gelten bei Veranstaltungen\nim Bauzentrum München spezielle Hy
 gienevorschriften.\nIm Interesse Ihrer eigenen Gesundheit und der Gesundhe
 it anderer Personen\nfordern wir Sie zur Beachtung dieser Anweisungen auf.
 \n\n\nHygienekonzept Veranstaltungen Bauzentrum München (pdf)
CATEGORIES:Infovorträge - Führungen - Infotage
LOCATION:Bauzentrum München\, Konrad-Zuse-Platz 12 (Eingang: Konrad-Zuse-P
 latz 8)\, München\, Bayern\, 81829\, Deutschland
GEO:48.138166;11.689028
X-APPLE-STRUCTURED-LOCATION;VALUE=URI;X-ADDRESS=Konrad-Zuse-Platz 12 (Einga
 ng: Konrad-Zuse-Platz 8)\, München\, Bayern\, 81829\, Deutschland;X-APPLE
 -RADIUS=100;X-TITLE=Bauzentrum München:geo:48.138166,11.689028
END:VEVENT
BEGIN:VTIMEZONE
TZID:Europe/Berlin
X-LIC-LOCATION:Europe/Berlin
BEGIN:DAYLIGHT
DTSTART:20200329T030000
TZOFFSETFROM:+0100
TZOFFSETTO:+0200
TZNAME:CEST
END:DAYLIGHT
END:VTIMEZONE
END:VCALENDAR