
BEGIN:VCALENDAR
VERSION:2.0
PRODID:-//wp-events-plugin.com//6.6.3//EN
TZID:Europe/Berlin
X-WR-TIMEZONE:Europe/Berlin
BEGIN:VEVENT
UID:0-153@veranstaltungen.muenchen.de
DTSTART;TZID=Europe/Berlin:20200723T180000
DTEND;TZID=Europe/Berlin:20200723T190000
DTSTAMP:20200714T114745Z
URL:https://veranstaltungen.muenchen.de/bauzentrum/veranstaltungen/infoabe
 nd-immobilienverrentung/
SUMMARY:Infoabend: Immobilienverrentung
DESCRIPTION:Infoabend:\nImmobilienverrentung\n&nbsp\;\n\nTeilnahme kostenfr
 ei - Anmeldung erforderlich - siehe unten\n\n&nbsp\;\n\nDer Infoabend muss
  aus organisatorischen Gründen leider entfallen.\n\n&nbsp\;\n\nReferent: 
 Fritz Stelzer\n\n&nbsp\;\n\nAuf Grund der CORONA-Pandemie gelten bei Veran
 staltungen\nim Bauzentrum München spezielle Hygienevorschriften.\nIm Inte
 resse Ihrer eigenen Gesundheit und der Gesundheit anderer Personen\nforder
 n wir Sie zur Beachtung dieser Anweisungen auf.\n\nHygienekonzept Veransta
 ltungen Bauzentrum München (pdf)\n\n&nbsp\;\n\n(Beschreibungstext)
CATEGORIES:Infovorträge - Führungen - Infotage
LOCATION:Bauzentrum München\, Konrad-Zuse-Platz 12 (Eingang: Konrad-Zuse-P
 latz 8)\, München\, Bayern\, 81829\, Deutschland
GEO:48.138166;11.689028
X-APPLE-STRUCTURED-LOCATION;VALUE=URI;X-ADDRESS=Konrad-Zuse-Platz 12 (Einga
 ng: Konrad-Zuse-Platz 8)\, München\, Bayern\, 81829\, Deutschland;X-APPLE
 -RADIUS=100;X-TITLE=Bauzentrum München:geo:48.138166,11.689028
END:VEVENT
BEGIN:VTIMEZONE
TZID:Europe/Berlin
X-LIC-LOCATION:Europe/Berlin
BEGIN:DAYLIGHT
DTSTART:20200329T030000
TZOFFSETFROM:+0100
TZOFFSETTO:+0200
TZNAME:CEST
END:DAYLIGHT
END:VTIMEZONE
END:VCALENDAR