
BEGIN:VCALENDAR
VERSION:2.0
PRODID:-//wp-events-plugin.com//6.6.3//EN
TZID:Europe/Berlin
X-WR-TIMEZONE:Europe/Berlin
BEGIN:VEVENT
UID:0-207@veranstaltungen.muenchen.de
DTSTART;TZID=Europe/Berlin:20201014T180000
DTEND;TZID=Europe/Berlin:20201014T190000
DTSTAMP:20210401T083559Z
URL:https://veranstaltungen.muenchen.de/bauzentrum/veranstaltungen/infoabe
 nd-gewaehrleistung/
SUMMARY:Online-Infoabend: Gewährleistung - wie komme ich zur Nachbesserung
 ?
DESCRIPTION:Online-Infoabend Bauherren- Schutzbund e.V.:\nGewährleistung -
  wie komme ich zur Nachbesserung?\n&nbsp\;\n\nAuf Grund der aktuellen CORO
 NA-Lage in München\, \nkönnen zur Zeit im Bauzentrum München leider kei
 ne Präsenz-Veranstaltungen stattfinden.\n\nDaher findet dieser Infoabend 
 nicht wie ursprünglich angekündigt als Präsenz-Veranstaltung\,\nsondern
  als Online-Infoabend statt.\nDie Veranstaltung wird durchgeführt mit Web
 ex.\nRechtzeitig vor der Veranstaltung erhalten angemeldete Personen den Z
 ugangs-Link per E-Mail.\n&nbsp\;\n\nTeilnahme kostenfrei - Anmeldung erfor
 derlich - siehe unten\n\n&nbsp\;\n\nReferenten:\n\nAndreas May\, Dipl.-Ing
 . Architekt\, Bauherrenberater BSB\,\n\nJörg Kowalsky\, Vertrauensanwalt 
 BSB\, Fachanwalt für Baurecht\n\n&nbsp\;\n\nAndreas May\, Architekt\, Bau
 herrenberater und Jörg Kowalsky\, Vertrauensanwalt\, vom Bauherren-Schutz
 bund e.V. erläutern wie Bauherrinnen und Bauherren in der Gewährleistung
 szeit  ihre Belange erfolgreich durchsetzen können. Nach der Abnahme ist
  die Eigentümerin\, der Eigentümer in der Pflicht sich um den Erhalt sei
 ner Immobilie zu kümmern. Für die Bauleistungen gibt es für eine begren
 zte Zeit noch eine Gewährleistung durch die ausführenden Firmen. Das wir
 ft eine Reihe von Fragen in praktischer und rechtlicher Hinsicht auf.
CATEGORIES:Infovorträge - Führungen - Infotage
END:VEVENT
BEGIN:VTIMEZONE
TZID:Europe/Berlin
X-LIC-LOCATION:Europe/Berlin
BEGIN:DAYLIGHT
DTSTART:20200329T030000
TZOFFSETFROM:+0100
TZOFFSETTO:+0200
TZNAME:CEST
END:DAYLIGHT
END:VTIMEZONE
END:VCALENDAR