
BEGIN:VCALENDAR
VERSION:2.0
PRODID:-//wp-events-plugin.com//6.6.3//EN
TZID:Europe/Berlin
X-WR-TIMEZONE:Europe/Berlin
BEGIN:VEVENT
UID:0-202@veranstaltungen.muenchen.de
DTSTART;TZID=Europe/Berlin:20201015T180000
DTEND;TZID=Europe/Berlin:20201015T190000
DTSTAMP:20210401T083622Z
URL:https://veranstaltungen.muenchen.de/bauzentrum/veranstaltungen/infoabe
 nd-einspeiseverguetung/
SUMMARY:Online-Infoabend: Photovoltaik - Was tun nach Ablauf der Einspeisev
 ergütung?
DESCRIPTION:Online-Infoabend:\nPhotovoltaik - Was tun nach Ablauf der Einsp
 eisevergütung?\n&nbsp\;\n\nHinweis:\n\nAuf Grund der aktuellen CORONA-Lag
 e in München\, \nkönnen zur Zeit im Bauzentrum München leider keine Pr
 äsenz-Veranstaltungen stattfinden.\n\nDaher findet dieser Infoabend nicht
  wie ursprünglich angekündigt als Präsenz-Veranstaltung\,\nsondern als 
 Online-Infoabend statt.\nDie Veranstaltung wird durchgeführt mit Webex.\n
 Rechtzeitig vor der Veranstaltung erhalten angemeldete Personen den Zugang
 s-Link per E-Mail.\n&nbsp\;\n\nTeilnahme kostenfrei - Anmeldung erforderli
 ch - siehe unten\n\n&nbsp\;\n\nReferent*in: Janko Kroschl\, Dipl.-Ing. Ele
 ktrotechnik\n\n&nbsp\;\n\nAb dem 1.1.2021 endet für die ersten Solarstrom
 anlagen die Einspeisevergütung nach dem EEG. Die Stadt München war schon
  seit 1996 Vorreiter und hat Photovoltaik mit dem Programm „Münchner So
 larstrom“ mittels kostendeckender Vergütung durch die SWM gefördert. D
 ie meisten der über 20 Jahre alten Anlagen – die sog. Ü20-PV-Anlagen -
  laufen immer noch sehr gut. Die Pioniere von damals möchten die Anlagen 
 in der Regel noch mindestens 10-20 Jahre weiter betreiben\, bis zum Ende d
 er technischen Lebensdauer. Für den Weiterbetrieb der Ü20-PV-Anlagen mus
 s jedoch die Nutzung und Vergütung des erzeugten Solarstroms neu geregelt
  werden: Grundsätzlich sind zulässig der Eigenverbrauch\, die sog. Sonst
 ige Direktvermarktung sowie Nulleinspeisung und Inselbetrieb. Absehbare Ge
 setzesänderungen werden diese Rahmenbedingungen noch beeinflussen. Das Ba
 uzentrum München wird für die Betreiber*innen der Ü20-PV-Anlagen ein Ne
 tzwerk zur Information und Beratung aufbauen.\nDie Veranstaltung geht eine
 rseits auf die rechtlichen Grundlagen und wirtschaftlichen Optionen ein. A
 ndererseits werden die technischen Möglichkeiten für die Ertüchtigung d
 er Anlagen und Optimierung des Eigenverbrauchs\, wie z. B. die Nachrüstun
 g mit Batteriespeichern\, Ladung eines E- Autos\, oder die Nutzung für Wa
 rmwasser und Heizung dargestellt. Die Inhalte werden in von Dip.-Ing. Jank
 o Kroschl (Solarberater des Bauzentrum) vorgetragen.
CATEGORIES:Infovorträge - Führungen - Infotage
END:VEVENT
BEGIN:VTIMEZONE
TZID:Europe/Berlin
X-LIC-LOCATION:Europe/Berlin
BEGIN:DAYLIGHT
DTSTART:20200329T030000
TZOFFSETFROM:+0100
TZOFFSETTO:+0200
TZNAME:CEST
END:DAYLIGHT
END:VTIMEZONE
END:VCALENDAR